BEGIN:VCALENDAR
VERSION:2.0
PRODID:-//Markten en meer - ECPv6.15.20//NONSGML v1.0//EN
CALSCALE:GREGORIAN
METHOD:PUBLISH
X-ORIGINAL-URL:https://marktenmeer.nl
X-WR-CALDESC:Evenementen voor Markten en meer
REFRESH-INTERVAL;VALUE=DURATION:PT1H
X-Robots-Tag:noindex
X-PUBLISHED-TTL:PT1H
BEGIN:VTIMEZONE
TZID:Europe/Amsterdam
BEGIN:DAYLIGHT
TZOFFSETFROM:+0100
TZOFFSETTO:+0200
TZNAME:CEST
DTSTART:20250330T010000
END:DAYLIGHT
BEGIN:STANDARD
TZOFFSETFROM:+0200
TZOFFSETTO:+0100
TZNAME:CET
DTSTART:20251026T010000
END:STANDARD
BEGIN:DAYLIGHT
TZOFFSETFROM:+0100
TZOFFSETTO:+0200
TZNAME:CEST
DTSTART:20260329T010000
END:DAYLIGHT
BEGIN:STANDARD
TZOFFSETFROM:+0200
TZOFFSETTO:+0100
TZNAME:CET
DTSTART:20261025T010000
END:STANDARD
BEGIN:DAYLIGHT
TZOFFSETFROM:+0100
TZOFFSETTO:+0200
TZNAME:CEST
DTSTART:20270328T010000
END:DAYLIGHT
BEGIN:STANDARD
TZOFFSETFROM:+0200
TZOFFSETTO:+0100
TZNAME:CET
DTSTART:20271031T010000
END:STANDARD
END:VTIMEZONE
BEGIN:VEVENT
DTSTART;TZID=Europe/Amsterdam:20260828T140000
DTEND;TZID=Europe/Amsterdam:20260828T200000
DTSTAMP:20260421T014456
CREATED:20260407T075832Z
LAST-MODIFIED:20260407T075832Z
UID:24875-1787925600-1787947200@marktenmeer.nl
SUMMARY:Braderie & rommelmarkt Winsum – 28 augustus 2026
DESCRIPTION:Op vrijdag 28 augustus 2026 vindt in Winsum een braderie en rommelmarkt plaats met live muziek. Deze markt in Winsum wordt gehouden in de middag en avond\, wat zorgt voor een andere sfeer dan de gebruikelijke dagmarkten. Bezoekers kunnen na werk of andere activiteiten nog een ronde maken langs de kramen en genieten van de combinatie van handel\, tweedehands aanbod en muziek. \nDe sfeer is levendig en toegankelijk. Door de combinatie van markt en muziek ontstaat een ontspannen setting waarin bezoekers rustig kunnen rondkijken en tegelijk kunnen genieten van de omgeving. Het aanbod bestaat uit kleding\, accessoires\, huishoudelijke artikelen en diverse kleine vondsten. Dit maakt de markt geschikt voor zowel gericht zoeken als spontaan snuffelen. \nVoor bezoekers\n\nDatum: vrijdag 28 augustus 2026\nTijd: 14:00 – 20:00\nLocatie: Winsum (centrum)\nType markt: braderie en rommelmarkt\nExtra: live muziek\nAanbod: tweedehands spullen\, handel en diverse kramen\nDoelgroep: breed publiek\, dagjesmensen en koopjeszoekers\n\nVoor standhouders\nDeze middag- en avondmarkt biedt standhouders de kans om een publiek te bereiken dat later op de dag de markt bezoekt. Door de combinatie met live muziek blijven bezoekers vaak langer aanwezig. \n\nKraamgrootte: circa 5 meter\nKraamprijs: vanaf €47\,50 inclusief kraam\nLosse meters: vanaf €6\,50 per meter\nInschrijving: vooraf aanbevolen (vol = vol)\n\nDe doelgroep bestaat uit lokale bezoekers en mensen uit de regio\, wat zorgt voor een constante en gevarieerde bezoekersstroom gedurende de middag en avond. \nEen toegankelijke markt met extra sfeer in Winsum.
URL:https://marktenmeer.nl/markt/braderie-rommelmarkt-winsum-28-augustus-2026/
LOCATION:Winsum\, Winsum\, Netherlands
CATEGORIES:Braderie Groningen,Braderieën,Groningen,Rommelmarkten,Rommelmarkten Groningen
END:VEVENT
END:VCALENDAR