BEGIN:VCALENDAR
VERSION:2.0
PRODID:-//Markten en meer - ECPv6.15.20//NONSGML v1.0//EN
CALSCALE:GREGORIAN
METHOD:PUBLISH
X-ORIGINAL-URL:https://marktenmeer.nl
X-WR-CALDESC:Evenementen voor Markten en meer
REFRESH-INTERVAL;VALUE=DURATION:PT1H
X-Robots-Tag:noindex
X-PUBLISHED-TTL:PT1H
BEGIN:VTIMEZONE
TZID:Europe/Amsterdam
BEGIN:DAYLIGHT
TZOFFSETFROM:+0100
TZOFFSETTO:+0200
TZNAME:CEST
DTSTART:20250330T010000
END:DAYLIGHT
BEGIN:STANDARD
TZOFFSETFROM:+0200
TZOFFSETTO:+0100
TZNAME:CET
DTSTART:20251026T010000
END:STANDARD
BEGIN:DAYLIGHT
TZOFFSETFROM:+0100
TZOFFSETTO:+0200
TZNAME:CEST
DTSTART:20260329T010000
END:DAYLIGHT
BEGIN:STANDARD
TZOFFSETFROM:+0200
TZOFFSETTO:+0100
TZNAME:CET
DTSTART:20261025T010000
END:STANDARD
BEGIN:DAYLIGHT
TZOFFSETFROM:+0100
TZOFFSETTO:+0200
TZNAME:CEST
DTSTART:20270328T010000
END:DAYLIGHT
BEGIN:STANDARD
TZOFFSETFROM:+0200
TZOFFSETTO:+0100
TZNAME:CET
DTSTART:20271031T010000
END:STANDARD
END:VTIMEZONE
BEGIN:VEVENT
DTSTART;TZID=Europe/Amsterdam:20260906T100000
DTEND;TZID=Europe/Amsterdam:20260906T163000
DTSTAMP:20260421T014506
CREATED:20260407T084457Z
LAST-MODIFIED:20260407T084457Z
UID:24907-1788688800-1788712200@marktenmeer.nl
SUMMARY:Grote Markt Groningen – vlooienmarkt in Groningen (6 september 2026)
DESCRIPTION:De vlooienmarkt in Groningen verhuist op zondag 6 september 2026 tijdelijk naar de Grote Markt. Door werkzaamheden aan de Vismarkt vindt deze editie plaats op het grootste en bekendste plein van de stad. Hier kun je rondstruinen langs kramen met tweedehands spullen\, curiosa en verzamelobjecten. De markt in Groningen biedt een laagdrempelig dagje uit voor iedereen die houdt van snuffelen en verrassende vondsten. \nDe Grote Markt vormt het levendige hart van Groningen en wordt omringd door historische gebouwen\, winkels en horeca. De open opzet van het plein geeft deze editie een ruimtelijk karakter\, met volop gelegenheid om de markt te combineren met een bezoek aan het centrum. Dit zorgt voor een andere\, maar vertrouwde sfeer voor bezoekers van de vlooienmarkt. \nVoor bezoekers\n\nType markt: vlooienmarkt\nPlaats: Groningen\nDatum: zondag 6 september 2026\nTijd: 10:00 – 16:30 (markt doorgaans tot ca. 16.30 uur)\nLocatie: Grote Markt\, Groningen\nEntree: gratis\nParkeren: betaald parkeren in centrum (ca. €2\,50 per uur\, vanaf 12.00 uur)\n\nVoor standhouders\n\nStandplaats (5 meter): €22\,50\nExtra meters: €4 per meter\nStandplaats incl. kraam (4 meter): €40\nDiepte standplaats: 2\,5 meter\nReserveren: verplicht\nOpbouw: 08.00 – 09.30 uur (melden vóór 09.15 uur)\n\nStandhouders kunnen tijdens het opbouwen hun standplaats bereiken via het centrum. Daarna dient de auto buiten het marktgebied te worden geparkeerd. Voor toegang tot het centrum is een tijdelijke ontheffing nodig. Standhouders blijven tot het einde van de markt aanwezig. \nDeze vlooienmarkt op de Grote Markt in Groningen biedt een centrale locatie met een gevarieerd aanbod aan tweedehands spullen.
URL:https://marktenmeer.nl/markt/grote-markt-groningen-vlooienmarkt-6-september-2026/
LOCATION:Grote markt\, Groningen\, Groningen\, Netherlands
CATEGORIES:Groningen,Rommelmarkten,Rommelmarkten Groningen
END:VEVENT
BEGIN:VEVENT
DTSTART;TZID=Europe/Amsterdam:20260906T100000
DTEND;TZID=Europe/Amsterdam:20260906T170000
DTSTAMP:20260421T014506
CREATED:20260407T080325Z
LAST-MODIFIED:20260407T080325Z
UID:24880-1788688800-1788714000@marktenmeer.nl
SUMMARY:Jaarmarkt\, braderie & grote rommelmarkt Valthe – 6 september 2026
DESCRIPTION:Op zondag 6 september 2026 vindt in Valthe een jaarmarkt\, braderie en grote rommelmarkt plaats met kermis. Deze markt in Valthe heeft een uitgebreider karakter dan een reguliere markt en biedt bezoekers een combinatie van handel\, tweedehands aanbod en vermaak. Door de toevoeging van een kermis ontstaat een dagvullend evenement dat geschikt is voor verschillende leeftijden. Bezoekers kunnen langs de kramen lopen en tegelijkertijd genieten van de activiteiten in het dorp. \nDe sfeer is levendig en gericht op een dagje uit. Naast het snuffelen op de markt is er ruimte voor ontspanning en entertainment. Het aanbod bestaat uit kleding\, accessoires\, huishoudelijke artikelen en verzamelobjecten. Door de omvang en variatie is er voor veel bezoekers iets te vinden. \nVoor bezoekers\n\nDatum: zondag 6 september 2026\nTijd: 10:00 – 17:00\nLocatie: Valthe (centrum)\nType markt: jaarmarkt\, braderie en grote rommelmarkt\nExtra: kermis\nAanbod: tweedehands spullen\, handel en diverse kramen\nDoelgroep: gezinnen\, dagjesmensen en koopjeszoekers\n\nVoor standhouders\nDoor de combinatie van markt en kermis trekt deze dag een breed publiek. Dit maakt het interessant voor standhouders die verschillende doelgroepen willen bereiken. \n\nKraamgrootte: circa 5 meter\nKraamprijs: vanaf €47\,50 inclusief kraam [controleer type markt]\nLosse meters: vanaf €6\,50 per meter\nInschrijving: vooraf aanbevolen (vol = vol)\n\nDe doelgroep bestaat uit lokale bezoekers en mensen uit de regio\, wat zorgt voor een constante en diverse bezoekersstroom. \nEen uitgebreide markt met extra vermaak in Valthe.
URL:https://marktenmeer.nl/markt/jaarmarkt-valthe-6-september-2026/
LOCATION:Valthe\, Valthe\, Netherlands
CATEGORIES:Braderie Groningen,Braderieën,Groningen,Jaarmarkten,Jaarmarkten Groningen,Rommelmarkten,Rommelmarkten Groningen
END:VEVENT
END:VCALENDAR