BEGIN:VCALENDAR
VERSION:2.0
PRODID:-//Markten en meer - ECPv6.15.20//NONSGML v1.0//EN
CALSCALE:GREGORIAN
METHOD:PUBLISH
X-ORIGINAL-URL:https://marktenmeer.nl
X-WR-CALDESC:Evenementen voor Markten en meer
REFRESH-INTERVAL;VALUE=DURATION:PT1H
X-Robots-Tag:noindex
X-PUBLISHED-TTL:PT1H
BEGIN:VTIMEZONE
TZID:Europe/Amsterdam
BEGIN:DAYLIGHT
TZOFFSETFROM:+0100
TZOFFSETTO:+0200
TZNAME:CEST
DTSTART:20250330T010000
END:DAYLIGHT
BEGIN:STANDARD
TZOFFSETFROM:+0200
TZOFFSETTO:+0100
TZNAME:CET
DTSTART:20251026T010000
END:STANDARD
BEGIN:DAYLIGHT
TZOFFSETFROM:+0100
TZOFFSETTO:+0200
TZNAME:CEST
DTSTART:20260329T010000
END:DAYLIGHT
BEGIN:STANDARD
TZOFFSETFROM:+0200
TZOFFSETTO:+0100
TZNAME:CET
DTSTART:20261025T010000
END:STANDARD
BEGIN:DAYLIGHT
TZOFFSETFROM:+0100
TZOFFSETTO:+0200
TZNAME:CEST
DTSTART:20270328T010000
END:DAYLIGHT
BEGIN:STANDARD
TZOFFSETFROM:+0200
TZOFFSETTO:+0100
TZNAME:CET
DTSTART:20271031T010000
END:STANDARD
END:VTIMEZONE
BEGIN:VEVENT
DTSTART;TZID=Europe/Amsterdam:20260926T130000
DTEND;TZID=Europe/Amsterdam:20260926T180000
DTSTAMP:20260421T031423
CREATED:20260407T081122Z
LAST-MODIFIED:20260407T081122Z
UID:24888-1790427600-1790445600@marktenmeer.nl
SUMMARY:Braderie & rommelmarkt Hoogezand – 26 september 2026
DESCRIPTION:Op zaterdag 26 september 2026 vindt in Hoogezand een braderie en rommelmarkt plaats. Deze markt in Hoogezand wordt georganiseerd in de middag en biedt bezoekers de mogelijkheid om later op de dag langs de kramen te lopen. Het aanbod bestaat uit een combinatie van tweedehands spullen en reguliere handel\, wat zorgt voor variatie. De markt trekt voornamelijk lokale bezoekers en mensen uit de regio die op zoek zijn naar praktische items of een ontspannen moment buiten. \nDe sfeer is toegankelijk en overzichtelijk. Door het tijdstip is de markt vaak wat rustiger en kunnen bezoekers op hun gemak rondkijken. Je vindt er kleding\, accessoires\, huishoudelijke artikelen en diverse kleine vondsten. Het maakt deze markt geschikt voor zowel gericht zoeken als ontspannen snuffelen. \nVoor bezoekers\n\nDatum: zaterdag 26 september 2026\nTijd: 13:00 – 18:00\nLocatie: Hoogezand (centrum)\nType markt: braderie en rommelmarkt\nAanbod: tweedehands spullen\, handel en diverse kramen\nDoelgroep: breed publiek\, koopjeszoekers en dagjesmensen\n\nVoor standhouders\nDeze middagmarkt is geschikt voor standhouders die hun producten willen aanbieden aan een publiek dat later op de dag de markt bezoekt. \n\nKraamgrootte: circa 5 meter\nKraamprijs: vanaf €47\,50 inclusief kraam\nLosse meters: vanaf €6\,50 per meter\nInschrijving: vooraf aanbevolen (vol = vol)\n\nDe doelgroep bestaat uit lokale bezoekers en mensen uit de regio\, wat zorgt voor een constante bezoekersstroom gedurende de middag. \nEen toegankelijke middagmarkt voor een ontspannen bezoek in Hoogezand.
URL:https://marktenmeer.nl/markt/braderie-rommelmarkt-hoogezand-26-september-2026/
LOCATION:Hoogezand\, Hoogezand\, Netherlands
CATEGORIES:Braderie Groningen,Braderieën,Groningen,Rommelmarkten,Rommelmarkten Groningen
END:VEVENT
END:VCALENDAR