BEGIN:VCALENDAR
VERSION:2.0
PRODID:-//Markten en meer - ECPv6.15.20//NONSGML v1.0//EN
CALSCALE:GREGORIAN
METHOD:PUBLISH
X-WR-CALNAME:Markten en meer
X-ORIGINAL-URL:https://marktenmeer.nl
X-WR-CALDESC:Evenementen voor Markten en meer
REFRESH-INTERVAL;VALUE=DURATION:PT1H
X-Robots-Tag:noindex
X-PUBLISHED-TTL:PT1H
BEGIN:VTIMEZONE
TZID:Europe/Amsterdam
BEGIN:DAYLIGHT
TZOFFSETFROM:+0100
TZOFFSETTO:+0200
TZNAME:CEST
DTSTART:20250330T010000
END:DAYLIGHT
BEGIN:STANDARD
TZOFFSETFROM:+0200
TZOFFSETTO:+0100
TZNAME:CET
DTSTART:20251026T010000
END:STANDARD
BEGIN:DAYLIGHT
TZOFFSETFROM:+0100
TZOFFSETTO:+0200
TZNAME:CEST
DTSTART:20260329T010000
END:DAYLIGHT
BEGIN:STANDARD
TZOFFSETFROM:+0200
TZOFFSETTO:+0100
TZNAME:CET
DTSTART:20261025T010000
END:STANDARD
BEGIN:DAYLIGHT
TZOFFSETFROM:+0100
TZOFFSETTO:+0200
TZNAME:CEST
DTSTART:20270328T010000
END:DAYLIGHT
BEGIN:STANDARD
TZOFFSETFROM:+0200
TZOFFSETTO:+0100
TZNAME:CET
DTSTART:20271031T010000
END:STANDARD
END:VTIMEZONE
BEGIN:VEVENT
DTSTART;TZID=Europe/Amsterdam:20260927T110000
DTEND;TZID=Europe/Amsterdam:20260927T170000
DTSTAMP:20260421T031403
CREATED:20260407T081419Z
LAST-MODIFIED:20260407T081419Z
UID:24891-1790506800-1790528400@marktenmeer.nl
SUMMARY:Braderie Hoogezand (Martenshoek) – 27 september 2026
DESCRIPTION:Op zondag 27 september 2026 vindt in Hoogezand\, in de wijk Martenshoek\, een braderie plaats met diverse activiteiten. Deze markt in Hoogezand (Martenshoek) combineert kramen met kindervermaak en een 7 km loop\, wat zorgt voor een gevarieerd programma. De rommelmarkt is op deze dag uitsluitend toegankelijk met een kraam\, wat bijdraagt aan een overzichtelijke opzet. Bezoekers kunnen langs de kramen wandelen en tegelijkertijd deelnemen aan of kijken naar de activiteiten in de omgeving. \nDe sfeer is levendig en gericht op een dagje uit in de wijk. Naast het aanbod van producten is er ruimte voor vermaak en beweging. Het aanbod bestaat uit kleding\, accessoires\, huishoudelijke artikelen en diverse handelswaren. Door de combinatie met activiteiten trekt de markt een breed publiek uit Hoogezand en omgeving. \nVoor bezoekers\n\nDatum: zondag 27 september 2026\nTijd: 11:00 – 17:00\nLocatie: Hoogezand (wijk Martenshoek)\nType markt: braderie (rommelmarkt met kraam)\nExtra: kindervermaak en 7 km loop\nAanbod: handel en diverse kramen\nDoelgroep: gezinnen\, dagjesmensen en koopjeszoekers\n\nVoor standhouders\nDeze markt heeft een specifieke opzet waarbij deelname aan de rommelmarkt alleen mogelijk is met een kraam. Door de extra activiteiten trekt de markt een gevarieerd publiek. \n\nKraamgrootte: circa 5 meter\nKraamprijs: vanaf €47\,50 inclusief kraam\nLosse meters: niet van toepassing voor rommelmarkt (kraam verplicht)\nInschrijving: vooraf verplicht\n\nDe doelgroep bestaat uit lokale bezoekers en mensen uit de regio\, wat zorgt voor een constante en gevarieerde bezoekersstroom. \nEen toegankelijke wijkmarkt met extra activiteiten in Hoogezand.
URL:https://marktenmeer.nl/markt/braderie-hoogezand-martenshoek-27-september-2026/
LOCATION:Hoogezand\, Hoogezand\, Netherlands
CATEGORIES:Braderie Groningen,Braderieën,Groningen,Rommelmarkten,Rommelmarkten Groningen
END:VEVENT
END:VCALENDAR