BEGIN:VCALENDAR
VERSION:2.0
PRODID:-//Markten en meer - ECPv6.15.20//NONSGML v1.0//EN
CALSCALE:GREGORIAN
METHOD:PUBLISH
X-ORIGINAL-URL:https://marktenmeer.nl
X-WR-CALDESC:Evenementen voor Markten en meer
REFRESH-INTERVAL;VALUE=DURATION:PT1H
X-Robots-Tag:noindex
X-PUBLISHED-TTL:PT1H
BEGIN:VTIMEZONE
TZID:Europe/Amsterdam
BEGIN:DAYLIGHT
TZOFFSETFROM:+0100
TZOFFSETTO:+0200
TZNAME:CEST
DTSTART:20250330T010000
END:DAYLIGHT
BEGIN:STANDARD
TZOFFSETFROM:+0200
TZOFFSETTO:+0100
TZNAME:CET
DTSTART:20251026T010000
END:STANDARD
BEGIN:DAYLIGHT
TZOFFSETFROM:+0100
TZOFFSETTO:+0200
TZNAME:CEST
DTSTART:20260329T010000
END:DAYLIGHT
BEGIN:STANDARD
TZOFFSETFROM:+0200
TZOFFSETTO:+0100
TZNAME:CET
DTSTART:20261025T010000
END:STANDARD
BEGIN:DAYLIGHT
TZOFFSETFROM:+0100
TZOFFSETTO:+0200
TZNAME:CEST
DTSTART:20270328T010000
END:DAYLIGHT
BEGIN:STANDARD
TZOFFSETFROM:+0200
TZOFFSETTO:+0100
TZNAME:CET
DTSTART:20271031T010000
END:STANDARD
END:VTIMEZONE
BEGIN:VEVENT
DTSTART;TZID=Europe/Amsterdam:20261011T100000
DTEND;TZID=Europe/Amsterdam:20261011T160000
DTSTAMP:20260421T032834
CREATED:20260212T084029Z
LAST-MODIFIED:20260329T060432Z
UID:19460-1791712800-1791734400@marktenmeer.nl
SUMMARY:Braderie & Vlooienmarkt Eurohal Zuidbroek | Zondag 11 oktober 2026 – Zuidbroek
DESCRIPTION:Op zondag 11 oktober 2026 vindt in de Eurohal Zuidbroek een uitgebreide braderie en vlooienmarkt plaats. Van 10.00 tot 16.00 uur kun je terecht aan de Burgemeester Omtaweg 4 in Zuidbroek voor een overdekte markt met een gevarieerd aanbod. \nDe combinatie van braderie en vlooienmarkt zorgt voor een brede mix van producten. Ondernemers presenteren hun assortiment tijdens de braderie\, terwijl bezoekers op de vlooienmarkt kunnen struinen tussen tweedehands goederen\, curiosa en verzamelitems. Dankzij de overdekte locatie is deze markt aantrekkelijk bij elk weertype. \nDe organisatie is in handen van Organisatieburo Wildro\, dat zorgt voor duidelijke afspraken en een overzichtelijke indeling. \nPraktische informatie\n\nDatum: zondag 11 oktober 2026\nTijd: 10.00 – 16.00 uur\nLocatie: Eurohal\, Burgemeester Omtaweg 4\, Zuidbroek\nType markt: braderie & vlooienmarkt (overdekt)\n\nInformatie voor standhouders\nBraderie\n\nGrondplaats: € 6\,00 per strekkende meter\nKraam: € 35\,00 per kraam (excl. btw\, incl. grondplaats)\n\nVlooienmarkt\n\n\nGrondplaats: \n\n\n5 meter: € 15\,00 \n\n\n10 meter: € 25\,00 \n\n\n\n\nKraam: € 25\,00 per kraam (incl. grondplaats) \n\n\n(Over grondplaatsen wordt geen btw berekend)
URL:https://marktenmeer.nl/markt/braderie-vlooienmarkt-eurohal-zuidbroek-11-oktober-2026/
LOCATION:Eurohal Zuidbroek\, Burgemeester Omtaweg 4\, Zuidbroek\, Netherlands
CATEGORIES:Braderie Groningen,Braderieën,Groningen,Rommelmarkten,Rommelmarkten Groningen
END:VEVENT
BEGIN:VEVENT
DTSTART;TZID=Europe/Amsterdam:20261018T100000
DTEND;TZID=Europe/Amsterdam:20261018T163000
DTSTAMP:20260421T032834
CREATED:20260407T121513Z
LAST-MODIFIED:20260407T121513Z
UID:24996-1792317600-1792341000@marktenmeer.nl
SUMMARY:Stadjersmarkt Groningen – vlooienmarkt en braderie in Groningen (18 oktober 2026)
DESCRIPTION:De Stadjersmarkt in Groningen is een grote vlooienmarkt en braderie in de Martiniplaza. Op zondag 18 oktober 2026 kun je hier rondstruinen langs kramen met een breed aanbod aan tweedehands spullen\, vintage\, brocante en curiosa. Deze markt in Groningen staat bekend als één van de grootste van de provincie en trekt bezoekers uit zowel de stad als de regio. \nDe markt vindt plaats in een overdekte locatie\, wat het een praktische keuze maakt bij elk weertype. Naast het vlooienmarktgedeelte is er een braderie met nieuwe producten. Regelmatig is er live muziek en een kinderattractie\, wat zorgt voor extra beleving tijdens het bezoek. De centrale ligging bij de A7 en A28 maakt de locatie goed bereikbaar. \nVoor bezoekers\n\nType markt: vlooienmarkt en braderie (overdekt)\nPlaats: Groningen\nDatum: zondag 18 oktober 2026\nTijd: 10.00 – 16.30 uur\nLocatie: Martiniplaza\, Leonard Springerlaan 2\, 9727 KB Groningen\nEntree: €4 (kinderen t/m 13 jaar gratis)\nParkeren: betaald (parkeergarage of omgeving)\n\nVoor standhouders\n\nReserveren: verplicht\n\nVlooienmarkt: \n\nStandplaats 5 meter: €22\,50\nStandplaats incl. kraam (4 meter): €37\,50\n\nBraderie: \n\nStandplaats 4 meter: €37\,50\nExtra meters: €6\,50 per meter\nKraam (4 meter met bovenbouw): €52\,50 (extra kraam €41)\nDiepte standplaats: 2\,5 meter\nFood toegestaan: nee (horeca via locatie)\nOpbouw: 07.30 – 09.30 uur (melden vóór 09.15 uur)\n\nStandhouders kunnen tijdens het opbouwen met de auto naar binnen rijden om te lossen. Daarna wordt de auto buiten geparkeerd. Standplaatsen dienen tot het einde van de markt bemand te blijven. \nDe Stadjersmarkt in Groningen biedt een ruime\, overdekte markt met een gevarieerd aanbod en een centrale ligging.
URL:https://marktenmeer.nl/markt/stadjersmarkt-groningen-18-oktober-2026/
LOCATION:Martiniplaza\, Groningen\, Leonard Springerlaan 2\, Groningen\, 9727 KB\, Netherlands
CATEGORIES:Braderie Groningen,Braderieën,Groningen,Rommelmarkten,Rommelmarkten Groningen
END:VEVENT
BEGIN:VEVENT
DTSTART;TZID=Europe/Amsterdam:20261025T100000
DTEND;TZID=Europe/Amsterdam:20261025T160000
DTSTAMP:20260421T032834
CREATED:20260212T084733Z
LAST-MODIFIED:20260329T060432Z
UID:19464-1792922400-1792944000@marktenmeer.nl
SUMMARY:Braderie en Vlooienmarkt Eurohal Zuidbroek | 25 oktober 2026
DESCRIPTION:Op zondag 25 oktober 2026 vindt in de Eurohal Zuidbroek een gecombineerde braderie en vlooienmarkt plaats. Van 10.00 tot 16.00 uur kunnen bezoekers terecht aan de Burgemeester Omtaweg 4 in Zuidbroek voor een veelzijdige markt in een overdekte locatie. \nDe combinatie van nieuwe producten en tweedehands artikelen zorgt voor een gevarieerd aanbod. Dankzij de binnenlocatie is het evenement geschikt voor een comfortabel dagje uit\, ongeacht het weer. \nDe organisatie is in handen van Organisatieburo Wildro. \n\nPraktische informatie\n\nDatum: zondag 25 oktober 2026\nTijd: 10.00 – 16.00 uur\nLocatie: Burgemeester Omtaweg 4\, Zuidbroek\nType markt: braderie & vlooienmarkt\n\n\nInformatie voor standhouders\nBraderie\n\nGrondplaats: € 6\,00 per strekkende meter\nKraam: € 35\,00 per kraam (excl. btw\, incl. grondplaats)\n\nVlooienmarkt\n\n\nGrondplaats: \n\n\n5 meter: € 15\,00 \n\n\n10 meter: € 25\,00 \n\n\n\n\nKraam: € 25\,00 (incl. grondplaats) \n\n\n(Over grondplaats wordt geen btw berekend)
URL:https://marktenmeer.nl/markt/braderie-vlooienmarkt-eurohal-zuidbroek-25-oktober-2026/
LOCATION:Eurohal Zuidbroek\, Burgemeester Omtaweg 4\, Zuidbroek\, Netherlands
CATEGORIES:Braderie Groningen,Braderieën,Groningen,Rommelmarkten,Rommelmarkten Groningen
END:VEVENT
BEGIN:VEVENT
DTSTART;TZID=Europe/Amsterdam:20261108T100000
DTEND;TZID=Europe/Amsterdam:20261108T160000
DTSTAMP:20260421T032834
CREATED:20260212T085849Z
LAST-MODIFIED:20260329T060432Z
UID:19471-1794132000-1794153600@marktenmeer.nl
SUMMARY:Braderie en Vlooienmarkt Eurohal Zuidbroek – 8 november 2026
DESCRIPTION:Op zondag 8 november 2026 bezoek je van 10.00 tot 16.00 uur een gecombineerde braderie en vlooienmarkt bij de Eurohal in Zuidbroek. Op het terrein aan de Burgemeester Omtaweg 4 struin je langs kramen met een gevarieerd aanbod: van nieuwe producten tot tweedehands vondsten. \nDe organisatie is in handen van Organisatieburo Wildro. \nTwee markten op één locatie\nDeze dag combineert het beste van twee werelden: \nBraderie\nOp het braderiegedeelte vind je onder meer: \n\nMode en accessoires\nWoon- en cadeauartikelen\nSeizoensproducten\nDiverse handelswaar\n\nVlooienmarkt\nBen je juist op zoek naar unieke koopjes of vintage items? Dan kun je je hart ophalen op de vlooienmarkt. Hier ontdek je tweedehands spullen\, verzamelobjecten en verrassende vondsten. \nDe combinatie maakt deze markt aantrekkelijk voor een breed publiek. Je loopt eenvoudig van het ene gedeelte naar het andere en maakt er een gezellige zondag van. \nPraktische informatie\n\nDatum: zondag 8 november 2026\nTijd: 10.00 – 16.00 uur\nLocatie: Burgemeester Omtaweg 4\, Zuidbroek\nSoort markt: Braderie en vlooienmarkt\n\nTarieven standhouders\nBraderie\n\nGrondplaats: € 6\,00 per strekkende meter\nKraam: € 35\,00 (excl. btw incl. grondplaats) per kraam\n\nVlooienmarkt\n\nGrondplaats: 5 meter € 15\,00\nGrondplaats: 10 meter € 25\,00\nKraam: € 25\,00 (incl. grondplaats) per kraam\n\nOver grondplaats wordt geen btw berekend. \nWil je op 8 november een markt bezoeken waar je zowel nieuwe producten als tweedehands koopjes vindt? Zet deze datum in je agenda en kom naar de Eurohal in Zuidbroek.
URL:https://marktenmeer.nl/markt/braderie-vlooienmarkt-eurohal-zuidbroek-8-november-2026/
LOCATION:Eurohal Zuidbroek\, Burgemeester Omtaweg 4\, Zuidbroek\, Netherlands
CATEGORIES:Braderie Groningen,Braderieën,Groningen,Rommelmarkten,Rommelmarkten Groningen
END:VEVENT
BEGIN:VEVENT
DTSTART;TZID=Europe/Amsterdam:20261108T100000
DTEND;TZID=Europe/Amsterdam:20261108T163000
DTSTAMP:20260421T032834
CREATED:20260407T122325Z
LAST-MODIFIED:20260407T122325Z
UID:25002-1794132000-1794155400@marktenmeer.nl
SUMMARY:Stadjersmarkt Groningen – vlooienmarkt en braderie in Groningen (8 november 2026)
DESCRIPTION:De Stadjersmarkt in Groningen is een grote vlooienmarkt en braderie in de Martiniplaza. Op zondag 8 november 2026 kun je hier rondstruinen langs kramen met een breed aanbod aan tweedehands spullen\, vintage\, brocante en curiosa. Deze markt in Groningen trekt bezoekers uit zowel de stad als de regio en staat bekend om de omvang en het gevarieerde aanbod. \nDe markt vindt plaats in een overdekte locatie\, wat het een praktische keuze maakt bij elk weertype. Naast het vlooienmarktgedeelte is er een braderie met nieuwe producten. Regelmatig zijn er extra’s zoals live muziek en een kinderattractie\, wat zorgt voor een levendige sfeer tijdens het bezoek. \nVoor bezoekers\n\nType markt: vlooienmarkt en braderie (overdekt)\nPlaats: Groningen\nDatum: zondag 8 november 2026\nTijd: 10.00 – 16.30 uur\nLocatie: Martiniplaza\, Leonard Springerlaan 2\, 9727 KB Groningen\nEntree: €4 (kinderen t/m 13 jaar gratis)\nParkeren: betaald (parkeergarage of omgeving)\n\nVoor standhouders\n\nReserveren: verplicht\n\nVlooienmarkt: \n\nStandplaats 5 meter: €22\,50\nStandplaats incl. kraam (4 meter): €37\,50\n\nBraderie: \n\nStandplaats 4 meter: €37\,50\nExtra meters: €6\,50 per meter\nKraam (4 meter met bovenbouw): €52\,50 (extra kraam €41)\nDiepte standplaats: 2\,5 meter\nFood toegestaan: nee (horeca via locatie)\nOpbouw: 07.30 – 09.30 uur (melden vóór 09.15 uur)\n\nStandhouders kunnen tijdens het opbouwen met de auto naar binnen rijden om te lossen. Daarna wordt de auto buiten geparkeerd. Standplaatsen dienen tot het einde van de markt bemand te blijven. \nDe Stadjersmarkt in Groningen biedt een ruime\, overdekte markt met een gevarieerd aanbod en een centrale ligging.
URL:https://marktenmeer.nl/markt/stadjersmarkt-groningen-8-november-2026/
LOCATION:Flowerdome\, Eelde\, Burg. J.G. Legroweg 80\, Eelde\, Netherlands
CATEGORIES:Braderie Groningen,Braderieën,Groningen,Rommelmarkten,Rommelmarkten Groningen
END:VEVENT
BEGIN:VEVENT
DTSTART;TZID=Europe/Amsterdam:20261122T100000
DTEND;TZID=Europe/Amsterdam:20261122T160000
DTSTAMP:20260421T032834
CREATED:20260212T090347Z
LAST-MODIFIED:20260329T060432Z
UID:19476-1795341600-1795363200@marktenmeer.nl
SUMMARY:Braderie en Vlooienmarkt Eurohal Zuidbroek – 22 november 2026
DESCRIPTION:Op zondag 22 november 2026 bezoek je van 10.00 tot 16.00 uur de braderie en vlooienmarkt bij de Eurohal in Zuidbroek. Aan de Burgemeester Omtaweg 4 vind je een combinatie van nieuwe producten en tweedehands koopjes. Een toegankelijke markt voor wie houdt van struinen en verrassende vondsten. \nDe organisatie is in handen van Organisatieburo Wildro. \nTwee markten\, één locatie\nDeze dag combineert een braderie met een vlooienmarkt. Dat zorgt voor een breed aanbod en een gevarieerd publiek. \nBraderie\nOp het braderiegedeelte vind je onder andere: \n\nMode en accessoires\nWoon- en cadeauartikelen\nSeizoensproducten\nDiverse handelswaren\n\nVlooienmarkt\nOp de vlooienmarkt speur je naar: \n\nTweedehands spullen\nVerzamelobjecten\nVintage items\nBetaalbare koopjes\n\nDoor de overzichtelijke opzet loop je eenvoudig tussen beide gedeelten heen en weer. Dat maakt het een fijne zondagactiviteit voor jong en oud. \nPraktische informatie\n\nDatum: zondag 22 november 2026\nTijd: 10.00 – 16.00 uur\nLocatie: Burgemeester Omtaweg 4\, Zuidbroek\nSoort markt: Braderie en vlooienmarkt\n\nTarieven voor standhouders\nBraderie\n\nGrondplaats: € 6\,00 per strekkende meter\nKraam: € 35\,00 (excl. btw incl. grondplaats) per kraam\n\nVlooienmarkt\n\nGrondplaats: 5 meter € 15\,00\nGrondplaats: 10 meter € 25\,00\nKraam: € 25\,00 (incl. grondplaats) per kraam\n\nOver grondplaats wordt geen btw berekend. \nWil je op 22 november een markt bezoeken waar je zowel nieuwe producten als tweedehands vondsten ontdekt? Dan is de Eurohal in Zuidbroek een mooie bestemming.
URL:https://marktenmeer.nl/markt/braderie-vlooienmarkt-eurohal-zuidbroek-22-november-2026/
LOCATION:Eurohal Zuidbroek\, Burgemeester Omtaweg 4\, Zuidbroek\, Netherlands
CATEGORIES:Braderie Groningen,Braderieën,Groningen,Rommelmarkten,Rommelmarkten Groningen
END:VEVENT
END:VCALENDAR