BEGIN:VCALENDAR
VERSION:2.0
PRODID:-//Markten en meer - ECPv6.15.20//NONSGML v1.0//EN
CALSCALE:GREGORIAN
METHOD:PUBLISH
X-WR-CALNAME:Markten en meer
X-ORIGINAL-URL:https://marktenmeer.nl
X-WR-CALDESC:Evenementen voor Markten en meer
REFRESH-INTERVAL;VALUE=DURATION:PT1H
X-Robots-Tag:noindex
X-PUBLISHED-TTL:PT1H
BEGIN:VTIMEZONE
TZID:Europe/Amsterdam
BEGIN:DAYLIGHT
TZOFFSETFROM:+0100
TZOFFSETTO:+0200
TZNAME:CEST
DTSTART:20240331T010000
END:DAYLIGHT
BEGIN:STANDARD
TZOFFSETFROM:+0200
TZOFFSETTO:+0100
TZNAME:CET
DTSTART:20241027T010000
END:STANDARD
BEGIN:DAYLIGHT
TZOFFSETFROM:+0100
TZOFFSETTO:+0200
TZNAME:CEST
DTSTART:20250330T010000
END:DAYLIGHT
BEGIN:STANDARD
TZOFFSETFROM:+0200
TZOFFSETTO:+0100
TZNAME:CET
DTSTART:20251026T010000
END:STANDARD
BEGIN:DAYLIGHT
TZOFFSETFROM:+0100
TZOFFSETTO:+0200
TZNAME:CEST
DTSTART:20260329T010000
END:DAYLIGHT
BEGIN:STANDARD
TZOFFSETFROM:+0200
TZOFFSETTO:+0100
TZNAME:CET
DTSTART:20261025T010000
END:STANDARD
END:VTIMEZONE
BEGIN:VEVENT
DTSTART;TZID=Europe/Amsterdam:20251226T090000
DTEND;TZID=Europe/Amsterdam:20251226T160000
DTSTAMP:20260421T184101
CREATED:20251120T133712Z
LAST-MODIFIED:20260329T061201Z
UID:15146-1766739600-1766764800@marktenmeer.nl
SUMMARY:Snuffelmarkt Brabanthallen Den Bosch – 2e Kerstdag 2025 | 450 stands
DESCRIPTION:Op 2e Kerstdag\, vrijdag 26 december 2025\, vindt in de Brabanthallen in ’s-Hertogenbosch een grote en geliefde Snuffelmarkt plaats. Met maar liefst 450 stands is dit één van de grootste indoor snuffelmarkten van Brabant. \nBezoekers kunnen tussen 09.00 en 16.00 uur uitgebreid rondstruinen langs een enorm en gevarieerd aanbod. Denk aan vintage\, retro\, antiek\, curiosa\, servies\, speelgoed\, kleding\, boeken\, woondecoratie en verzamelobjecten uit grootmoeders tijd. Door de ruime opzet van de overdekte hallen is de markt comfortabel en overzichtelijk\, ideaal voor een winterse dag. \nDe snuffelmarkt trekt al jaren een breed publiek: van fanatieke verzamelaars tot koopjesjagers en gezinnen die er op 2e Kerstdag gezellig op uit willen. Parkeren is gratis en de locatie is goed bereikbaar.De entree bedraagt €6\,- voor volwassenen; kinderen onder begeleiding mogen gratis naar binnen. \n\n📌 Praktisch\n\nDatum: vrijdag 26 december 2025 (2e Kerstdag)\nTijd: 09.00 – 16.00 uur\nLocatie: Brabanthallen Den Bosch\nAantal stands: 450\nParkeren: gratis\nEntree: €6\,- | kinderen gratis onder begeleiding
URL:https://marktenmeer.nl/markt/snuffelmarkt-brabanthallen-26-december-2025/
LOCATION:Brabant Hallen\, Den Bosch\, Diezekade 2\, Den Bosch\, Netherlands
CATEGORIES:Noord-Brabant,Rommelmarkten,Rommelmarkten Noord-Brabant
END:VEVENT
END:VCALENDAR