BEGIN:VCALENDAR
VERSION:2.0
PRODID:-//Markten en meer - ECPv6.15.20//NONSGML v1.0//EN
CALSCALE:GREGORIAN
METHOD:PUBLISH
X-WR-CALNAME:Markten en meer
X-ORIGINAL-URL:https://marktenmeer.nl
X-WR-CALDESC:Evenementen voor Markten en meer
REFRESH-INTERVAL;VALUE=DURATION:PT1H
X-Robots-Tag:noindex
X-PUBLISHED-TTL:PT1H
BEGIN:VTIMEZONE
TZID:Europe/Amsterdam
BEGIN:DAYLIGHT
TZOFFSETFROM:+0100
TZOFFSETTO:+0200
TZNAME:CEST
DTSTART:20250330T010000
END:DAYLIGHT
BEGIN:STANDARD
TZOFFSETFROM:+0200
TZOFFSETTO:+0100
TZNAME:CET
DTSTART:20251026T010000
END:STANDARD
BEGIN:DAYLIGHT
TZOFFSETFROM:+0100
TZOFFSETTO:+0200
TZNAME:CEST
DTSTART:20260329T010000
END:DAYLIGHT
BEGIN:STANDARD
TZOFFSETFROM:+0200
TZOFFSETTO:+0100
TZNAME:CET
DTSTART:20261025T010000
END:STANDARD
BEGIN:DAYLIGHT
TZOFFSETFROM:+0100
TZOFFSETTO:+0200
TZNAME:CEST
DTSTART:20270328T010000
END:DAYLIGHT
BEGIN:STANDARD
TZOFFSETFROM:+0200
TZOFFSETTO:+0100
TZNAME:CET
DTSTART:20271031T010000
END:STANDARD
END:VTIMEZONE
BEGIN:VEVENT
DTSTART;TZID=Europe/Amsterdam:20260111T090000
DTEND;TZID=Europe/Amsterdam:20260111T160000
DTSTAMP:20260421T230100
CREATED:20251120T134405Z
LAST-MODIFIED:20260329T061200Z
UID:15151-1768122000-1768147200@marktenmeer.nl
SUMMARY:Snuffelmarkt Breepark Breda – 11 januari 2026
DESCRIPTION:Op zondag 11 januari 2026 wordt de evenementenhal van Breepark in Breda gevuld met 500 kramen vol tweedehands spullen\, curiosa\, vintage\, retro en alles wat het hart van een snuffelaar sneller laat kloppen. De volledige hal staat vol met leuke\, gekke\, handige en soms kostbare vondsten—perfect voor liefhebbers van Tussen Kunst en Kitsch\, verzamelaars en iedereen die houdt van speuren naar bijzondere items. \nBezoekers kunnen tussen 09.00 en 16.00 uur uitgebreid rondkijken\, onderhandelen en zoeken naar dat ene object dat je niet wist dat je nodig had. De markt biedt een rijke mix aan woonaccessoires\, speelgoed\, servies\, sieraden\, brocante\, kleding\, boeken en unieke curiosa. \nDankzij de indoorlocatie is het evenement goed toegankelijk\, ongeacht het weer. Parkeren is gratis\, en volwassenen betalen €5\,- entree. \nPraktisch• Datum: 11 januari 2026• Tijd: 09.00 – 16.00 uur• Locatie: Breepark Evenementenhal\, Bavelseparklaan\, 4817 ZX Breda• Parkeren: gratis
URL:https://marktenmeer.nl/markt/snuffelmarkt-breepark-breda-11-januari-2026/
LOCATION:Breepark Evenementenhal\, Breda\, Bavelseparklaan\, Breda\, Netherlands
CATEGORIES:Noord-Brabant,Rommelmarkten,Rommelmarkten Noord-Brabant
END:VEVENT
BEGIN:VEVENT
DTSTART;TZID=Europe/Amsterdam:20260111T090000
DTEND;TZID=Europe/Amsterdam:20260111T160000
DTSTAMP:20260421T230100
CREATED:20251202T091200Z
LAST-MODIFIED:20260329T061200Z
UID:16063-1768122000-1768147200@marktenmeer.nl
SUMMARY:Vlooienmarkt Den Bosch – 11 januari 2026
DESCRIPTION:Op zondag 11 januari 2026 opent Sporthal Maaspoort in ’s-Hertogenbosch haar deuren voor een sfeervolle vlooienmarkt met 140 kramen vol tweedehands schatten. Van vintage woonaccessoires en antiek tot speelgoed\, boeken\, kleding\, curiosa en handige gebruiksvoorwerpen: het aanbod is breed en verrassend. Een perfect uitje om het nieuwe jaar te starten met duurzame vondsten en leuke koopjes. \nDe Maaspoort is overzichtelijk ingedeeld\, waardoor je op je gemak langs alle kramen kunt struinen. De markt staat bekend om de gezellige sfeer en de mix van particuliere verkopers en ervaren snuffelaars\, wat zorgt voor een gevarieerd en uniek aanbod. Je weet nooit wat je tegenkomt — en dat maakt juist de charme van deze markt. \nOmdat de markt volledig binnen plaatsvindt\, ben je verzekerd van een prettig bezoek\, ongeacht het winterse weer buiten. Parkeren is gratis\, wat het extra laagdrempelig maakt om even binnen te lopen. Met een voordelige entreeprijs en gratis toegang voor kinderen t/m 12 jaar is dit een toegankelijk en gezellig familie-uitje. \n📍 Sporthal Maaspoort – Den Bosch📅 11 januari 2026🕘 09:00 – 16:00 uur🎟️ Entree: €4\,- (t/m 12 jaar gratis)🚗 Gratis parkeren
URL:https://marktenmeer.nl/markt/vlooienmarkt-den-bosch-maaspoort-11-januari-2026/
LOCATION:Sporthal Maaspoort\, Den Bosch\, Den Bosch\, Netherlands
CATEGORIES:Noord-Brabant,Rommelmarkten,Rommelmarkten Noord-Brabant
END:VEVENT
END:VCALENDAR