BEGIN:VCALENDAR
VERSION:2.0
PRODID:-//Markten en meer - ECPv6.15.20//NONSGML v1.0//EN
CALSCALE:GREGORIAN
METHOD:PUBLISH
X-ORIGINAL-URL:https://marktenmeer.nl
X-WR-CALDESC:Evenementen voor Markten en meer
REFRESH-INTERVAL;VALUE=DURATION:PT1H
X-Robots-Tag:noindex
X-PUBLISHED-TTL:PT1H
BEGIN:VTIMEZONE
TZID:Europe/Amsterdam
BEGIN:DAYLIGHT
TZOFFSETFROM:+0100
TZOFFSETTO:+0200
TZNAME:CEST
DTSTART:20250330T010000
END:DAYLIGHT
BEGIN:STANDARD
TZOFFSETFROM:+0200
TZOFFSETTO:+0100
TZNAME:CET
DTSTART:20251026T010000
END:STANDARD
BEGIN:DAYLIGHT
TZOFFSETFROM:+0100
TZOFFSETTO:+0200
TZNAME:CEST
DTSTART:20260329T010000
END:DAYLIGHT
BEGIN:STANDARD
TZOFFSETFROM:+0200
TZOFFSETTO:+0100
TZNAME:CET
DTSTART:20261025T010000
END:STANDARD
BEGIN:DAYLIGHT
TZOFFSETFROM:+0100
TZOFFSETTO:+0200
TZNAME:CEST
DTSTART:20270328T010000
END:DAYLIGHT
BEGIN:STANDARD
TZOFFSETFROM:+0200
TZOFFSETTO:+0100
TZNAME:CET
DTSTART:20271031T010000
END:STANDARD
END:VTIMEZONE
BEGIN:VEVENT
DTSTART;TZID=Europe/Amsterdam:20260607T090000
DTEND;TZID=Europe/Amsterdam:20260607T160000
DTSTAMP:20260421T170211
CREATED:20260123T084903Z
LAST-MODIFIED:20260329T060954Z
UID:18811-1780822800-1780848000@marktenmeer.nl
SUMMARY:Vlooienmarkt Waalwijk – 7 juni 2026 | Parkeerterrein Piet Klerkx\, Waalwijk
DESCRIPTION:Op zondag 7 juni 2026 wordt de vlooienmarkt georganiseerd op het parkeerterrein van Piet Klerkx in Waalwijk. Deze markt vindt plaats als buitenmarkt en is ruim opgezet\, waardoor bezoekers prettig kunnen rondlopen langs alle kramen. \nDe markt is geopend van 09:00 tot 16:00 uur. Bezoekers treffen hier een wisselend aanbod tweedehands spullen\, zoals kleding\, speelgoed\, huisraad\, boeken en woonaccessoires. Door de buitenlocatie is er veel ruimte rondom de kramen en ontstaat er een open\, toegankelijke marktsfeer. \nPraktische informatie\n\nLocatie: Parkeerterrein Piet Klerkx\, Prof. van de Waalsweg\, 5144 NH Waalwijk\nEntree: €3\,- p.p. | 65+ €2\,50 | kinderen t/m 12 jaar gratis\nType markt: Buitenmarkt\nKraamhuur: vanaf €33\,-\nExtra: auto kan achter de kraam\n\nWat kun je verwachten?\nDeze vlooienmarkt trekt bezoekers uit Waalwijk en omliggende plaatsen. Veel mensen nemen de tijd om rustig langs de kramen te lopen\, wat zorgt voor een gelijkmatige doorloop gedurende de dag. Voor standhouders is deze markt praktisch dankzij de goede bereikbaarheid en de mogelijkheid om grotere spullen eenvoudig te verkopen.
URL:https://marktenmeer.nl/markt/vlooienmarkt-waalwijk-7-juni-2026/
LOCATION:Parkeerterrein Piet Klerkx\, Waalwijk\, Prof. van de Waalsweg\, Waalwijk\, 5144 NH\, Netherlands
CATEGORIES:Noord-Brabant,Rommelmarkten,Rommelmarkten Noord-Brabant
END:VEVENT
BEGIN:VEVENT
DTSTART;TZID=Europe/Amsterdam:20260607T100000
DTEND;TZID=Europe/Amsterdam:20260607T170000
DTSTAMP:20260421T170211
CREATED:20260222T082306Z
LAST-MODIFIED:20260329T060954Z
UID:19955-1780826400-1780851600@marktenmeer.nl
SUMMARY:Stratumse Mega Slingermarkt – 7 juni 2026 – Roostenlaan\, Eindhoven
DESCRIPTION:Op zondag 7 juni 2026 vindt de jaarlijkse Stratumse Mega Slingermarkt plaats op de Roostenlaan in Eindhoven. Van 10:00 tot 17:00 uur verandert deze winkelstraat in stadsdeel Stratum in een levendige snuffelmarkt met circa 250 kramen. \nDe Slingermarkt is al meer dan 25 jaar een begrip in de wijk en wordt traditioneel gehouden op de eerste zondag van juni. Bewoners verkopen hun spullen direct voor de deur\, waardoor u hier nog echt ouderwets kunt snuffelen en onverwachte vondsten kunt doen. Van tweedehands kleding en speelgoed tot curiosa en zolderopruimingen: het aanbod is breed en wisselend. \nNaast de snuffelmarkt is er een aanvullende braderie met diverse handelaren\, wat zorgt voor extra variatie en een gezellige sfeer. \nPraktische informatie\n\nDatum: zondag 7 juni 2026\nTijd: 10:00 – 17:00 uur\nLocatie: Roostenlaan\, Eindhoven (wijk Stratum)\nToegang: gratis\nParkeren: in de wijk en omliggende straten [controleer]\n\nInformatie voor standhouders\n\nMarktkraam 4 m rommelmarkt: € 30\,00\nKraam 4 m braderie: € 30\,00\nGrondplaats 4 m: € 30\,00\nStroom 220/230 volt: € 15\,00\nKrachtstroom 32 ampère: € 35\,00\n\nReserveren vooraf is noodzakelijk.
URL:https://marktenmeer.nl/markt/stratumse-mega-slingermarkt-roostenlaan-7-juni-2026/
LOCATION:Eindhoven\, Eindhoven\, Netherlands
CATEGORIES:Braderie Noord-Brabant,Braderieën,Noord-Brabant,Rommelmarkten,Rommelmarkten Noord-Brabant
END:VEVENT
END:VCALENDAR