BEGIN:VCALENDAR
VERSION:2.0
PRODID:-//Markten en meer - ECPv6.15.20//NONSGML v1.0//EN
CALSCALE:GREGORIAN
METHOD:PUBLISH
X-ORIGINAL-URL:https://marktenmeer.nl
X-WR-CALDESC:Evenementen voor Markten en meer
REFRESH-INTERVAL;VALUE=DURATION:PT1H
X-Robots-Tag:noindex
X-PUBLISHED-TTL:PT1H
BEGIN:VTIMEZONE
TZID:Europe/Amsterdam
BEGIN:DAYLIGHT
TZOFFSETFROM:+0100
TZOFFSETTO:+0200
TZNAME:CEST
DTSTART:20250330T010000
END:DAYLIGHT
BEGIN:STANDARD
TZOFFSETFROM:+0200
TZOFFSETTO:+0100
TZNAME:CET
DTSTART:20251026T010000
END:STANDARD
BEGIN:DAYLIGHT
TZOFFSETFROM:+0100
TZOFFSETTO:+0200
TZNAME:CEST
DTSTART:20260329T010000
END:DAYLIGHT
BEGIN:STANDARD
TZOFFSETFROM:+0200
TZOFFSETTO:+0100
TZNAME:CET
DTSTART:20261025T010000
END:STANDARD
BEGIN:DAYLIGHT
TZOFFSETFROM:+0100
TZOFFSETTO:+0200
TZNAME:CEST
DTSTART:20270328T010000
END:DAYLIGHT
BEGIN:STANDARD
TZOFFSETFROM:+0200
TZOFFSETTO:+0100
TZNAME:CET
DTSTART:20271031T010000
END:STANDARD
END:VTIMEZONE
BEGIN:VEVENT
DTSTART;TZID=Europe/Amsterdam:20260614T090000
DTEND;TZID=Europe/Amsterdam:20260614T160000
DTSTAMP:20260421T171710
CREATED:20260123T085045Z
LAST-MODIFIED:20260329T060954Z
UID:18813-1781427600-1781452800@marktenmeer.nl
SUMMARY:Vlooienmarkt Tilburg – 14 juni 2026 | ’t Laar\, Tilburg
DESCRIPTION:Op zondag 14 juni 2026 vindt de vlooienmarkt plaats op Evenemententerrein ’t Laar in Tilburg. Deze markt wordt georganiseerd als buitenmarkt en is een vaste datum voor bezoekers die graag in de zomerperiode markten bezoeken. \nDe markt is geopend van 09:00 tot 16:00 uur. Bezoekers kunnen hier uitgebreid struinen langs kramen met tweedehands spullen\, variërend van kleding en speelgoed tot woonartikelen en praktische gebruiksvoorwerpen. Door de ruime opzet is de markt overzichtelijk en geschikt voor een breed publiek. \nPraktische informatie\n\nLocatie: Evenemententerrein ’t Laar\, Laarveld-west\, 5025 Tilburg\nEntree: €3\,- p.p. | 65+ €2\,50 | kinderen t/m 12 jaar gratis\nType markt: Buitenmarkt\nKraamhuur: vanaf €33\,-\nExtra: auto kan achter de kraam\n\nWaarom deze markt bezoeken?\nDe vlooienmarkt op ’t Laar is populair vanwege de ruimte en de goede bereikbaarheid. Voor standhouders is het laden en lossen eenvoudig. Voor bezoekers is het een fijne markt om rustig rond te kijken en verschillende kramen te bezoeken.
URL:https://marktenmeer.nl/markt/vlooienmarkt-tilburg-14-juni-2026/
LOCATION:Evenemententerrein ’t Laar\, Tilburg\, Laarveld-west\, Tilburg\, Netherlands
CATEGORIES:Noord-Brabant,Rommelmarkten,Rommelmarkten Noord-Brabant
END:VEVENT
BEGIN:VEVENT
DTSTART;TZID=Europe/Amsterdam:20260614T100000
DTEND;TZID=Europe/Amsterdam:20260614T160000
DTSTAMP:20260421T171710
CREATED:20260409T120021Z
LAST-MODIFIED:20260409T120021Z
UID:25318-1781431200-1781452800@marktenmeer.nl
SUMMARY:Grote Gestelse Vlooienmarkt Sint-Michielsgestel – 14 juni 2026
DESCRIPTION:Op zondag 14 juni 2026 vindt de Grote Gestelse Vlooienmarkt plaats in Sint-Michielsgestel. Deze vlooienmarkt in Sint-Michielsgestel is een bekend evenement in Noord-Brabant en trekt jaarlijks veel bezoekers. Met meer dan 70 kramen en een breed aanbod aan tweedehands en vintage spullen is het een toegankelijke markt voor liefhebbers van snuffelen en bijzondere vondsten. \nSfeer en aanbod\nDe markt staat bekend om het gesorteerde en gevarieerde aanbod. Bezoekers kunnen langs kramen met onder andere kleding\, boeken\, platen\, speelgoed\, glaswerk en brocante. Alle items zijn tweedehands en zorgvuldig samengesteld. Daarnaast is er een opbodstand waar bijzondere stukken worden verkocht vanaf 11.00 uur. \nEen opvallend onderdeel is het Happy Hour van 15.00 tot 16.00 uur\, waarbij bezoekers voor € 5\,00 spullen mogen meenemen die ze in twee armen kunnen dragen. Ook is er een vlooiencafé en een terras voor eten en drinken. \nVoor bezoekers\n\nDatum: zondag 14 juni 2026\nTijd: 10.00 – 16.00 uur\nLocatie: De Meander\, Meanderplein 1\, Sint-Michielsgestel\nType markt: vlooienmarkt\nEntree: € 4\,00 tot 12.00 uur\, daarna € 3\,00\nKinderen: t/m 12 jaar gratis\nParkeren: gratis\nAanbod: ruim 70 kramen met tweedehands\, vintage en brocante
URL:https://marktenmeer.nl/markt/grote-gestelse-vlooienmarkt-14-juni-2026/
LOCATION:Sint-Michielsgestel\, Sint-Michielsgestel\, Netherlands
CATEGORIES:Noord-Brabant,Rommelmarkten,Rommelmarkten Noord-Brabant
END:VEVENT
BEGIN:VEVENT
DTSTART;TZID=Europe/Amsterdam:20260614T100000
DTEND;TZID=Europe/Amsterdam:20260614T170000
DTSTAMP:20260421T171710
CREATED:20260121T083708Z
LAST-MODIFIED:20260329T060954Z
UID:18694-1781431200-1781456400@marktenmeer.nl
SUMMARY:Grote Buiten Rommelmarkt Oudenbosch – zondag 14 juni 2026
DESCRIPTION:Op zondag 14 juni 2026 organiseert MDV Evenementen de Grote Buiten Rommelmarkt in Oudenbosch. Deze populaire rommelmarkt vindt plaats op het grasveld De Brink en staat bekend als één van de drukst bezochte rommelmarkten in de regio. \nBezoekers kunnen de hele dag buiten struinen langs een groot aantal kramen met een breed aanbod aan tweedehands spullen. Denk aan huisraad\, curiosa\, speelgoed\, vintage en allerlei onverwachte vondsten. De rommelmarkt in Oudenbosch heeft een sterke reputatie en trekt elk jaar veel bezoekers uit de wijde omgeving. \nDe locatie is ruim opgezet en biedt voldoende plek om rustig rond te lopen. Dankzij de gratis entree is de markt laagdrempelig en geschikt voor een breed publiek. Door het openluchtkarakter en de zomerse datum is dit een geliefde dag voor zowel bezoekers als standhouders. \nPraktische informatie\n\nDatum: zondag 14 juni 2026\nTijd: 10.00 – ca. 17.00 uur\nPlaats: Oudenbosch\nLocatie: Grasveld De Brink\nAdres: Beukenlaan\, 4731 CG Oudenbosch\nSoort markt: Grote buiten rommelmarkt\nEntree: gratis\n\nOrganisatie & contact\n\nOrganisatie: MDV Evenementen\nTelefoon: 06 – 41010900\nWebsite: mdv-evenementen.nl\nE-mail: info@mdv-evenementen.nl\n\nDeze rommelmarkt is ideaal voor iedereen die graag buiten snuffelt op een levendige en goed bezochte markt met een groot aanbod.
URL:https://marktenmeer.nl/markt/grote-buiten-rommelmarkt-oudenbosch-14-juni-2026/
LOCATION:Oudenbosch\, Oudenbosch\, Netherlands
CATEGORIES:Noord-Brabant,Rommelmarkten,Rommelmarkten Noord-Brabant
END:VEVENT
END:VCALENDAR