BEGIN:VCALENDAR
VERSION:2.0
PRODID:-//Markten en meer - ECPv6.15.20//NONSGML v1.0//EN
CALSCALE:GREGORIAN
METHOD:PUBLISH
X-WR-CALNAME:Markten en meer
X-ORIGINAL-URL:https://marktenmeer.nl
X-WR-CALDESC:Evenementen voor Markten en meer
REFRESH-INTERVAL;VALUE=DURATION:PT1H
X-Robots-Tag:noindex
X-PUBLISHED-TTL:PT1H
BEGIN:VTIMEZONE
TZID:Europe/Amsterdam
BEGIN:DAYLIGHT
TZOFFSETFROM:+0100
TZOFFSETTO:+0200
TZNAME:CEST
DTSTART:20250330T010000
END:DAYLIGHT
BEGIN:STANDARD
TZOFFSETFROM:+0200
TZOFFSETTO:+0100
TZNAME:CET
DTSTART:20251026T010000
END:STANDARD
BEGIN:DAYLIGHT
TZOFFSETFROM:+0100
TZOFFSETTO:+0200
TZNAME:CEST
DTSTART:20260329T010000
END:DAYLIGHT
BEGIN:STANDARD
TZOFFSETFROM:+0200
TZOFFSETTO:+0100
TZNAME:CET
DTSTART:20261025T010000
END:STANDARD
BEGIN:DAYLIGHT
TZOFFSETFROM:+0100
TZOFFSETTO:+0200
TZNAME:CEST
DTSTART:20270328T010000
END:DAYLIGHT
BEGIN:STANDARD
TZOFFSETFROM:+0200
TZOFFSETTO:+0100
TZNAME:CET
DTSTART:20271031T010000
END:STANDARD
END:VTIMEZONE
BEGIN:VEVENT
DTSTART;TZID=Europe/Amsterdam:20260809T090000
DTEND;TZID=Europe/Amsterdam:20260809T160000
DTSTAMP:20260425T153822
CREATED:20260123T085805Z
LAST-MODIFIED:20260329T060925Z
UID:18819-1786266000-1786291200@marktenmeer.nl
SUMMARY:Vlooienmarkt Waalwijk – 9 augustus 2026 | Parkeerterrein Piet Klerkx\, Waalwijk
DESCRIPTION:Op zondag 9 augustus 2026 wordt de vlooienmarkt georganiseerd op het parkeerterrein van Piet Klerkx in Waalwijk. Deze markt vindt plaats als buitenmarkt en staat bekend om de ruime en overzichtelijke opzet. \nDe markt is geopend van 09:00 tot 16:00 uur. Bezoekers kunnen hier terecht voor een breed aanbod aan tweedehands spullen\, waaronder kleding\, speelgoed\, huisraad\, boeken en woonaccessoires. Door de open opstelling is het prettig rondlopen en kunnen bezoekers rustig de tijd nemen om alle kramen te bekijken. \nPraktische informatie\n\nLocatie: Parkeerterrein Piet Klerkx\, Prof. van de Waalsweg\, 5144 NH Waalwijk\nEntree: €3\,- p.p. | 65+ €2\,50 | kinderen t/m 12 jaar gratis\nType markt: Buitenmarkt\nKraamhuur: vanaf €33\,-\nExtra: auto kan achter de kraam\n\nWat maakt deze markt aantrekkelijk?\nIn augustus is er vaak een mix van vaste bezoekers en mensen die tijdens de zomerperiode extra markten bezoeken. Voor standhouders is deze locatie praktisch door de goede bereikbaarheid en de mogelijkheid om grotere spullen direct vanuit de auto te presenteren.
URL:https://marktenmeer.nl/markt/vlooienmarkt-waalwijk-9-augustus-2026/
LOCATION:Parkeerterrein Piet Klerkx\, Waalwijk\, Prof. van de Waalsweg\, Waalwijk\, 5144 NH\, Netherlands
CATEGORIES:Noord-Brabant,Rommelmarkten,Rommelmarkten Noord-Brabant
END:VEVENT
END:VCALENDAR