BEGIN:VCALENDAR
VERSION:2.0
PRODID:-//Markten en meer - ECPv6.15.20//NONSGML v1.0//EN
CALSCALE:GREGORIAN
METHOD:PUBLISH
X-WR-CALNAME:Markten en meer
X-ORIGINAL-URL:https://marktenmeer.nl
X-WR-CALDESC:Evenementen voor Markten en meer
REFRESH-INTERVAL;VALUE=DURATION:PT1H
X-Robots-Tag:noindex
X-PUBLISHED-TTL:PT1H
BEGIN:VTIMEZONE
TZID:Europe/Amsterdam
BEGIN:DAYLIGHT
TZOFFSETFROM:+0100
TZOFFSETTO:+0200
TZNAME:CEST
DTSTART:20250330T010000
END:DAYLIGHT
BEGIN:STANDARD
TZOFFSETFROM:+0200
TZOFFSETTO:+0100
TZNAME:CET
DTSTART:20251026T010000
END:STANDARD
BEGIN:DAYLIGHT
TZOFFSETFROM:+0100
TZOFFSETTO:+0200
TZNAME:CEST
DTSTART:20260329T010000
END:DAYLIGHT
BEGIN:STANDARD
TZOFFSETFROM:+0200
TZOFFSETTO:+0100
TZNAME:CET
DTSTART:20261025T010000
END:STANDARD
BEGIN:DAYLIGHT
TZOFFSETFROM:+0100
TZOFFSETTO:+0200
TZNAME:CEST
DTSTART:20270328T010000
END:DAYLIGHT
BEGIN:STANDARD
TZOFFSETFROM:+0200
TZOFFSETTO:+0100
TZNAME:CET
DTSTART:20271031T010000
END:STANDARD
END:VTIMEZONE
BEGIN:VEVENT
DTSTART;TZID=Europe/Amsterdam:20260906T090000
DTEND;TZID=Europe/Amsterdam:20260906T153000
DTSTAMP:20260425T153937
CREATED:20260330T091424Z
LAST-MODIFIED:20260330T091424Z
UID:23998-1788685200-1788708600@marktenmeer.nl
SUMMARY:Kofferbakverkoop Vlierden – Vlierden – 6 september 2026
DESCRIPTION:Op zondag 6 september 2026 vindt in het centrum van Vlierden opnieuw een gezellige en toegankelijke kofferbakverkoop in Vlierden plaats. Tijdens deze markt verkopen particulieren hun spullen direct vanuit de auto\, bus of aanhanger. Dat zorgt voor een informele sfeer waarin je rustig kunt rondkijken en makkelijk in gesprek raakt met verkopers. Van kleding en speelgoed tot huisraad en kleine vondsten: het aanbod is breed en wisselt continu\, waardoor elk bezoek weer anders is. \nSfeer en aanbod\nDe kracht van deze markt zit in de eenvoud. Geen vaste kramen\, maar rijen voertuigen waar verkopers hun spullen uitstallen. Bezoekers struinen langs de auto’s en ontdekken van alles wat nog prima een tweede ronde mee kan. Onderhandelen hoort erbij en maakt het bezoek levendig en persoonlijk. De sfeer is ontspannen en trekt een gemengd publiek uit de regio. \nVoor bezoekers\n\nDatum: zondag 6 september 2026\nTijd: 9.15 – 15.30 uur\nLocatie: centrum van Vlierden (rondom café Thijssen\, Waagweg\, Pastoriestraat en Edisonstraat)\nEntree: €1\,00 (kinderen t/m 12 jaar gratis)\nParkeren: gratis\nAanbod: tweedehands spullen zoals kleding\, speelgoed en huisraad\nBijzonder: direct kopen en onderhandelen bij de verkoper\n\nVoor standhouders\nDe kofferbakverkoop is geschikt voor particulieren die eenvoudig hun spullen willen verkopen zonder kraam. \n\nType standplaats: verkoop vanuit auto\, bus of met aanhanger\nKosten:\n\nAuto: €10\,00\nBus: €15\,00\nAanhanger: €5\,00 extra\n\n\nOpbouw/inrijden: tussen 7.45 en 8.45 uur\nStroom aanwezig: nee\nFood toegestaan: nee\nAantal plekken: vol = vol\nBelangrijk: plaats wordt toegewezen\, tussentijds vertrekken met voertuig niet mogelijk\n\nDe markt trekt vooral gezinnen\, koopjeszoekers en bezoekers die op zoek zijn naar betaalbare tweedehands items. \nEen laagdrempelige markt waar kopen en verkopen samenkomen in een ontspannen setting.
URL:https://marktenmeer.nl/markt/kofferbakverkoop-vlierden-6-september-2026/
LOCATION:Vlierden\, Vlierden\, Netherlands
CATEGORIES:Noord-Brabant,Rommelmarkten,Rommelmarkten Noord-Brabant
END:VEVENT
BEGIN:VEVENT
DTSTART;TZID=Europe/Amsterdam:20260906T113000
DTEND;TZID=Europe/Amsterdam:20260906T170000
DTSTAMP:20260425T153937
CREATED:20251221T222251Z
LAST-MODIFIED:20260329T060859Z
UID:17298-1788694200-1788714000@marktenmeer.nl
SUMMARY:FleaGood Market – Eindhoven | 6 september 2026
DESCRIPTION:De FleaGood Market op zondag 6 september 2026 is een speciale editie van de FeelGood Market met extra aandacht voor tweedehands\, vintage en hergebruik. Op Strijp-S in Eindhoven draait deze dag om duurzaam snuffelen en unieke vondsten met karakter. \nBezoekers struinen langs kramen met kleding\, accessoires\, woonitems en bijzondere objecten die een tweede leven verdienen. Elk item vertelt zijn eigen verhaal. De FleaGood Market laat zien dat hergebruik niet alleen milieubewust is\, maar ook creatief en stijlvol kan zijn. Het aanbod wisselt per editie\, waardoor er altijd iets nieuws te ontdekken valt. \nNaast de markt is er ruimte om te ontspannen. Foodstands\, muziek en zitplekken zorgen voor een gezellige en laagdrempelige sfeer. De FleaGood Market trekt zowel fanatieke vintage-liefhebbers als bezoekers die gewoon zin hebben in een leuke zondagmiddag.Gratis toegankelijk.
URL:https://marktenmeer.nl/markt/fleagood-market-eindhoven-september-2026/
LOCATION:Strijp-S\, Eindhoven\, Strijp-S\, Eindhoven\, Netherlands
CATEGORIES:Noord-Brabant,Rommelmarkten,Rommelmarkten Noord-Brabant
END:VEVENT
END:VCALENDAR