BEGIN:VCALENDAR
VERSION:2.0
PRODID:-//Markten en meer - ECPv6.15.20//NONSGML v1.0//EN
CALSCALE:GREGORIAN
METHOD:PUBLISH
X-WR-CALNAME:Markten en meer
X-ORIGINAL-URL:https://marktenmeer.nl
X-WR-CALDESC:Evenementen voor Markten en meer
REFRESH-INTERVAL;VALUE=DURATION:PT1H
X-Robots-Tag:noindex
X-PUBLISHED-TTL:PT1H
BEGIN:VTIMEZONE
TZID:Europe/Amsterdam
BEGIN:DAYLIGHT
TZOFFSETFROM:+0100
TZOFFSETTO:+0200
TZNAME:CEST
DTSTART:20250330T010000
END:DAYLIGHT
BEGIN:STANDARD
TZOFFSETFROM:+0200
TZOFFSETTO:+0100
TZNAME:CET
DTSTART:20251026T010000
END:STANDARD
BEGIN:DAYLIGHT
TZOFFSETFROM:+0100
TZOFFSETTO:+0200
TZNAME:CEST
DTSTART:20260329T010000
END:DAYLIGHT
BEGIN:STANDARD
TZOFFSETFROM:+0200
TZOFFSETTO:+0100
TZNAME:CET
DTSTART:20261025T010000
END:STANDARD
BEGIN:DAYLIGHT
TZOFFSETFROM:+0100
TZOFFSETTO:+0200
TZNAME:CEST
DTSTART:20270328T010000
END:DAYLIGHT
BEGIN:STANDARD
TZOFFSETFROM:+0200
TZOFFSETTO:+0100
TZNAME:CET
DTSTART:20271031T010000
END:STANDARD
END:VTIMEZONE
BEGIN:VEVENT
DTSTART;TZID=Europe/Amsterdam:20260920T090000
DTEND;TZID=Europe/Amsterdam:20260920T160000
DTSTAMP:20260425T154236
CREATED:20260304T113604Z
LAST-MODIFIED:20260329T060858Z
UID:21346-1789894800-1789920000@marktenmeer.nl
SUMMARY:Mega Snuffelmarkt Breda – Breda – 20 september 2026
DESCRIPTION:Op zondag 20 september 2026 vindt in de evenementenhal van Breepark in Breda de Mega Snuffelmarkt Breda plaats. Deze grote snuffelmarkt in Breda staat bekend om het enorme aanbod aan tweedehands spullen\, curiosa en verzamelobjecten. De volledige hal van Breepark wordt gevuld met honderden marktkramen waar bezoekers kunnen rondstruinen op zoek naar bijzondere en betaalbare vondsten. \nMet ongeveer 500 kramen behoort deze markt tot de grotere snuffelmarkten in de regio. Het aanbod is breed en wisselend: van vintage artikelen en curiosa tot huishoudelijke spullen\, speelgoed en verzamelobjecten. Bezoekers die graag snuffelen tussen tweedehands items kunnen hier uitgebreid rondkijken en op zoek gaan naar unieke of praktische spullen. \nVoor bezoekers\nDe Mega Snuffelmarkt in Breda vindt plaats in de overdekte evenementenhal van Breepark en trekt bezoekers uit de regio en daarbuiten. \nPraktische informatie \n\nDatum: zondag 20 september 2026\nTijd: 09:00 – 16:00 uur\nLocatie: Evenementenhal Breepark\nAdres: Bavelseparklaan\nPostcode: 4817 ZX\nPlaats: Breda\nType markt: snuffelmarkt / tweedehandsmarkt\nEntree: €6 voor volwassenen\nParkeren: gratis\nAantal kramen: circa 500\n\nBezoekers vinden er een grote variatie aan tweedehands spullen\, curiosa\, vintage items en verzamelobjecten. Dankzij de overdekte locatie kan de markt onder alle weersomstandigheden plaatsvinden. \nVoor standhouders\nDe Mega Snuffelmarkt Breda biedt standhouders een plek in een grote evenementenhal met een breed publiek dat geïnteresseerd is in tweedehands artikelen en curiosa. \nKraaminformatie \n\nKraamtype: marktkraam met bovenbouw\nKraamprijs: €39\nInbrengtijd: 06:00 – 08:15 uur\nOpening markt: 09:00 – 16:00 uur\nLocatie: Evenementenhal Breepark\, Breda\nAantal kramen: circa 500\nType markt: binnenmarkt\n\nDoor de omvang van het evenement en de centrale locatie in Breda trekt deze snuffelmarkt een groot aantal bezoekers. \nEen bezoek aan de Mega Snuffelmarkt Breda biedt een uitgebreide binnenmarkt met een breed aanbod aan tweedehands en vintage spullen.
URL:https://marktenmeer.nl/markt/mega-snuffelmarkt-breda-20-september-2026/
LOCATION:Breepark Evenementenhal\, Breda\, Bavelseparklaan\, Breda\, Netherlands
CATEGORIES:Noord-Brabant,Rommelmarkten,Rommelmarkten Noord-Brabant
END:VEVENT
BEGIN:VEVENT
DTSTART;TZID=Europe/Amsterdam:20260920T100000
DTEND;TZID=Europe/Amsterdam:20260920T160000
DTSTAMP:20260425T154236
CREATED:20260308T084803Z
LAST-MODIFIED:20260329T060858Z
UID:21762-1789898400-1789920000@marktenmeer.nl
SUMMARY:Rommelmarkt SCC De Helftheuvel – Den Bosch – 20 september 2026
DESCRIPTION:Op zondag 20 september 2026 vindt in S.C.C. De Helftheuvel in Den Bosch een rommelmarkt plaats. Tijdens deze snuffelmarkt kunnen bezoekers langs verschillende stands wandelen waar particulieren hun tweedehands spullen aanbieden. Rommelmarkten zijn populair bij bezoekers die graag op zoek gaan naar koopjes\, curiosa en bijzondere vondsten. \nDe markt heeft een kleinschalige en toegankelijke opzet. Standhouders verkopen hun spullen vanaf compacte verkoopplaatsen\, waardoor er een gevarieerd aanbod ontstaat van tweedehands artikelen\, verzamelobjecten en andere gebruikte goederen. Dit soort markten trekt vaak bezoekers uit de wijk en uit andere delen van Den Bosch. \nVoor bezoekers\nDe rommelmarkt wordt georganiseerd in Sociaal Cultureel Centrum De Helftheuvel\, gelegen aan de Helftheuvelpassage in Den Bosch. \nPraktische informatie: \n\nDatum: zondag 20 september 2026\nTijd: 10:00 – 16:00 uur\nPlaats: Den Bosch\nLocatie: S.C.C. De Helftheuvel\, Helftheuvelpassage 115\, 5224 AC Den Bosch\nEntree: €1\,50\n\nBezoekers kunnen langs verschillende stands lopen waar tweedehands spullen\, curiosa en andere gebruikte artikelen worden verkocht. \nVoor standhouders\nTijdens de rommelmarkt zijn er standplaatsen beschikbaar voor particulieren die hun tweedehands spullen willen verkopen. \nPraktische informatie voor standhouders: \n\nStandruimte: 200 cm\nPrijs standplaats: €15\,00\n\nDe rommelmarkt trekt bezoekers uit Den Bosch en omliggende wijken en biedt een laagdrempelige plek om tweedehands spullen te verkopen. \nDe rommelmarkt bij S.C.C. De Helftheuvel is een snuffelmarkt waar bezoekers en verkopers samenkomen voor een dag vol tweedehands vondsten.
URL:https://marktenmeer.nl/markt/rommelmarkt-scc-de-helftheuvel-den-bosch-20-september-2026/
LOCATION:S.C.C. De Helftheuvel\, Den Bosch\, Helftheuvelpassage 115\, Den Bosch\, Netherlands
CATEGORIES:Noord-Brabant,Rommelmarkten,Rommelmarkten Noord-Brabant
END:VEVENT
BEGIN:VEVENT
DTSTART;TZID=Europe/Amsterdam:20260920T100000
DTEND;TZID=Europe/Amsterdam:20260920T170000
DTSTAMP:20260425T154236
CREATED:20260222T084035Z
LAST-MODIFIED:20260329T060858Z
UID:19968-1789898400-1789923600@marktenmeer.nl
SUMMARY:Kruisstraat Braderie & Snuffelmarkt – 20 september 2026 – Eindhoven
DESCRIPTION:Op zondag 20 september 2026 keert de Kruisstraat Braderie terug op de agenda. Na meer dan tien jaar afwezigheid is deze bekende markt weer terug in Eindhoven. Van 10:00 tot 17:00 uur verandert de volledige Kruisstraat in één grote braderie. \nMeer dan 150 kramen vullen de straat\, terwijl alle winkels en restaurants geopend zijn. De sfeer is vergelijkbaar met Koningsdag: levendig\, drukbezocht en verspreid over de hele winkelstraat. Op het plein vindt tegelijkertijd een grote snuffelmarkt plaats met live muziek. Samen zijn straat en plein goed voor ruim 300 kramen. \nWat kunt u verwachten?\n\nGrote braderie over de hele Kruisstraat\nSnuffelmarkt op het plein\nLive muziek\nVeel horeca en kinderactiviteiten\nGeopende winkels en terrassen\n\nDeze markt combineert winkelen\, snuffelen en ontmoeten op één centrale locatie in Eindhoven. \nPraktische informatie\n\nDatum: zondag 20 september 2026\nTijd: 10:00 – 17:00 uur\nLocatie: Kruisstraat en plein\, Eindhoven\nToegang: gratis\nParkeren: in en rondom het centrum\n\nInformatie voor standhouders\n\nMarktkraam 4 meter braderie (incl. kapzeil): € 40\,00\nGrondplaats 4 meter braderie: € 40\,00\nMarktkraam 4 meter snuffelmarkt plein (incl. kapzeil): € 30\,00\nStroom: via de EasyPower-app van de gemeente Eindhoven\n\nReserveren vooraf is noodzakelijk.
URL:https://marktenmeer.nl/markt/kruisstraat-braderie-20-september-2026-eindhoven/
LOCATION:Eindhoven\, Eindhoven\, Netherlands
CATEGORIES:Braderie Noord-Brabant,Braderieën,Noord-Brabant,Rommelmarkten,Rommelmarkten Noord-Brabant
END:VEVENT
END:VCALENDAR