BEGIN:VCALENDAR
VERSION:2.0
PRODID:-//Markten en meer - ECPv6.15.20//NONSGML v1.0//EN
CALSCALE:GREGORIAN
METHOD:PUBLISH
X-ORIGINAL-URL:https://marktenmeer.nl
X-WR-CALDESC:Evenementen voor Markten en meer
REFRESH-INTERVAL;VALUE=DURATION:PT1H
X-Robots-Tag:noindex
X-PUBLISHED-TTL:PT1H
BEGIN:VTIMEZONE
TZID:Europe/Amsterdam
BEGIN:DAYLIGHT
TZOFFSETFROM:+0100
TZOFFSETTO:+0200
TZNAME:CEST
DTSTART:20250330T010000
END:DAYLIGHT
BEGIN:STANDARD
TZOFFSETFROM:+0200
TZOFFSETTO:+0100
TZNAME:CET
DTSTART:20251026T010000
END:STANDARD
BEGIN:DAYLIGHT
TZOFFSETFROM:+0100
TZOFFSETTO:+0200
TZNAME:CEST
DTSTART:20260329T010000
END:DAYLIGHT
BEGIN:STANDARD
TZOFFSETFROM:+0200
TZOFFSETTO:+0100
TZNAME:CET
DTSTART:20261025T010000
END:STANDARD
BEGIN:DAYLIGHT
TZOFFSETFROM:+0100
TZOFFSETTO:+0200
TZNAME:CEST
DTSTART:20270328T010000
END:DAYLIGHT
BEGIN:STANDARD
TZOFFSETFROM:+0200
TZOFFSETTO:+0100
TZNAME:CET
DTSTART:20271031T010000
END:STANDARD
END:VTIMEZONE
BEGIN:VEVENT
DTSTART;TZID=Europe/Amsterdam:20260927T090000
DTEND;TZID=Europe/Amsterdam:20260927T160000
DTSTAMP:20260423T143553
CREATED:20260304T114639Z
LAST-MODIFIED:20260329T060841Z
UID:21350-1790499600-1790524800@marktenmeer.nl
SUMMARY:Snuffelmarkt Brabanthallen Den Bosch – Den Bosch – 27 september 2026
DESCRIPTION:Op zondag 27 september 2026 vindt in de Brabanthallen in Den Bosch de Snuffelmarkt Brabanthallen plaats. Deze grote snuffelmarkt in Den Bosch biedt een uitgebreid aanbod aan tweedehands spullen\, curiosa en vintage artikelen. In de ruime evenementenhal staan vele kramen waar bezoekers rustig kunnen rondstruinen op zoek naar bijzondere of praktische vondsten. \nDe snuffelmarkt trekt bezoekers die graag tussen tweedehands artikelen zoeken naar iets unieks. Het aanbod is gevarieerd en wisselt per editie. Van vintage woonaccessoires en verzamelobjecten tot huishoudelijke artikelen\, speelgoed en boeken: er is een brede mix aan spullen te vinden. Dankzij de overdekte locatie kan de markt onder alle weersomstandigheden plaatsvinden. \nVoor bezoekers\nDe snuffelmarkt in de Brabanthallen in Den Bosch is een overdekte markt met een breed aanbod aan tweedehands en vintage artikelen. \nPraktische informatie \n\nDatum: zondag 27 september 2026\nTijd: 09:00 – 16:00 uur\nLocatie: Brabanthallen\nAdres: Diezekade 2\nPostcode: 5222 AK\nPlaats: Den Bosch\nType markt: snuffelmarkt / tweedehandsmarkt\nEntree: €6 voor volwassenen\nParkeren: gratis\n\nBezoekers kunnen er tweedehands spullen\, curiosa\, vintage artikelen en verschillende verzamelobjecten vinden. Door de grote hal is er voldoende ruimte om langs de kramen te lopen en het aanbod te bekijken. \nVoor standhouders\nDe Snuffelmarkt Brabanthallen biedt standhouders een plek in een grote evenementenhal met een breed publiek dat geïnteresseerd is in tweedehands spullen en curiosa. \nKraaminformatie \n\nKraamtype: marktkraam met bovenbouw\nKraamprijs: €39\nInbrengtijd: 06:00 – 08:15 uur\nOpening markt: 09:00 – 16:00 uur\nLocatie: Brabanthallen\, Den Bosch\nType markt: binnenmarkt\n\nDe markt biedt standhouders een overdekte locatie met bezoekers uit Den Bosch en de omliggende regio. \nEen bezoek aan de Snuffelmarkt Brabanthallen Den Bosch biedt een ruime binnenmarkt met een gevarieerd aanbod aan tweedehands artikelen.
URL:https://marktenmeer.nl/markt/snuffelmarkt-brabanthallen-den-bosch-27-september-2026/
LOCATION:Brabant Hallen\, Den Bosch\, Diezekade 2\, Den Bosch\, Netherlands
CATEGORIES:Noord-Brabant,Rommelmarkten,Rommelmarkten Noord-Brabant
END:VEVENT
BEGIN:VEVENT
DTSTART;TZID=Europe/Amsterdam:20260927T100000
DTEND;TZID=Europe/Amsterdam:20260927T160000
DTSTAMP:20260423T143553
CREATED:20260123T090412Z
LAST-MODIFIED:20260329T060841Z
UID:18825-1790503200-1790524800@marktenmeer.nl
SUMMARY:Vlooienmarkt Tilburg – 27 september 2026 | Parkeerterrein Westermarkt\, Tilburg
DESCRIPTION:Op zondag 27 september 2026 wordt de vlooienmarkt georganiseerd op het parkeerterrein van winkelcentrum Westermarkt in Tilburg. Deze markt vindt plaats als buitenmarkt en is vrij toegankelijk voor bezoekers. \nDe markt is geopend van 10:00 tot 16:00 uur. Dankzij de centrale ligging bij het winkelcentrum is deze vlooienmarkt laagdrempelig en goed bereikbaar. Veel bezoekers combineren een rondje langs de kramen met winkelen of een korte pauze op het plein. Het aanbod bestaat uit uiteenlopende tweedehands spullen\, zoals kleding\, speelgoed\, huisraad\, woonaccessoires en praktische gebruiksartikelen. \nPraktische informatie\n\nLocatie: Parkeerterrein WC Westermarkt\, Statenlaan\, 5042 SZ Tilburg\nEntree: gratis toegang\nType markt: Buitenmarkt\nKraamhuur: vanaf €40\,-\nExtra: auto kan achter de kraam\n\nWat kun je verwachten?\nOmdat de markt gratis toegankelijk is\, trekt zij een breed publiek\, waaronder winkelend publiek en buurtbewoners. Dit zorgt voor een constante doorloop gedurende de dag. Voor standhouders is het praktisch dat de auto achter de kraam kan staan\, wat het opbouwen en verkopen van grotere spullen eenvoudiger maakt. Houd rekening met weersomstandigheden\, aangezien het een buitenmarkt betreft.
URL:https://marktenmeer.nl/markt/vlooienmarkt-tilburg-westermarkt-27-september-2026/
LOCATION:Tilburg\, Tilburg\, Netherlands
CATEGORIES:Noord-Brabant,Rommelmarkten,Rommelmarkten Noord-Brabant
END:VEVENT
END:VCALENDAR