BEGIN:VCALENDAR
VERSION:2.0
PRODID:-//Markten en meer - ECPv6.15.20//NONSGML v1.0//EN
CALSCALE:GREGORIAN
METHOD:PUBLISH
X-WR-CALNAME:Markten en meer
X-ORIGINAL-URL:https://marktenmeer.nl
X-WR-CALDESC:Evenementen voor Markten en meer
REFRESH-INTERVAL;VALUE=DURATION:PT1H
X-Robots-Tag:noindex
X-PUBLISHED-TTL:PT1H
BEGIN:VTIMEZONE
TZID:Europe/Amsterdam
BEGIN:DAYLIGHT
TZOFFSETFROM:+0100
TZOFFSETTO:+0200
TZNAME:CEST
DTSTART:20250330T010000
END:DAYLIGHT
BEGIN:STANDARD
TZOFFSETFROM:+0200
TZOFFSETTO:+0100
TZNAME:CET
DTSTART:20251026T010000
END:STANDARD
BEGIN:DAYLIGHT
TZOFFSETFROM:+0100
TZOFFSETTO:+0200
TZNAME:CEST
DTSTART:20260329T010000
END:DAYLIGHT
BEGIN:STANDARD
TZOFFSETFROM:+0200
TZOFFSETTO:+0100
TZNAME:CET
DTSTART:20261025T010000
END:STANDARD
BEGIN:DAYLIGHT
TZOFFSETFROM:+0100
TZOFFSETTO:+0200
TZNAME:CEST
DTSTART:20270328T010000
END:DAYLIGHT
BEGIN:STANDARD
TZOFFSETFROM:+0200
TZOFFSETTO:+0100
TZNAME:CET
DTSTART:20271031T010000
END:STANDARD
END:VTIMEZONE
BEGIN:VEVENT
DTSTART;TZID=Europe/Amsterdam:20261018T090000
DTEND;TZID=Europe/Amsterdam:20261018T160000
DTSTAMP:20260421T225310
CREATED:20260304T115338Z
LAST-MODIFIED:20260329T060840Z
UID:21356-1792314000-1792339200@marktenmeer.nl
SUMMARY:Mega Snuffelmarkt Autotron Rosmalen – Rosmalen – 18 oktober 2026
DESCRIPTION:Op zondag 18 oktober 2026 vindt in het Autotron in Rosmalen de Mega Snuffelmarkt Autotron Rosmalen plaats. Deze grote snuffelmarkt in Rosmalen brengt honderden standhouders samen met een breed aanbod aan tweedehands spullen\, curiosa en vintage artikelen. In de ruime evenementenlocatie van het Autotron kunnen bezoekers rustig rondwandelen langs de vele kramen en op zoek gaan naar bijzondere vondsten. \nMet ongeveer 350 kramen biedt deze snuffelmarkt een gevarieerd aanbod aan oude en gebruikte spullen. Bezoekers vinden er onder andere brocante\, curiosa\, verzamelobjecten en tweedehands artikelen uit verschillende tijdperken. Sommige kramen bieden persoonlijke spullen aan uit huis of zolder\, terwijl andere standhouders zich richten op verzamelingen en vintage artikelen. Tussendoor zijn er plekken waar bezoekers iets kunnen eten of drinken. \nVoor bezoekers\nDe Mega Snuffelmarkt in Autotron Rosmalen is een overdekte markt met een groot aanbod aan tweedehands spullen en curiosa. \nPraktische informatie \n\nDatum: zondag 18 oktober 2026\nTijd: 09:00 – 16:00 uur\nLocatie: Autotron Rosmalen\nAdres: Graafsebaan 133\nPostcode: 5248 NL\nPlaats: Rosmalen\nType markt: snuffelmarkt / tweedehandsmarkt\nEntree: €6 voor volwassenen\nParkeren: gratis\nAantal kramen: circa 350\n\nBezoekers kunnen er tweedehands spullen\, brocante\, curiosa\, vintage artikelen en verzamelobjecten vinden. Door de overdekte locatie kan de markt onder alle weersomstandigheden plaatsvinden. \nVoor standhouders\nDe Mega Snuffelmarkt in Autotron Rosmalen biedt standhouders een plek op een grote snuffelmarkt met een breed publiek dat geïnteresseerd is in tweedehands en vintage spullen. \nKraaminformatie \n\nKraamtype: marktkraam met bovenbouw\nKraamprijs: €39\nInbrengtijd: 06:00 – 08:15 uur\nOpening markt: 09:00 – 16:00 uur\nLocatie: Autotron Rosmalen\nAantal kramen: circa 350\n\nDoor de omvang van de markt en de centrale locatie trekt dit evenement bezoekers uit Rosmalen\, Den Bosch en de omliggende regio. \nEen bezoek aan de Mega Snuffelmarkt Autotron Rosmalen biedt een grote markt met een gevarieerd aanbod aan tweedehands en vintage artikelen.
URL:https://marktenmeer.nl/markt/snuffelmarkt-autotron-rosmalen-18-oktober-2026/
LOCATION:Autotron Rosmalen\, Graafsebaan 133\, Rosmalen\, 5248 NL\, Netherlands
CATEGORIES:Noord-Brabant,Rommelmarkten,Rommelmarkten Noord-Brabant
END:VEVENT
BEGIN:VEVENT
DTSTART;TZID=Europe/Amsterdam:20261018T100000
DTEND;TZID=Europe/Amsterdam:20261018T160000
DTSTAMP:20260421T225310
CREATED:20260308T085542Z
LAST-MODIFIED:20260329T060840Z
UID:21767-1792317600-1792339200@marktenmeer.nl
SUMMARY:Rommelmarkt Wijkcentrum Windkracht5 – Rosmalen – 18 oktober 2026
DESCRIPTION:Op zondag 18 oktober 2026 vindt in Wijkcentrum Windkracht5 in Rosmalen een rommelmarkt plaats. Tijdens deze snuffelmarkt bieden particulieren hun tweedehands spullen aan vanaf compacte standplaatsen. Bezoekers kunnen rustig langs de stands wandelen en op zoek gaan naar koopjes\, curiosa en andere bijzondere vondsten. \nRommelmarkten zoals deze trekken vaak bezoekers uit de buurt en uit omliggende plaatsen. Het aanbod varieert per editie en bestaat doorgaans uit tweedehands spullen\, verzamelobjecten en andere gebruikte artikelen. \nVoor bezoekers\nDe rommelmarkt wordt georganiseerd in Wijkcentrum Windkracht5 aan de Deltalaan in Rosmalen. \nPraktische informatie: \n\nDatum: zondag 18 oktober 2026\nTijd: 10:00 – 16:00 uur\nPlaats: Rosmalen\nLocatie: Wijkcentrum Windkracht5\, Deltalaan 140\, 5247 JT Rosmalen\nEntree: €1\,50\n\nBezoekers kunnen langs verschillende stands lopen waar tweedehands spullen\, curiosa en andere gebruikte artikelen worden verkocht. \nVoor standhouders\nTijdens de rommelmarkt zijn er standplaatsen beschikbaar voor particulieren die hun tweedehands spullen willen verkopen. \nPraktische informatie voor standhouders: \n\nStandruimte: 200 cm\nPrijs standplaats: €15\,00\n\nDe rommelmarkt trekt bezoekers uit Rosmalen en omliggende wijken en biedt een laagdrempelige plek om tweedehands spullen te verkopen. \nDe rommelmarkt in Wijkcentrum Windkracht5 is een snuffelmarkt waar bezoekers kunnen zoeken naar tweedehands vondsten en koopjes.
URL:https://marktenmeer.nl/markt/rommelmarkt-windkracht5-rosmalen-18-oktober-2026/
LOCATION:Wijkcentrum Windkracht5\, Rosmalen\, Deltalaan 140\, Rosmalen\, Netherlands
CATEGORIES:Noord-Brabant,Rommelmarkten,Rommelmarkten Noord-Brabant
END:VEVENT
BEGIN:VEVENT
DTSTART;TZID=Europe/Amsterdam:20261018T100000
DTEND;TZID=Europe/Amsterdam:20261018T170000
DTSTAMP:20260421T225310
CREATED:20260222T084526Z
LAST-MODIFIED:20260329T060840Z
UID:19972-1792317600-1792342800@marktenmeer.nl
SUMMARY:Geldrop luidt de herfst in – 18 oktober 2026 – Centrum Geldrop
DESCRIPTION:Op zondag 18 oktober 2026 staat het centrum van Geldrop in het teken van het jaarlijkse evenement Geldrop luidt de herfst in. Van 10:00 tot 17:00 uur vullen maar liefst 300 kramen het centrum en het plein. \nDoor het hele centrum vindt een uitgebreide braderie plaats met een gevarieerd aanbod aan producten. Op het plein is een aparte rommelmarkt ingericht voor liefhebbers van tweedehands vondsten en zolderopruimingen. Deze combinatie maakt het evenement aantrekkelijk voor een breed publiek. \nNaast de markt zijn er diverse foodtrucks aanwezig en is er kinder­vermaak verspreid over het centrum. De horeca en winkels zijn geopend\, waardoor bezoekers hun dag eenvoudig kunnen combineren met winkelen en ontspannen op het terras. \nTijdens Geldrop luidt de herfst in op zondag 18 oktober 2026 (10:00 – 17:00 uur) is er een speciale Kinder Speelgoed Markt toegevoegd aan het programma. \nDeze kinderrommelmarkt is uitsluitend bedoeld voor kinderen tot en met 16 jaar. Zij krijgen de kans om hun eigen speelgoed\, kinderboeken en kinderkleding te verkopen. Begeleiding door een volwassene is toegestaan. \nDe Kinder Speelgoed Markt maakt onderdeel uit van het grote evenement in het centrum van Geldrop en zorgt voor extra sfeer en betrokkenheid van jonge deelnemers. \nDit evenement is uitgegroeid tot een vaste waarde in Geldrop en trekt jaarlijks veel bezoekers. \nPraktische informatie\n\nDatum: zondag 18 oktober 2026\nTijd: 10:00 – 17:00 uur\nLocatie: centrum van Geldrop\nToegang: gratis\nParkeren: in en rondom het centrum\n\nInformatie voor standhouders\n\nBraderie kraam 4 meter: € 40\,00\nBraderie grondplaats 4 meter: € 40\,00\nRommelmarkt kraam 4 meter: € 30\,00\nRommelmarkt grondplaats 4 meter: € 30\,00\n\nVoor deelname is vooraf reserveren noodzakelijk.
URL:https://marktenmeer.nl/markt/geldrop-luidt-de-herfst-in-18-oktober-2026/
LOCATION:Geldrop\, Geldrop\, Netherlands
CATEGORIES:Braderie Noord-Brabant,Braderieën,Noord-Brabant,Rommelmarkten,Rommelmarkten Noord-Brabant
END:VEVENT
END:VCALENDAR