BEGIN:VCALENDAR
VERSION:2.0
PRODID:-//Markten en meer - ECPv6.15.20//NONSGML v1.0//EN
CALSCALE:GREGORIAN
METHOD:PUBLISH
X-WR-CALNAME:Markten en meer
X-ORIGINAL-URL:https://marktenmeer.nl
X-WR-CALDESC:Evenementen voor Markten en meer
REFRESH-INTERVAL;VALUE=DURATION:PT1H
X-Robots-Tag:noindex
X-PUBLISHED-TTL:PT1H
BEGIN:VTIMEZONE
TZID:Europe/Amsterdam
BEGIN:DAYLIGHT
TZOFFSETFROM:+0100
TZOFFSETTO:+0200
TZNAME:CEST
DTSTART:20250330T010000
END:DAYLIGHT
BEGIN:STANDARD
TZOFFSETFROM:+0200
TZOFFSETTO:+0100
TZNAME:CET
DTSTART:20251026T010000
END:STANDARD
BEGIN:DAYLIGHT
TZOFFSETFROM:+0100
TZOFFSETTO:+0200
TZNAME:CEST
DTSTART:20260329T010000
END:DAYLIGHT
BEGIN:STANDARD
TZOFFSETFROM:+0200
TZOFFSETTO:+0100
TZNAME:CET
DTSTART:20261025T010000
END:STANDARD
BEGIN:DAYLIGHT
TZOFFSETFROM:+0100
TZOFFSETTO:+0200
TZNAME:CEST
DTSTART:20270328T010000
END:DAYLIGHT
BEGIN:STANDARD
TZOFFSETFROM:+0200
TZOFFSETTO:+0100
TZNAME:CET
DTSTART:20271031T010000
END:STANDARD
END:VTIMEZONE
BEGIN:VEVENT
DTSTART;TZID=Europe/Amsterdam:20261025T090000
DTEND;TZID=Europe/Amsterdam:20261025T160000
DTSTAMP:20260421T225406
CREATED:20260304T115809Z
LAST-MODIFIED:20260329T060826Z
UID:21360-1792918800-1792944000@marktenmeer.nl
SUMMARY:Mega Snuffelmarkt Breda – Breda – 25 oktober 2026
DESCRIPTION:Op zondag 25 oktober 2026 vindt in de evenementenhal van Breepark in Breda de Mega Snuffelmarkt Breda plaats. Deze grote snuffelmarkt in Breda staat bekend om het uitgebreide aanbod aan tweedehands spullen\, curiosa en vintage artikelen. In de ruime evenementenhal staan honderden kramen waar bezoekers rustig kunnen rondstruinen en op zoek kunnen gaan naar bijzondere vondsten. \nMet ongeveer 500 kramen behoort deze markt tot de grotere snuffelmarkten in de regio. Het aanbod is breed en wisselt per editie. Bezoekers kunnen er onder andere vintage spullen\, curiosa\, brocante en diverse tweedehands artikelen vinden. Door de overdekte locatie in Breepark is de markt goed toegankelijk en kan deze onder alle weersomstandigheden plaatsvinden. \nVoor bezoekers\nDe Mega Snuffelmarkt in Breda is een overdekte markt met een groot aanbod aan tweedehands en vintage artikelen. \nPraktische informatie \n\nDatum: zondag 25 oktober 2026\nTijd: 09:00 – 16:00 uur\nLocatie: Evenementenhal Breepark\nAdres: Bavelseparklaan\nPostcode: 4817 ZX\nPlaats: Breda\nType markt: snuffelmarkt / tweedehandsmarkt\nEntree: €6 voor volwassenen\nParkeren: gratis\nAantal kramen: circa 500\n\nBezoekers kunnen er tweedehands spullen\, curiosa\, vintage artikelen en verschillende verzamelobjecten vinden. De markt vindt plaats in de evenementenhal van Breepark\, waardoor er ruim voldoende plek is om langs de kramen te lopen. \nVoor standhouders\nDe Mega Snuffelmarkt Breda biedt standhouders een plek in een grote evenementenhal met een breed publiek dat geïnteresseerd is in tweedehands spullen en curiosa. \nKraaminformatie \n\nKraamtype: marktkraam met bovenbouw\nKraamprijs: €39\nInbrengtijd: 06:00 – 08:15 uur\nOpening markt: 09:00 – 16:00 uur\nLocatie: Evenementenhal Breepark\, Breda\nAantal kramen: circa 500\nType markt: binnenmarkt\n\nDoor de omvang van het evenement en de centrale locatie trekt deze snuffelmarkt bezoekers uit Breda en de omliggende regio. \nEen bezoek aan de Mega Snuffelmarkt Breda biedt een grote binnenmarkt met een gevarieerd aanbod aan tweedehands en vintage artikelen.
URL:https://marktenmeer.nl/markt/mega-snuffelmarkt-breda-25-oktober-2026/
LOCATION:Breepark Evenementenhal\, Breda\, Bavelseparklaan\, Breda\, Netherlands
CATEGORIES:Noord-Brabant,Rommelmarkten,Rommelmarkten Noord-Brabant
END:VEVENT
BEGIN:VEVENT
DTSTART;TZID=Europe/Amsterdam:20261025T090000
DTEND;TZID=Europe/Amsterdam:20261025T160000
DTSTAMP:20260421T225406
CREATED:20260304T120127Z
LAST-MODIFIED:20260329T060826Z
UID:21362-1792918800-1792944000@marktenmeer.nl
SUMMARY:Snuffelmarkt Veldhoven – Veldhoven – 25 oktober 2026
DESCRIPTION:Op zondag 25 oktober 2026 vindt in NH Koningshof in Veldhoven de Snuffelmarkt Veldhoven plaats. Deze grote snuffel- en vlooienmarkt in Veldhoven is een terugkerend evenement waar bezoekers kunnen rondstruinen tussen een groot aanbod aan tweedehands spullen\, curiosa en vintage artikelen. In het congrescentrum staan vele kramen opgesteld waar particulieren en handelaren hun gebruikte en verzamelde spullen aanbieden. \nDe markt staat bekend om het gevarieerde aanbod. Veel standhouders verkopen spullen uit zolders\, garages en verzamelingen\, waardoor bezoekers regelmatig onverwachte vondsten kunnen doen. Van antiek en brocante tot kleding\, boeken en huishoudelijke artikelen: de variatie aan tweedehands goederen maakt het voor veel bezoekers aantrekkelijk om rustig langs de kramen te lopen en te zoeken naar iets bijzonders. \nVoor bezoekers\nDe snuffelmarkt in NH Koningshof Veldhoven is een overdekte markt met een breed aanbod aan tweedehands spullen en curiosa. \nPraktische informatie \n\nDatum: zondag 25 oktober 2026\nTijd: 09:00 – 16:00 uur\nLocatie: NH Koningshof\nAdres: Locht 117\nPostcode: 5504 RM\nPlaats: Veldhoven\nType markt: snuffelmarkt / vlooienmarkt\nEntree: €4\,50 voor volwassenen\nKinderen t/m 12 jaar: gratis onder begeleiding\nParkeren: gratis\n\nBezoekers vinden er onder andere tweedehands spullen\, antiek\, brocante\, kleding\, boeken en diverse verzamelobjecten. Tijdens de markt is er ook een restaurant aanwezig waar bezoekers iets kunnen eten of drinken. \nVoor standhouders\nDe Snuffelmarkt Veldhoven biedt standhouders een plek in een grote evenementenlocatie met een publiek dat gericht komt kijken naar tweedehands spullen en curiosa. \nKraaminformatie \n\nKraamtype: marktkraam met bovenbouw\nKraamprijs: €37\nInbrengtijd: 06:00 – 08:15 uur\nOpening markt: 09:00 – 16:00 uur\nLocatie: NH Koningshof\, Veldhoven\nType markt: binnenmarkt\n\nDe markt trekt bezoekers uit Veldhoven\, Eindhoven en de omliggende regio die op zoek zijn naar tweedehands artikelen en bijzondere vondsten. \nEen bezoek aan de Snuffelmarkt Veldhoven biedt een ruime binnenmarkt met een gevarieerd aanbod aan tweedehands en vintage spullen.
URL:https://marktenmeer.nl/markt/snuffelmarkt-veldhoven-25-oktober-2026/
LOCATION:Tuinen NH Koningshof\, Veldhoven\, Veldhoven\, Netherlands
CATEGORIES:Noord-Brabant,Rommelmarkten,Rommelmarkten Noord-Brabant
END:VEVENT
BEGIN:VEVENT
DTSTART;TZID=Europe/Amsterdam:20261025T100000
DTEND;TZID=Europe/Amsterdam:20261025T160000
DTSTAMP:20260421T225406
CREATED:20260308T085738Z
LAST-MODIFIED:20260329T060826Z
UID:21769-1792922400-1792944000@marktenmeer.nl
SUMMARY:Rommelmarkt SCC De Helftheuvel – Den Bosch – 25 oktober 2026
DESCRIPTION:Op zondag 25 oktober 2026 vindt in S.C.C. De Helftheuvel in Den Bosch een rommelmarkt plaats. Tijdens deze snuffelmarkt kunnen bezoekers langs verschillende stands wandelen waar particulieren hun tweedehands spullen aanbieden. Rommelmarkten zijn populair bij mensen die graag op zoek gaan naar koopjes\, curiosa en bijzondere vondsten. \nDe markt heeft een kleinschalige en toegankelijke opzet. Standhouders verkopen hun spullen vanaf compacte standplaatsen\, waardoor er een gevarieerd aanbod ontstaat van gebruikte artikelen\, verzamelobjecten en andere tweedehands goederen. Iedere editie kan het aanbod verschillen\, wat het voor bezoekers interessant maakt om rond te kijken. \nVoor bezoekers\nDe rommelmarkt wordt georganiseerd in Sociaal Cultureel Centrum De Helftheuvel\, gelegen aan de Helftheuvelpassage in Den Bosch. \nPraktische informatie: \n\nDatum: zondag 25 oktober 2026\nTijd: 10:00 – 16:00 uur\nPlaats: Den Bosch\nLocatie: S.C.C. De Helftheuvel\, Helftheuvelpassage 115\, 5224 AC Den Bosch\nEntree: €1\,50\n\nBezoekers kunnen langs verschillende stands lopen waar tweedehands spullen\, curiosa en andere gebruikte artikelen worden verkocht. \nVoor standhouders\nTijdens de rommelmarkt zijn er standplaatsen beschikbaar voor particulieren die hun tweedehands spullen willen verkopen. \nPraktische informatie voor standhouders: \n\nStandruimte: 200 cm\nPrijs standplaats: €15\,00\n\nDe rommelmarkt trekt bezoekers uit Den Bosch en omliggende wijken en biedt een laagdrempelige plek om tweedehands spullen te verkopen. \nDe rommelmarkt bij S.C.C. De Helftheuvel is een snuffelmarkt waar bezoekers en verkopers samenkomen voor een dag met tweedehands vondsten.
URL:https://marktenmeer.nl/markt/rommelmarkt-scc-de-helftheuvel-den-bosch-25-oktober-2026/
LOCATION:S.C.C. De Helftheuvel\, Den Bosch\, Helftheuvelpassage 115\, Den Bosch\, Netherlands
CATEGORIES:Noord-Brabant,Rommelmarkten,Rommelmarkten Noord-Brabant
END:VEVENT
END:VCALENDAR