BEGIN:VCALENDAR
VERSION:2.0
PRODID:-//Markten en meer - ECPv6.15.20//NONSGML v1.0//EN
CALSCALE:GREGORIAN
METHOD:PUBLISH
X-WR-CALNAME:Markten en meer
X-ORIGINAL-URL:https://marktenmeer.nl
X-WR-CALDESC:Evenementen voor Markten en meer
REFRESH-INTERVAL;VALUE=DURATION:PT1H
X-Robots-Tag:noindex
X-PUBLISHED-TTL:PT1H
BEGIN:VTIMEZONE
TZID:Europe/Amsterdam
BEGIN:DAYLIGHT
TZOFFSETFROM:+0100
TZOFFSETTO:+0200
TZNAME:CEST
DTSTART:20250330T010000
END:DAYLIGHT
BEGIN:STANDARD
TZOFFSETFROM:+0200
TZOFFSETTO:+0100
TZNAME:CET
DTSTART:20251026T010000
END:STANDARD
BEGIN:DAYLIGHT
TZOFFSETFROM:+0100
TZOFFSETTO:+0200
TZNAME:CEST
DTSTART:20260329T010000
END:DAYLIGHT
BEGIN:STANDARD
TZOFFSETFROM:+0200
TZOFFSETTO:+0100
TZNAME:CET
DTSTART:20261025T010000
END:STANDARD
BEGIN:DAYLIGHT
TZOFFSETFROM:+0100
TZOFFSETTO:+0200
TZNAME:CEST
DTSTART:20270328T010000
END:DAYLIGHT
BEGIN:STANDARD
TZOFFSETFROM:+0200
TZOFFSETTO:+0100
TZNAME:CET
DTSTART:20271031T010000
END:STANDARD
END:VTIMEZONE
BEGIN:VEVENT
DTSTART;TZID=Europe/Amsterdam:20261108T100000
DTEND;TZID=Europe/Amsterdam:20261108T160000
DTSTAMP:20260422T002920
CREATED:20260308T090131Z
LAST-MODIFIED:20260329T060826Z
UID:21773-1794132000-1794153600@marktenmeer.nl
SUMMARY:Rommelmarkt Wijkcentrum Windkracht5 – Rosmalen – 8 november 2026
DESCRIPTION:Op zondag 8 november 2026 vindt in Wijkcentrum Windkracht5 in Rosmalen een rommelmarkt plaats. Tijdens deze snuffelmarkt bieden particulieren hun tweedehands spullen aan vanaf compacte standplaatsen. Bezoekers kunnen langs de stands wandelen en op zoek gaan naar koopjes\, curiosa en andere bijzondere vondsten. \nRommelmarkten trekken vaak bezoekers die graag rondkijken tussen gebruikte spullen en verzamelobjecten. Het aanbod wisselt per editie en kan bestaan uit huishoudelijke artikelen\, boeken\, speelgoed\, kleding en andere tweedehands goederen. \nVoor bezoekers\nDe rommelmarkt wordt georganiseerd in Wijkcentrum Windkracht5\, gelegen aan de Deltalaan in Rosmalen. \nPraktische informatie: \n\nDatum: zondag 8 november 2026\nTijd: 10:00 – 16:00 uur\nPlaats: Rosmalen\nLocatie: Wijkcentrum Windkracht5\, Deltalaan 140\, 5247 JT Rosmalen\nEntree: €1\,50\n\nBezoekers kunnen langs verschillende stands lopen waar tweedehands spullen en andere gebruikte artikelen worden verkocht. \nVoor standhouders\nTijdens de rommelmarkt zijn er standplaatsen beschikbaar voor particulieren die hun tweedehands spullen willen verkopen. \nPraktische informatie voor standhouders: \n\nStandruimte: 200 cm\nPrijs standplaats: €15\,00\n\nDe rommelmarkt trekt bezoekers uit Rosmalen en omliggende wijken en biedt een laagdrempelige plek om tweedehands spullen te verkopen. \nDe rommelmarkt in Wijkcentrum Windkracht5 is een snuffelmarkt waar bezoekers kunnen zoeken naar tweedehands vondsten en koopjes.
URL:https://marktenmeer.nl/markt/rommelmarkt-windkracht5-rosmalen-8-november-2026/
LOCATION:Wijkcentrum Windkracht5\, Rosmalen\, Deltalaan 140\, Rosmalen\, Netherlands
CATEGORIES:Noord-Brabant,Rommelmarkten,Rommelmarkten Noord-Brabant
END:VEVENT
END:VCALENDAR