BEGIN:VCALENDAR
VERSION:2.0
PRODID:-//Markten en meer - ECPv6.15.20//NONSGML v1.0//EN
CALSCALE:GREGORIAN
METHOD:PUBLISH
X-ORIGINAL-URL:https://marktenmeer.nl
X-WR-CALDESC:Evenementen voor Markten en meer
REFRESH-INTERVAL;VALUE=DURATION:PT1H
X-Robots-Tag:noindex
X-PUBLISHED-TTL:PT1H
BEGIN:VTIMEZONE
TZID:Europe/Amsterdam
BEGIN:DAYLIGHT
TZOFFSETFROM:+0100
TZOFFSETTO:+0200
TZNAME:CEST
DTSTART:20250330T010000
END:DAYLIGHT
BEGIN:STANDARD
TZOFFSETFROM:+0200
TZOFFSETTO:+0100
TZNAME:CET
DTSTART:20251026T010000
END:STANDARD
BEGIN:DAYLIGHT
TZOFFSETFROM:+0100
TZOFFSETTO:+0200
TZNAME:CEST
DTSTART:20260329T010000
END:DAYLIGHT
BEGIN:STANDARD
TZOFFSETFROM:+0200
TZOFFSETTO:+0100
TZNAME:CET
DTSTART:20261025T010000
END:STANDARD
BEGIN:DAYLIGHT
TZOFFSETFROM:+0100
TZOFFSETTO:+0200
TZNAME:CEST
DTSTART:20270328T010000
END:DAYLIGHT
BEGIN:STANDARD
TZOFFSETFROM:+0200
TZOFFSETTO:+0100
TZNAME:CET
DTSTART:20271031T010000
END:STANDARD
END:VTIMEZONE
BEGIN:VEVENT
DTSTART;TZID=Europe/Amsterdam:20261206T100000
DTEND;TZID=Europe/Amsterdam:20261206T160000
DTSTAMP:20260422T021553
CREATED:20260308T090517Z
LAST-MODIFIED:20260329T060826Z
UID:21777-1796551200-1796572800@marktenmeer.nl
SUMMARY:Rommelmarkt Bossche Buurt Bazaar – Den Bosch – 6 december 2026
DESCRIPTION:Op zondag 6 december 2026 vindt in Den Bosch de rommelmarkt van de Bossche Buurt Bazaar plaats. Tijdens deze snuffelmarkt verkopen particulieren hun tweedehands spullen vanaf compacte standplaatsen. Bezoekers kunnen langs de verschillende stands wandelen en op zoek gaan naar koopjes\, curiosa en andere bijzondere vondsten. \nHet aanbod op rommelmarkten wisselt per editie. Bezoekers kunnen er vaak terecht voor huishoudelijke artikelen\, boeken\, speelgoed\, kleding en diverse tweedehands goederen. Door het buurtgerichte karakter is de markt vooral populair bij bezoekers uit de wijk en uit andere delen van Den Bosch. \nVoor bezoekers\nDe rommelmarkt wordt georganiseerd aan de Bilderdijkstraat in Den Bosch en is een toegankelijke buurtmarkt voor iedereen die graag rondkijkt tussen tweedehands spullen. \nPraktische informatie: \n\nDatum: zondag 6 december 2026\nTijd: 10:00 – 16:00 uur\nPlaats: Den Bosch\nLocatie: Bilderdijkstraat 20\, 5216 TA Den Bosch\nEntree: €1\,50\n\nBezoekers kunnen langs verschillende stands lopen waar tweedehands spullen\, curiosa en andere gebruikte artikelen worden verkocht. \nVoor standhouders\nTijdens de rommelmarkt zijn er standplaatsen beschikbaar voor particulieren die hun tweedehands spullen willen verkopen. \nPraktische informatie voor standhouders: \n\nStandruimte: 200 cm\nPrijs standplaats: €15\,00\n\nDe rommelmarkt trekt bezoekers uit Den Bosch en omliggende wijken en biedt een laagdrempelige plek om tweedehands spullen te verkopen. \nDe rommelmarkt van de Bossche Buurt Bazaar is een buurtmarkt waar bezoekers kunnen snuffelen tussen tweedehands vondsten en koopjes.
URL:https://marktenmeer.nl/markt/rommelmarkt-bossche-buurt-bazaar-den-bosch-6-december-2026/
LOCATION:Bossche buurt bazaar\, Bilderdijkstraat 20\, Den-bosch\, Netherlands
CATEGORIES:Noord-Brabant,Rommelmarkten,Rommelmarkten Noord-Brabant
END:VEVENT
END:VCALENDAR