BEGIN:VCALENDAR
VERSION:2.0
PRODID:-//Markten en meer - ECPv6.15.20//NONSGML v1.0//EN
CALSCALE:GREGORIAN
METHOD:PUBLISH
X-ORIGINAL-URL:https://marktenmeer.nl
X-WR-CALDESC:Evenementen voor Markten en meer
REFRESH-INTERVAL;VALUE=DURATION:PT1H
X-Robots-Tag:noindex
X-PUBLISHED-TTL:PT1H
BEGIN:VTIMEZONE
TZID:Europe/Amsterdam
BEGIN:DAYLIGHT
TZOFFSETFROM:+0100
TZOFFSETTO:+0200
TZNAME:CEST
DTSTART:20250330T010000
END:DAYLIGHT
BEGIN:STANDARD
TZOFFSETFROM:+0200
TZOFFSETTO:+0100
TZNAME:CET
DTSTART:20251026T010000
END:STANDARD
BEGIN:DAYLIGHT
TZOFFSETFROM:+0100
TZOFFSETTO:+0200
TZNAME:CEST
DTSTART:20260329T010000
END:DAYLIGHT
BEGIN:STANDARD
TZOFFSETFROM:+0200
TZOFFSETTO:+0100
TZNAME:CET
DTSTART:20261025T010000
END:STANDARD
BEGIN:DAYLIGHT
TZOFFSETFROM:+0100
TZOFFSETTO:+0200
TZNAME:CEST
DTSTART:20270328T010000
END:DAYLIGHT
BEGIN:STANDARD
TZOFFSETFROM:+0200
TZOFFSETTO:+0100
TZNAME:CET
DTSTART:20271031T010000
END:STANDARD
END:VTIMEZONE
BEGIN:VEVENT
DTSTART;TZID=Europe/Amsterdam:20261127T120000
DTEND;TZID=Europe/Amsterdam:20261127T180000
DTSTAMP:20260421T060957
CREATED:20251126T081427Z
LAST-MODIFIED:20260329T055716Z
UID:15670-1795780800-1795802400@marktenmeer.nl
SUMMARY:Wintermarkt Oudemirdum Bruist – 27 november 2026 | Sfeervolle winterfair & Boerenstreekmarkt
DESCRIPTION:Op 27 november 2026 staat de Brink in Oudemirdum in het teken van de Wintermarkt Oudemirdum Bruist. Deze sfeervolle wintereditie combineert een fair met een sterke Boerenstreekmarkt-invulling en trekt bezoekers uit Gaasterland en de wijde regio. \nDe authentieke dorpskern\, sfeerverlichting en winterse aankleding zorgen voor een warme setting waarin bezoekers gericht komen voor cadeaus\, streekproducten en bijzondere vondsten. \n\nWat kun je verwachten?\nDe Wintermarkt Oudemirdum Bruist bestaat uit: \n\nEen winterse fair met geselecteerde standhouders\nEen Boerenstreekmarkt met lokale producten\nAmbachtelijke food en winterse lekkernijen\nGezellige terrassen en horeca op en rond de Brink\nEen gemoedelijke dorpssfeer\n\nBezoekers zoeken hier originele cadeaus\, duurzame producten en smaakvolle streekitems voor de feestdagen. \n\nWe zoeken standhouders met een winterproof aanbod\nVoor deze editie zijn we op zoek naar: \n\nBoeren en telers met streekproducten\nAmbachtelijke makers van delicatessen en winterproducten\nCreatieve ondernemers met handgemaakte cadeaus\nDuurzame\, natuurlijke en fairtrade producten\nWoonaccessoires en lifestyle-items met winteruitstraling\n\nProducten die passen bij het seizoen en een verzorgde presentatie hebben\, sluiten het beste aan bij deze markt. \n\nWaarom deelnemen aan de Wintermarkt Oudemirdum Bruist?\n\nSfeervolle locatie op de authentieke Brink\nGericht publiek dat op zoek is naar cadeaus\nSterke combinatie van fair en Boerenstreekmarkt\nVeel regionale bezoekers in aanloop naar de feestdagen\nProfessionele organisatie en duidelijke selectie\n\nDe wintereditie is geschikt voor ondernemers die zich willen positioneren in het cadeauseizoen met een kwalitatief en onderscheidend aanbod. \n\nAanmelden als standhouder\nWil je deelnemen aan de Wintermarkt Oudemirdum Bruist op 27 november 2026? \nStuur dan een e-mail met: \n\nEen korte omschrijving van je assortiment\nFoto van je kraam\nEnkele productfoto’s\n\nnaar: sa.bienevents@gmail.com \nNa ontvangst nemen we contact met je op over beschikbaarheid en verdere informatie.
URL:https://marktenmeer.nl/markt/wintermarkt-oudemirdum-bruist-27-november-2026/
LOCATION:Oudemirdum\, Oudemirdum\, Netherlands
CATEGORIES:Braderie Friesland,Braderieën,Friesland,Kerstmarkt Friesland,Kerstmarkten,Streekmarkt,Streekmarkt Friesland
END:VEVENT
BEGIN:VEVENT
DTSTART;TZID=Europe/Amsterdam:20261128T100000
DTEND;TZID=Europe/Amsterdam:20261128T150000
DTSTAMP:20260421T060957
CREATED:20260106T092825Z
LAST-MODIFIED:20260329T062613Z
UID:17934-1795860000-1795878000@marktenmeer.nl
SUMMARY:BOERenMARKT Eemnes – De Blommenhoeve – 28 november 2026
DESCRIPTION:Op zaterdag 28 november 2026 vindt de BOERenMARKT plaats bij De Blommenhoeve in Eemnes. Deze maandelijkse markt wordt georganiseerd op het erf van een karakteristieke boerderij en richt zich op (h)eerlijke\, grotendeels biologische producten. In deze periode krijgt de markt een duidelijk winterser karakter. \nDe sfeer is gemoedelijk en landelijk. Op het erf staan kramen met onder andere vers brood\, zuivel\, vlees\, honing\, oliën en andere streekproducten. Daarnaast is er een aanvullend aanbod van ambachtelijke producten zoals sieraden\, textiel en verzorgingsartikelen. Bezoekers kunnen hun bezoek combineren met een moment op het terras\, waar koffie en iets lekkers verkrijgbaar zijn. \n\n\n \nVoor bezoekers\n\nType markt: boerenmarkt / streekmarkt\nPlaats: Eemnes\nDatum: zaterdag 28 november 2026\nTijd: 10.00 – 15.00 uur\nLocatie: De Blommenhoeve\, Meentweg\, Eemnes\nEntree: gratis\nParkeren: op eigen terrein\nSfeer: landelijk en kleinschalig\nAanbod: biologische producten\, streekproducten en ambachtelijke artikelen\n\nDe markt ligt in een groene omgeving en is goed bereikbaar. \nVoor standhouders\nDe BOERenMARKT richt zich op aanbieders van (biologische) boerderijproducten en ambachtelijke producten die passen bij het karakter van de markt. \n\nType plekken: kramen en standplaatsen op het erf\nFocus: biologische en ambachtelijke producten\nDoelgroep: bezoekers met interesse in lokale en pure producten\n\nVoor deelname en actuele mogelijkheden is het raadzaam contact op te nemen met de organisatie van De Blommenhoeve. \nDe BOERenMARKT in Eemnes is een kleinschalige markt met een focus op kwaliteit\, ambacht en een landelijke sfeer.
URL:https://marktenmeer.nl/markt/cadeaumarkt-blommenhoeve-november-2026/
LOCATION:De Blommenhoeve\, Eemnes\, Meentweg 37\, Eemnes\, 3755 PA\, Netherlands
CATEGORIES:Streekmarkt,Streekmarkt Utrecht,Utrecht
END:VEVENT
BEGIN:VEVENT
DTSTART;TZID=Europe/Amsterdam:20261128T110000
DTEND;TZID=Europe/Amsterdam:20261128T170000
DTSTAMP:20260421T060957
CREATED:20260323T090057Z
LAST-MODIFIED:20260329T063123Z
UID:23415-1795863600-1795885200@marktenmeer.nl
SUMMARY:Le Marie Marché – Puur Natuur Markt Wassenaar – 28 november 2026
DESCRIPTION:Op zaterdag 28 november 2026 vindt de Puur Natuur Markt van Le Marie Marché plaats in Wassenaar. Deze markt wordt georganiseerd in de Van Hogendorpstraat en richt zich op natuurlijke\, ambachtelijke en seizoensgebonden producten. In deze periode krijgt de markt een duidelijk winterser karakter. \nDe sfeer is rustig en verzorgd. Bezoekers kunnen langs kramen wandelen met onder andere streekproducten\, delicatessen\, natuurlijke verzorgingsproducten\, sieraden en kleding van natuurlijke materialen. Het aanbod sluit aan op het seizoen en bevat producten die passen bij de aanloop naar de feestdagen. \n\n\n \nVoor bezoekers\n\nType markt: streekmarkt / lifestylemarkt\nPlaats: Wassenaar\nDatum: zaterdag 28 november 2026\nTijd: 11.00 – 17.00 uur\nLocatie: Van Hogendorpstraat\, Wassenaar\nEntree: gratis\nSfeer: natuurlijk en kleinschalig\nAanbod: streekproducten\, delicatessen\, verzorgingsproducten\, kleding en ambachtelijke items\n\nDe markt is overzichtelijk en goed te combineren met een bezoek aan de omgeving. \nVoor standhouders\nDe Puur Natuur Markt richt zich op standhouders met een passend en onderscheidend aanbod. \n\nKraam (4 meter): €82\,- per dag (excl. btw en stroom)\nGrondplek: mogelijk (afmetingen opgeven bij inschrijving)\nStroom:\n\nklein verbruik: €15\,-\nfoodtruck: €35\,-\n\n\nSelectie: op basis van product en variatie\n\nLet op: deelname is pas definitief na bevestiging van de organisatie. \nAanmelden kan via het inschrijfformulier van Le Marie Marché. \nDe Puur Natuur Markt in Wassenaar is een kleinschalige markt met een focus op natuurlijke en ambachtelijke producten.
URL:https://marktenmeer.nl/markt/puur-natuur-markt-wassenaar-28-november-2026/
LOCATION:Wassenaar\, Wassenaar\, Netherlands
CATEGORIES:belevenismarkten / lifestylemarkten,Streekmarkt,Streekmarkt Zuid-Holland,Zuid-Holland
END:VEVENT
BEGIN:VEVENT
DTSTART;TZID=Europe/Amsterdam:20261129T110000
DTEND;TZID=Europe/Amsterdam:20261129T163000
DTSTAMP:20260421T060957
CREATED:20260114T095208Z
LAST-MODIFIED:20260328T220700Z
UID:18231-1795950000-1795969800@marktenmeer.nl
SUMMARY:Heerlijk Landleven HerfstFair Exloo 2026 – zondag 29 november
DESCRIPTION:Op zondag 29 november 2026 vindt de Heerlijk Landleven HerfstFair plaats in het Hippisch Centrum Exloo\, midden in de natuur van de Drentse Hondsrug. Deze overdekte fair is dé plek om in herfstsfeer te genieten van inspiratie\, vakmanschap en gezelligheid. \nMeer dan 120 specialisten presenteren hier hun aanbod op het gebied van wol\, lifestyle en streekproducten. Denk aan handgemaakte kleding\, woondecoratie\, sieraden\, tassen\, cosmetica\, kunst en ambachtelijke lekkernijen. Een ideale fair om unieke cadeaus te vinden voor jezelf of alvast voor de feestdagen. \nDe HerfstFair is meer dan winkelen alleen. Livemuziek\, gezellige foodtrucks en de warme sfeer maken het tot een ontspannen dag uit met familie of vrienden. Het terrein is goed bereikbaar en biedt ruime parkeergelegenheid. \nEen sfeervolle fair waar passie\, kwaliteit en landelijk genieten samenkomen. \nPraktische informatie\n\n📅 Datum: zondag 29 november 2026\n⏰ Tijd: 11:00 – 16:30 uur\n📍 Locatie: Hippisch Centrum Exloo\n🎟️ Entree: gratis\n🚗 Parkeren: €5\,-
URL:https://marktenmeer.nl/markt/heerlijk-landleven-herfstfair-exloo-november-2026/
LOCATION:Hippisch Centrum Exloo\, Valtherweg 27A\, Exloo\, Netherlands
CATEGORIES:belevenismarkten / lifestylemarkten,Creatieve Markt Drenthe,Creatieve markten,Drenthe,Streekmarkt,Streekmarkt Drenthe
END:VEVENT
BEGIN:VEVENT
DTSTART;TZID=Europe/Amsterdam:20261129T110000
DTEND;TZID=Europe/Amsterdam:20261129T170000
DTSTAMP:20260421T060957
CREATED:20260104T101325Z
LAST-MODIFIED:20260329T061245Z
UID:17899-1795950000-1795971600@marktenmeer.nl
SUMMARY:Pure Markt Park Frankendael – zondag 29 november 2026
DESCRIPTION:Op zondag 29 november 2026 vindt een sfeervolle late herfsteditie van de Pure Markt plaats in Park Frankendael. Deze editie markeert de overgang naar de winterperiode en voelt knus en overzichtelijk aan. \nDe markt biedt een selectie van ambachtelijk eten en drinken\, cadeaus\, lifestyleproducten en creatieve items\, ideaal voor de eerste winterse inkopen. Veel deelnemers spelen in op het seizoen met warme dranken\, comfort food en originele producten. \nPark Frankendael blijft ook in deze periode goed toegankelijk. De paden zijn verhard en er is voldoende ruimte om rustig rond te lopen. De locatie is goed bereikbaar per fiets en openbaar vervoer. Op zondag is er gratis parkeergelegenheid. Toiletfaciliteiten zijn aanwezig op het terrein. \nPraktische informatie\n\nDatum: zondag 29 november 2026\nTijd: 11:00 – 17:00 uur\nLocatie: Hoek Middenweg / Kamerlingh Onneslaan\, Amsterdam\nToegang: gratis\nParkeren: gratis op zondag\nToiletten: aanwezig
URL:https://marktenmeer.nl/markt/pure-markt-park-frankendael-29-november-2026/
LOCATION:Park Frankendael\, Amsterdam\, Park Frankendael\, Amsterdam\, Netherlands
CATEGORIES:belevenismarkten / lifestylemarkten,Creatieve Markt Noord-Holland,Creatieve markten,Noord-Holland,Streekmarkt,Streekmarkt Noord-Holland
END:VEVENT
BEGIN:VEVENT
DTSTART;TZID=Europe/Amsterdam:20261205T110000
DTEND;TZID=Europe/Amsterdam:20261205T160000
DTSTAMP:20260421T060957
CREATED:20260216T111859Z
LAST-MODIFIED:20260329T055716Z
UID:19604-1796468400-1796486400@marktenmeer.nl
SUMMARY:Boerenmarkt in de Vijzelstraat – Zaterdag 5 december 2026 – Leeuwarden
DESCRIPTION:Op zaterdag 5 december 2026 sluit de Boerenmarkt in de Vijzelstraat het marktjaar af in Leeuwarden. Van 11.00 tot 16.00 uur wandel je langs kramen met verse\, lokale en ambachtelijke producten in een sfeervolle winterse setting. \nLokale smaken voor december\nIn december draait het om kwaliteit en smaak. Je vindt er vaste producten zoals kaas\, zuivel\, vlees\, brood\, quiches\, eieren\, honing\, soepen\, jam en gerookte paling. Daarnaast is er seizoensgroente en fruit\, passend bij de winterperiode. \nOok ambachtelijke makers zijn aanwezig met onder andere keramiek\, natuurlijke zepen\, olijfolie en andere handgemaakte producten. Daarmee is deze editie ook geschikt om een origineel decembercadeau te vinden. \nKleinschalig in historisch centrum\nDe Boerenmarkt staat bekend om het directe contact met de maker. Je hoort het verhaal achter het product en koopt bewust lokaal. De markt ligt onder de rook van de Grote Kerk en de Bonifatiuskerk\, vlak bij het Natuurmuseum Fryslân en stadspark De Prinsentuin. \nCombineer je bezoek met een wandeling door het centrum of een koffiestop in de straat. Houd er rekening mee dat sommige verse producten later op de dag uitverkocht kunnen zijn. \nPraktische informatie\n\n📍 Vijzelstraat 1\, 8911 EW Leeuwarden\n🗓 Zaterdag 5 december 2026\n⏰ 11.00 – 16.00 uur\n💶 Gratis toegang\n📅 Iedere eerste zaterdag van de maand (m.u.v. januari en augustus)\n🌧 Bij slecht weer kan de markt worden verplaatst\n\n  \n🔎 Meer markten ontdekken\nBen je op zoek naar meer leuke markten in de buurt? Bekijk ook: \n\n👉 Meer markten in Friesland\n👉 Markten dit weekend in Nederland\n👉 Alle Boerenmarkten in de Vijzelstraat\n\n 
URL:https://marktenmeer.nl/markt/boerenmarkt-vijzelstraat-leeuwarden-5-december-2026/
LOCATION:Vijzelstraat\, Leeuwarden\, Vijzelstraat 1\, Leeuwarden\, 8911 EW\, Netherlands
CATEGORIES:Friesland,Streekmarkt,Streekmarkt Friesland
END:VEVENT
BEGIN:VEVENT
DTSTART;TZID=Europe/Amsterdam:20261219T100000
DTEND;TZID=Europe/Amsterdam:20261219T150000
DTSTAMP:20260421T060957
CREATED:20260106T093000Z
LAST-MODIFIED:20260329T062613Z
UID:17936-1797674400-1797692400@marktenmeer.nl
SUMMARY:BOERenMARKT – Kerstmarkt bij De Blommenhoeve Eemnes – 19 december 2026
DESCRIPTION:Op zaterdag 19 december 2026 vindt de BOERenMARKT plaats bij De Blommenhoeve in Eemnes. Deze maandelijkse markt wordt georganiseerd op het erf van een karakteristieke boerderij en richt zich op (h)eerlijke\, grotendeels biologische producten. Deze editie valt in de winterperiode en sluit aan op de feestdagen. \nDe sfeer is rustig en landelijk. Op het erf staan kramen met onder andere vers brood\, zuivel\, vlees\, honing en andere streekproducten. Daarnaast is er een aanvullend aanbod van ambachtelijke producten zoals sieraden\, textiel en verzorgingsartikelen. Bezoekers kunnen hun bezoek combineren met een moment op het terras voor een warme drank en iets lekkers. \n\n\n \nVoor bezoekers\n\nType markt: boerenmarkt / streekmarkt\nPlaats: Eemnes\nDatum: zaterdag 26 december 2026\nTijd: 10.00 – 15.00 uur\nLocatie: De Blommenhoeve\, Meentweg\, Eemnes\nEntree: gratis\nParkeren: op eigen terrein\nSfeer: landelijk en wintergericht\nAanbod: biologische producten\, streekproducten en ambachtelijke artikelen\n\nDe markt ligt in een groene omgeving en is goed bereikbaar. \nVoor standhouders\nDe BOERenMARKT richt zich op aanbieders van (biologische) boerderijproducten en ambachtelijke producten die passen bij het karakter van de markt. \n\nType plekken: kramen en standplaatsen op het erf\nFocus: biologische en ambachtelijke producten\nDoelgroep: bezoekers met interesse in lokale en pure producten\n\nVoor deelname en actuele mogelijkheden is het raadzaam contact op te nemen met de organisatie van De Blommenhoeve. \nDe BOERenMARKT in Eemnes is een kleinschalige markt met een focus op kwaliteit\, ambacht en een landelijke sfeer.
URL:https://marktenmeer.nl/markt/boerenmarkt-kerstmarkt-de-blommenhoeve-december-2026/
LOCATION:De Blommenhoeve\, Eemnes\, Meentweg 37\, Eemnes\, 3755 PA\, Netherlands
CATEGORIES:Streekmarkt,Streekmarkt Utrecht,Utrecht
END:VEVENT
BEGIN:VEVENT
DTSTART;TZID=Europe/Amsterdam:20261219T100000
DTEND;TZID=Europe/Amsterdam:20261219T160000
DTSTAMP:20260421T060957
CREATED:20251222T084322Z
LAST-MODIFIED:20260329T061244Z
UID:17355-1797674400-1797696000@marktenmeer.nl
SUMMARY:Boer & Ambacht Markt Purmerend – 19 december 2026
DESCRIPTION:De Boer & Ambacht Markt sluit het jaar af met een speciale wintereditie op zaterdag 19 december 2026 op de Veemarkt in Purmerend. Deze editie wijkt af van de gebruikelijke locatie en krijgt daardoor een eigen karakter\, passend bij de decembermaand. \nDe markt staat volledig in het teken van ambacht\, gezelligheid en de aanloop naar de feestdagen. Bezoekers kunnen hier terecht voor handgemaakte producten\, streekwaren en items die geschikt zijn als cadeau. De sfeer is warm en uitnodigend\, met volop aandacht voor kwaliteit en persoonlijk contact. \nDe decembereditie is een geliefd moment om bewust en lokaal inkopen te doen voor de feestdagen. De Boer & Ambacht Markt biedt een rustig alternatief voor drukke winkelstraten en grootschalige kerstmarkten\, zonder de gezelligheid te verliezen. \nWaarom mag je dit niet missen?\n\nUnieke wintereditie op andere locatie\nPerfect voor lokale en ambachtelijke cadeaus\nRustige sfeer in aanloop naar de feestdagen\n\nPraktische gegevens \n\nDatum: zaterdag 19 december 2026\nTijd: 10.00 – 16.00 uur\nLocatie: Veemarkt\, Purmerend\n\nBenieuwd naar de organisatie achter de Boer & Ambacht Markt en alle bijbehorende informatie? Je vindt het volledige overzicht op Markten & Meer:👉 https://marktenmeer.nl/organisatie/boer-ambacht-markt/
URL:https://marktenmeer.nl/markt/boer-ambacht-markt-purmerend-december-2026/
LOCATION:Veemarkt\, Purmerend\, Veemarkt\, Purmerend\, Netherlands
CATEGORIES:Noord-Holland,Streekmarkt,Streekmarkt Noord-Holland
END:VEVENT
BEGIN:VEVENT
DTSTART;TZID=Europe/Amsterdam:20261219T110000
DTEND;TZID=Europe/Amsterdam:20261219T160000
DTSTAMP:20260421T060957
CREATED:20260312T102623Z
LAST-MODIFIED:20260329T061834Z
UID:22401-1797678000-1797696000@marktenmeer.nl
SUMMARY:Boerenmarkt Vilsteren – Vilsteren – 19 december 2026
DESCRIPTION:De Boerenmarkt in Vilsteren vindt plaats op zaterdag 19 december 2026 op het weitje in het centrum van het dorp\, bij de kerk. Tijdens deze markt presenteren boeren en producenten uit het Vechtdal hun streekproducten rechtstreeks aan bezoekers. De markt wordt iedere derde zaterdag van de maand georganiseerd en vormt ook in december een moment om lokale producten te kopen voor thuis of voor de feestdagen. \nOp de boerenmarkt staan ongeveer 20 producenten uit de regio met een gevarieerd aanbod aan verse en ambachtelijke producten. Bezoekers kunnen hier producten kopen die rechtstreeks van de boerderij of producent komen. Door op de boerenmarkt te kopen ondersteunen bezoekers lokale boeren en krijgen producenten een eerlijke prijs voor hun producten. \nVoor bezoekers\nPraktische informatie voor een bezoek aan deze markt in Vilsteren: \n\nNaam markt: Boerenmarkt Vilsteren\nType markt: boerenmarkt / streekproductenmarkt\nPlaats: Vilsteren\nDatum: zaterdag 19 december 2026\nTijd: 11:00 – 16:00\nLocatie: weitje in het centrum van Vilsteren\, bij de kerk\nEntree: gratis\nAantal kramen: circa 20 producenten\nAanbod: streekproducten uit het Vechtdal\n\nOp de markt zijn onder andere producten te vinden zoals: \n\nvlees van Lakenvelderrunderen en lamsvlees\nzuivel en kaas\nbrood en meel\neieren en kip\nvis\ngroente en fruit\nhoning en jam\npasta en bier\n\nHet aanbod kan per seizoen verschillen. In de winterperiode kunnen bijvoorbeeld andere producten beschikbaar zijn dan in het voorjaar of de zomer. \nVoor standhouders\nDe boerenmarkt is bedoeld voor boeren en producenten uit de regio die hun producten rechtstreeks aan bezoekers willen verkopen. \nMeer informatie voor (potentiële) kraamhouders: \n\nContactpersoon: Liesbeth Cremers\nTelefoon: 06 – 15 01 0289\n\nDe Boerenmarkt Vilsteren biedt een plek waar lokale producenten hun producten rechtstreeks aan bezoekers kunnen aanbieden.
URL:https://marktenmeer.nl/markt/boerenmarkt-vilsteren-19-december-2026/
LOCATION:Vilsteren\, Vilsteren\, Netherlands
CATEGORIES:Overijssel,Streekmarkt,Streekmarkt Overijssel
END:VEVENT
BEGIN:VEVENT
DTSTART;TZID=Europe/Amsterdam:20261220T110000
DTEND;TZID=Europe/Amsterdam:20261220T170000
DTSTAMP:20260421T060957
CREATED:20260104T101523Z
LAST-MODIFIED:20260329T061244Z
UID:17901-1797764400-1797786000@marktenmeer.nl
SUMMARY:Pure Markt Park Frankendael – zondag 20 december 2026
DESCRIPTION:Op zondag 20 december 2026 sluit de Pure Markt het jaar af met een wintereditie in Park Frankendael. Deze editie staat in het teken van gezelligheid\, winterse smaken en cadeaus voor de feestdagen. \nBezoekers vinden hier een zorgvuldig geselecteerd aanbod van ambachtelijk eten en drinken\, originele cadeaus\, lifestyleproducten\, mode en creatief werk. De sfeer is warm en uitnodigend\, ondanks het winterseizoen\, en nodigt uit om rustig rond te kijken en inspiratie op te doen voor de feestdagen. \nPark Frankendael is goed bereikbaar per fiets en openbaar vervoer. Op zondag is er gratis parkeergelegenheid in de omgeving. Toiletfaciliteiten zijn aanwezig op het terrein. Deze wintereditie is een geliefde afsluiter van het Pure Markt-jaar. \nPraktische informatie\n\nDatum: zondag 20 december 2026\nTijd: 11:00 – 17:00 uur\nLocatie: Hoek Middenweg / Kamerlingh Onneslaan\, Amsterdam\nToegang: gratis\nParkeren: gratis op zondag\nToiletten: aanwezig
URL:https://marktenmeer.nl/markt/pure-markt-park-frankendael-20-december-2026/
LOCATION:Park Frankendael\, Amsterdam\, Park Frankendael\, Amsterdam\, Netherlands
CATEGORIES:belevenismarkten / lifestylemarkten,Creatieve Markt Noord-Holland,Creatieve markten,Kerstmarkt Noord-Holland,Kerstmarkten,Noord-Holland,Streekmarkt,Streekmarkt Noord-Holland
END:VEVENT
END:VCALENDAR