BEGIN:VCALENDAR
VERSION:2.0
PRODID:-//Markten en meer - ECPv6.15.20//NONSGML v1.0//EN
CALSCALE:GREGORIAN
METHOD:PUBLISH
X-WR-CALNAME:Markten en meer
X-ORIGINAL-URL:https://marktenmeer.nl
X-WR-CALDESC:Evenementen voor Markten en meer
REFRESH-INTERVAL;VALUE=DURATION:PT1H
X-Robots-Tag:noindex
X-PUBLISHED-TTL:PT1H
BEGIN:VTIMEZONE
TZID:Europe/Amsterdam
BEGIN:DAYLIGHT
TZOFFSETFROM:+0100
TZOFFSETTO:+0200
TZNAME:CEST
DTSTART:20250330T010000
END:DAYLIGHT
BEGIN:STANDARD
TZOFFSETFROM:+0200
TZOFFSETTO:+0100
TZNAME:CET
DTSTART:20251026T010000
END:STANDARD
BEGIN:DAYLIGHT
TZOFFSETFROM:+0100
TZOFFSETTO:+0200
TZNAME:CEST
DTSTART:20260329T010000
END:DAYLIGHT
BEGIN:STANDARD
TZOFFSETFROM:+0200
TZOFFSETTO:+0100
TZNAME:CET
DTSTART:20261025T010000
END:STANDARD
BEGIN:DAYLIGHT
TZOFFSETFROM:+0100
TZOFFSETTO:+0200
TZNAME:CEST
DTSTART:20270328T010000
END:DAYLIGHT
BEGIN:STANDARD
TZOFFSETFROM:+0200
TZOFFSETTO:+0100
TZNAME:CET
DTSTART:20271031T010000
END:STANDARD
END:VTIMEZONE
BEGIN:VEVENT
DTSTART;TZID=Europe/Amsterdam:20260117T093000
DTEND;TZID=Europe/Amsterdam:20260117T133000
DTSTAMP:20260423T152106
CREATED:20260103T081428Z
LAST-MODIFIED:20260329T060336Z
UID:17792-1768642200-1768656600@marktenmeer.nl
SUMMARY:Happy New Year Markt – ’t Harde | 17 januari 2026
DESCRIPTION:Op zaterdag 17 januari 2026 wordt het nieuwe jaar feestelijk ingeluid tijdens de Happy New Year Markt in MFC Aperloo ’t Harde. Deze gezellige binnenmarkt vindt plaats in de sporthal en biedt ruimte aan zowel standhouders als bezoekers die zin hebben in een leuke en laagdrempelige markt in januari. \nDe markt is opgezet als een toegankelijke en gemoedelijke ontmoetingsplek waar je kunt rondstruinen langs verschillende tafels en grondplekken. Er zijn nog tafels en grondplekken beschikbaar\, waardoor dit evenement ook interessant is voor verkopers die last-minute willen deelnemen. \nExtra leuk: kinderen onder de 14 jaar mogen met een eigen kleedje deelnemen aan de markt om speelgoed\, kleding of zelfgemaakte spullen te verkopen. Deze kinderdeelname is gratis\, mits er vooraf wordt aangemeld en met toestemming van een ouder of verzorger. \nDe Happy New Year Markt is een fijne manier om januari goed te beginnen\, met ruimte voor kleine ondernemers\, hobbyisten en jonge verkopers. \nPraktische informatie\n\nDatum: zaterdag 17 januari 2026\nTijd: 09.30 – 13.30 uur\nLocatie: MFC Aperloo\, sporthal\nPlaats: ’t Harde\nType markt: Binnenmarkt\nBeschikbaarheid: tafels en grondplekken beschikbaar\nAanmelden / informatie: Tonja’s markten\, tonjasmarkten@outlook.com\n\n\nKinderen onder 14 jaar: \n\nGratis kleedjesmarkt\nVooraf aanmelden verplicht\nMet toestemming van ouder/verzorger
URL:https://marktenmeer.nl/markt/happy-new-year-markt-t-harde-2026/
LOCATION:MFC Aperloo\, ’t Harde\, Stadsweg 27\, 't Harde\, 8084 PH\, Netherlands
CATEGORIES:Gelderland,Rommelmarkten,Rommelmarkten Gelderland
END:VEVENT
END:VCALENDAR