BEGIN:VCALENDAR
VERSION:2.0
PRODID:-//Markten en meer - ECPv6.15.20//NONSGML v1.0//EN
CALSCALE:GREGORIAN
METHOD:PUBLISH
X-ORIGINAL-URL:https://marktenmeer.nl
X-WR-CALDESC:Evenementen voor Markten en meer
REFRESH-INTERVAL;VALUE=DURATION:PT1H
X-Robots-Tag:noindex
X-PUBLISHED-TTL:PT1H
BEGIN:VTIMEZONE
TZID:Europe/Amsterdam
BEGIN:DAYLIGHT
TZOFFSETFROM:+0100
TZOFFSETTO:+0200
TZNAME:CEST
DTSTART:20240331T010000
END:DAYLIGHT
BEGIN:STANDARD
TZOFFSETFROM:+0200
TZOFFSETTO:+0100
TZNAME:CET
DTSTART:20241027T010000
END:STANDARD
BEGIN:DAYLIGHT
TZOFFSETFROM:+0100
TZOFFSETTO:+0200
TZNAME:CEST
DTSTART:20250330T010000
END:DAYLIGHT
BEGIN:STANDARD
TZOFFSETFROM:+0200
TZOFFSETTO:+0100
TZNAME:CET
DTSTART:20251026T010000
END:STANDARD
BEGIN:DAYLIGHT
TZOFFSETFROM:+0100
TZOFFSETTO:+0200
TZNAME:CEST
DTSTART:20260329T010000
END:DAYLIGHT
BEGIN:STANDARD
TZOFFSETFROM:+0200
TZOFFSETTO:+0100
TZNAME:CET
DTSTART:20261025T010000
END:STANDARD
END:VTIMEZONE
BEGIN:VEVENT
DTSTART;TZID=Europe/Amsterdam:20251115T170000
DTEND;TZID=Europe/Amsterdam:20251115T210000
DTSTAMP:20260423T152119
CREATED:20251112T135618Z
LAST-MODIFIED:20251112T135649Z
UID:14000-1763226000-1763240400@marktenmeer.nl
SUMMARY:Herfstfestival – Sibculo – 15 november 2025
DESCRIPTION:Vier de herfst in Sibculo!Op zaterdag 15 november 2025 organiseert Restaurant van Francke het jaarlijkse Herfstfestival. Van 17.00 tot 21.00 uur staat Valkenlaan 1A in het teken van gezelligheid\, creativiteit en culinaire verrassingen. En het mooiste van alles: de entree is gratis. \nTijdens dit sfeervolle evenement ontdek je een breed aanbod aan kraampjes met handgemaakte en unieke producten. Denk aan woonaccessoires\, sieraden\, gehaakte artikelen\, kraamcadeaus\, vintage bordjes\, geurlijnen en nog veel meer. Perfect om alvast originele cadeautjes in te slaan voor de feestdagen of gewoon jezelf iets moois te gunnen. \nNaast shoppen is er volop ruimte om te genieten van lekkernijen en drankjes. Diverse standhouders verrassen je met heerlijke smaken en creatieve vondsten. Het festival is dé plek om samen met familie en vrienden de herfst te vieren\, nieuwe inspiratie op te doen en lokale ondernemers te steunen. \nDe warme sfeer\, vrolijke kraampjes en de gezellige setting van Restaurant van Francke maken dit Herfstfestival een belevenis voor jong en oud. \n📅 Datum & tijd: zaterdag 15 november 2025\, 17:00 – 21:00 uur📍 Locatie: Restaurant van Francke\, Valkenlaan 1A\, Sibculo \nKom langs\, proef de sfeer en ontdek waarom het Herfstfestival in Sibculo hét evenement is waar je bij wilt zijn! 🍁✨
URL:https://marktenmeer.nl/markt/herfstfestival-sibculo-15-november-2025-2/
LOCATION:Sibculo\, Sibculo\, Netherlands
END:VEVENT
BEGIN:VEVENT
DTSTART;TZID=Europe/Amsterdam:20251123T100000
DTEND;TZID=Europe/Amsterdam:20251123T163000
DTSTAMP:20260423T152119
CREATED:20251112T125346Z
LAST-MODIFIED:20251115T083406Z
UID:13993-1763892000-1763915400@marktenmeer.nl
SUMMARY:Vlooienmarkt & Braderie Hardenberg - 23 november 2025
DESCRIPTION:De Evenementenhal Hardenberg vormt op zondag 23 november 2025 opnieuw het decor voor de Vlooienmarkt & Braderie van Organisatieburo Vitalis.Het is dé plek voor liefhebbers van curiosa\, vintage\, tweedehands spullen en ambachtelijke producten – allemaal overdekt en comfortabel binnen. \nDe sfeervolle hal biedt ruime parkeergelegenheid\, horeca\, live muziek en zelfs een gratis kinderattractie.Met honderden stands is dit een van de grootste en gezelligste markten van Overijssel. \n📅 Datum: zondag 23 november 2025🕒 Tijd: 10:00 – 16:30 uur (kassa open vanaf 10:00)📍 Locatie: Evenementenhal Hardenberg\, Energieweg 2\, 7772 TV Hardenberg🎟️ Entree: €4\,00 (kinderen t/m 13 jaar gratis)🚗 Parkeren: Gratis
URL:https://marktenmeer.nl/markt/vlooienmarkt-braderie-hardenberg-23-november-2025-2/
LOCATION:Evenementenhal Hardenberg\, Energieweg 2\, Hardenberg\, 7772 TV\, Netherlands
CATEGORIES:Jaarmarkten,Rommelmarkten
END:VEVENT
END:VCALENDAR