BEGIN:VCALENDAR
VERSION:2.0
PRODID:-//Markten en meer - ECPv6.15.20//NONSGML v1.0//EN
CALSCALE:GREGORIAN
METHOD:PUBLISH
X-WR-CALNAME:Markten en meer
X-ORIGINAL-URL:https://marktenmeer.nl
X-WR-CALDESC:Evenementen voor Markten en meer
REFRESH-INTERVAL;VALUE=DURATION:PT1H
X-Robots-Tag:noindex
X-PUBLISHED-TTL:PT1H
BEGIN:VTIMEZONE
TZID:Europe/Amsterdam
BEGIN:DAYLIGHT
TZOFFSETFROM:+0100
TZOFFSETTO:+0200
TZNAME:CEST
DTSTART:20250330T010000
END:DAYLIGHT
BEGIN:STANDARD
TZOFFSETFROM:+0200
TZOFFSETTO:+0100
TZNAME:CET
DTSTART:20251026T010000
END:STANDARD
BEGIN:DAYLIGHT
TZOFFSETFROM:+0100
TZOFFSETTO:+0200
TZNAME:CEST
DTSTART:20260329T010000
END:DAYLIGHT
BEGIN:STANDARD
TZOFFSETFROM:+0200
TZOFFSETTO:+0100
TZNAME:CET
DTSTART:20261025T010000
END:STANDARD
BEGIN:DAYLIGHT
TZOFFSETFROM:+0100
TZOFFSETTO:+0200
TZNAME:CEST
DTSTART:20270328T010000
END:DAYLIGHT
BEGIN:STANDARD
TZOFFSETFROM:+0200
TZOFFSETTO:+0100
TZNAME:CET
DTSTART:20271031T010000
END:STANDARD
END:VTIMEZONE
BEGIN:VEVENT
DTSTART;TZID=Europe/Amsterdam:20260926T100000
DTEND;TZID=Europe/Amsterdam:20260926T170000
DTSTAMP:20260423T152056
CREATED:20251121T164355Z
LAST-MODIFIED:20260329T061835Z
UID:15331-1790416800-1790442000@marktenmeer.nl
SUMMARY:XXL Platenbeurs – Deventer (Lebuinuskerk) - 26 september 2026
DESCRIPTION:De XXL Platenbeurs in de Lebuinuskerk in Deventer op 26 september 2026 is een van de grootste en mooiste indoorbeurzen van het najaar. De historische kerk biedt veel ruimte en een serene sfeer waarin je in alle rust vinyl kunt ontdekken. \nHandelaren uit binnen- en buitenland presenteren lp’s\, singles\, boxsets\, cd’s\, merchandise en zeldzame collectors-items. De combinatie van sfeer\, kwaliteit en omvang maakt deze beurs geliefd bij serieuze verzamelaars.
URL:https://marktenmeer.nl/markt/xxl-platenbeurs-deventer-lebuinuskerk-26-september-2026/
LOCATION:Lebuinuskerk\, Deventer\, Grote Kerkhof 40\, Deventer\, Netherlands
CATEGORIES:Overijssel,Platenbeurs,Platenbeurzen Overijssel
ORGANIZER;CN="Variaworld":MAILTO:info@variaworld.nl
END:VEVENT
BEGIN:VEVENT
DTSTART;TZID=Europe/Amsterdam:20260926T100000
DTEND;TZID=Europe/Amsterdam:20260926T170000
DTSTAMP:20260423T152056
CREATED:20251216T103248Z
LAST-MODIFIED:20260329T061835Z
UID:16834-1790416800-1790442000@marktenmeer.nl
SUMMARY:Kunst & Creatie Markt Deventer 2026 | 26 september Colmschate
DESCRIPTION:De Kunst & Creatie Markt in Deventer vindt plaats op zaterdag 26 september 2026\, van 10.00 tot 17.00 uur\, in winkelcentrum Colmschate. Tijdens deze dag verandert het grootste winkelcentrum van Deventer in een inspirerende ontmoetingsplek waar kunst\, creativiteit en ambacht centraal staan. Tussen de winkels ontdek je een sfeervolle markt met originele en handgemaakte producten. \nBezoekers kunnen rustig rondstruinen langs kramen met onder andere schilderijen\, illustraties\, keramiek\, handgemaakte sieraden en andere unieke creaties. De opzet midden in het winkelcentrum zorgt voor een toegankelijke en prettige sfeer\, waarbij kunst kijken en winkelen moeiteloos samengaan. \nWinkelcentrum Colmschate is ruim opgezet en goed bereikbaar\, wat het bezoek comfortabel maakt voor jong en oud. Door de levendigheid van het centrum en de verzorgde uitstraling van de markt hangt er een gezellige dynamiek zonder dat het massaal aanvoelt. Dit maakt de Kunst & Creatie Markt aantrekkelijk voor zowel kunstliefhebbers als bezoekers die spontaan iets bijzonders willen ontdekken. \nDe Kunst & Creatie Markt in Deventer is een fijne bestemming voor een inspirerende nazomerdag\, met volop creativiteit en ruimte om op je gemak rond te kijken. \n\nDatum: zaterdag 26 september 2026\nTijd: 10.00 – 17.00 uur\nLocatie: Winkelcentrum Colmschate\, Deventer\n\nDeze markt is onderdeel van de serie Kunst & Creatie Markten\, met edities door heel Nederland.\n→ Bekijk alle Kunst & Creatie Markten
URL:https://marktenmeer.nl/markt/kunst-en-creatie-markt-deventer-2026/
LOCATION:winkelcentrum Colmschate\, Deventer\, Flora 97\, Deventer\, Netherlands
CATEGORIES:Creatieve Markt Overijssel,Creatieve markten,Overijssel
END:VEVENT
END:VCALENDAR