BEGIN:VCALENDAR
VERSION:2.0
PRODID:-//Markten en meer - ECPv6.15.20//NONSGML v1.0//EN
CALSCALE:GREGORIAN
METHOD:PUBLISH
X-ORIGINAL-URL:https://marktenmeer.nl
X-WR-CALDESC:Evenementen voor Markten en meer
REFRESH-INTERVAL;VALUE=DURATION:PT1H
X-Robots-Tag:noindex
X-PUBLISHED-TTL:PT1H
BEGIN:VTIMEZONE
TZID:Europe/Amsterdam
BEGIN:DAYLIGHT
TZOFFSETFROM:+0100
TZOFFSETTO:+0200
TZNAME:CEST
DTSTART:20250330T010000
END:DAYLIGHT
BEGIN:STANDARD
TZOFFSETFROM:+0200
TZOFFSETTO:+0100
TZNAME:CET
DTSTART:20251026T010000
END:STANDARD
BEGIN:DAYLIGHT
TZOFFSETFROM:+0100
TZOFFSETTO:+0200
TZNAME:CEST
DTSTART:20260329T010000
END:DAYLIGHT
BEGIN:STANDARD
TZOFFSETFROM:+0200
TZOFFSETTO:+0100
TZNAME:CET
DTSTART:20261025T010000
END:STANDARD
BEGIN:DAYLIGHT
TZOFFSETFROM:+0100
TZOFFSETTO:+0200
TZNAME:CEST
DTSTART:20270328T010000
END:DAYLIGHT
BEGIN:STANDARD
TZOFFSETFROM:+0200
TZOFFSETTO:+0100
TZNAME:CET
DTSTART:20271031T010000
END:STANDARD
END:VTIMEZONE
BEGIN:VEVENT
DTSTART;TZID=Europe/Amsterdam:20260815T090000
DTEND;TZID=Europe/Amsterdam:20260816T160000
DTSTAMP:20260421T145734
CREATED:20260109T092323Z
LAST-MODIFIED:20260329T061845Z
UID:18059-1786784400-1786896000@marktenmeer.nl
SUMMARY:Langste vlooienmarkt van Nederland – Vliegveld Twente Enschede 15 & 16 augustus 2026
DESCRIPTION:Op zaterdag 15 en zondag 16 augustus 2026 vindt opnieuw de langste vlooienmarkt van Nederland plaats op de iconische taxibaan van Vliegveld Twente. Dit bijzondere evenement strekt zich uit over honderden meters en biedt bezoekers een unieke marktbeleving die je nergens anders in Nederland tegenkomt. \nTwee dagen lang kun je uitgebreid struinen langs een groot en gevarieerd aanbod van uitsluitend tweedehands spullen. Van vintage en curiosa tot kleding\, speelgoed\, boeken en praktische koopjes: elke kraam heeft weer iets anders te bieden. Door de brede opzet van de taxibaan is er volop ruimte om ontspannen rond te lopen. \nDe markt trekt bezoekers uit het hele land en staat bekend om de combinatie van schaal\, sfeer en overzicht. Dankzij de goede bereikbaarheid en gratis parkeergelegenheid is een bezoek extra comfortabel. Of je nu gericht komt zoeken of gewoon een gezellige zomerse dag wilt beleven\, deze vlooienmarkt is een echte klassieker. Kinderen tot en met 12 jaar hebben gratis toegang. \n\nPraktische informatie (bezoekers)\n\nDatum: zaterdag 15 & zondag 16 augustus 2026\nTijd: 09:00 – 16:00\nEntree: € 6\,- p.p. (t/m 12 jaar gratis)\nLocatie: Taxibaan\, Vliegveldweg 345\, 7524 PT Enschede\nParkeren: gratis\n\n\nVoor standhouders (kort)\n\nInbreng: 06:30 – 08:30 (uiterlijk aanwezig 08:30)\nKraamhuur: € 36\,- per dag (4 x 1 meter)\nGrondplek: auto € 25\,- | bus/camper € 30\,-\nVerkoop nieuwe goederen verboden\nOpruimen vóór 16:00 niet toegestaan
URL:https://marktenmeer.nl/markt/vlooienmarkt-twente-15-16-augustus-2026/
LOCATION:Hangar 11 Vliegveld Twente\, Enschede\, Vliegveldweg 345\, Enschede\, Netherlands
CATEGORIES:Overijssel,Rommelmarkten,Rommelmarkten Overijssel
END:VEVENT
END:VCALENDAR