BEGIN:VCALENDAR
VERSION:2.0
PRODID:-//Markten en meer - ECPv6.15.20//NONSGML v1.0//EN
CALSCALE:GREGORIAN
METHOD:PUBLISH
X-WR-CALNAME:Markten en meer
X-ORIGINAL-URL:https://marktenmeer.nl
X-WR-CALDESC:Evenementen voor Markten en meer
REFRESH-INTERVAL;VALUE=DURATION:PT1H
X-Robots-Tag:noindex
X-PUBLISHED-TTL:PT1H
BEGIN:VTIMEZONE
TZID:Europe/Amsterdam
BEGIN:DAYLIGHT
TZOFFSETFROM:+0100
TZOFFSETTO:+0200
TZNAME:CEST
DTSTART:20250330T010000
END:DAYLIGHT
BEGIN:STANDARD
TZOFFSETFROM:+0200
TZOFFSETTO:+0100
TZNAME:CET
DTSTART:20251026T010000
END:STANDARD
BEGIN:DAYLIGHT
TZOFFSETFROM:+0100
TZOFFSETTO:+0200
TZNAME:CEST
DTSTART:20260329T010000
END:DAYLIGHT
BEGIN:STANDARD
TZOFFSETFROM:+0200
TZOFFSETTO:+0100
TZNAME:CET
DTSTART:20261025T010000
END:STANDARD
BEGIN:DAYLIGHT
TZOFFSETFROM:+0100
TZOFFSETTO:+0200
TZNAME:CEST
DTSTART:20270328T010000
END:DAYLIGHT
BEGIN:STANDARD
TZOFFSETFROM:+0200
TZOFFSETTO:+0100
TZNAME:CET
DTSTART:20271031T010000
END:STANDARD
END:VTIMEZONE
BEGIN:VEVENT
DTSTART;TZID=Europe/Amsterdam:20260301T090000
DTEND;TZID=Europe/Amsterdam:20260301T160000
DTSTAMP:20260423T034923
CREATED:20260106T095958Z
LAST-MODIFIED:20260329T062837Z
UID:17959-1772355600-1772380800@marktenmeer.nl
SUMMARY:Vlooienmarkt Zeist – Sporthal Dijnselburg | zondag 1 maart 2026
DESCRIPTION:Op zondag 1 maart 2026 kun je heerlijk komen struinen op de Vlooienmarkt Zeist in Sporthal Dijnselburg. Deze gezellige binnenmarkt telt ongeveer 110 kramen\, allemaal gevuld met tweedehands spullen. Een perfecte plek voor iedereen die houdt van snuffelen\, koopjes jagen en het vinden van unieke items met een verhaal. \n\n\n \nDe vlooienmarkt vindt plaats in een ruime en overdekte sporthal\, waardoor je ongeacht het weer comfortabel kunt rondlopen. Het aanbod is gevarieerd en wisselend per kraam: denk aan huisraad\, speelgoed\, boeken\, kleding\, woonaccessoires\, verzamelobjecten en andere leuke vondsten. Omdat uitsluitend tweedehands goederen worden aangeboden\, blijft de markt overzichtelijk en authentiek van karakter. \nDe locatie in Zeist is goed bereikbaar en beschikt over gratis parkeergelegenheid\, wat het bezoek extra laagdrempelig maakt. Dankzij de vaste openingstijden en duidelijke indeling is deze markt geschikt voor zowel vroege bezoekers als mensen die later op de dag nog even langs willen komen. Een fijne zondagactiviteit voor jong en oud. \n\nPraktische informatie\n\nDatum: zondag 1 maart 2026\nTijd: 09:00 – 16:00 uur\nLocatie: Sporthal Dijnselburg\, Zeist\nType markt: vlooienmarkt (binnen)\nAantal kramen: ca. 110\nParkeren: gratis\n\nInformatie voor standhouders\n\nOpbouw vanaf 07:30 uur\nAfbouwen vóór 16:00 uur niet toegestaan\nAlleen verkoop van tweedehands goederen\nVerkoop van nieuwe goederen\, eten of drinken is niet toegestaan\nAnnuleren tot donderdag 12:00 uur vóór de markt (€7\,50 administratiekosten)\nTip: neem een stoel en een karretje of steekwagen mee\n\nEntree voor bezoekers\n\nToegang: €3\,50 per persoon\nKinderen t/m 12 jaar: gratis
URL:https://marktenmeer.nl/markt/vlooienmarkt-zeist-1-maart-2026/
LOCATION:Sporthal Dijnselburg\, Zeist\, Badmeester Schenkpad 2\, Zeist\, 3705 GK\, Netherlands
CATEGORIES:Rommelmarkten,Rommelmarkten Utrecht,Utrecht
END:VEVENT
BEGIN:VEVENT
DTSTART;TZID=Europe/Amsterdam:20260307T090000
DTEND;TZID=Europe/Amsterdam:20260308T180000
DTSTAMP:20260423T034923
CREATED:20260106T103459Z
LAST-MODIFIED:20260329T062837Z
UID:17965-1772874000-1772992800@marktenmeer.nl
SUMMARY:Mega Vlooienmarkt Nieuwegein – Beursfabriek | 7 & 8 maart 2026
DESCRIPTION:In het weekend van zaterdag 7 en zondag 8 maart 2026 vindt de Mega Vlooienmarkt Nieuwegein plaats in de Beursfabriek. Deze tweedaagse vlooienmarkt behoort tot de grotere edities van Don Events en trekt jaarlijks veel bezoekers uit Nieuwegein en de wijde omgeving. Met maar liefst 350 kramen vol tweedehands spullen is er voor iedere bezoeker iets te ontdekken. \n\n\n \nHet aanbod bestaat volledig uit tweedehands goederen. Denk aan meubels\, woonaccessoires\, boeken\, speelgoed\, kleding\, vinyl\, curiosa en verrassende vondsten die je niet snel ergens anders tegenkomt. Door de omvang en de opzet van de Beursfabriek is er voldoende ruimte om rustig te struinen\, zelfs op drukke momenten. De markt is volledig overdekt\, waardoor het evenement ongeacht het weer comfortabel te bezoeken is. \nDe Beursfabriek ligt centraal in Nieuwegein en is goed bereikbaar voor bezoekers uit de regio Utrecht. Dankzij vaste openingstijden op beide dagen is de markt geschikt voor zowel een kort bezoek als een uitgebreid dagje snuffelen. \nPraktische informatie\n\nData: zaterdag 7 & zondag 8 maart 2026\nTijd: 09:00 – 16:00 uur\nLocatie: Beursfabriek\, Symfonielaan 1\, Nieuwegein\nType markt: mega vlooienmarkt (binnen)\nAantal kramen: ca. 350\n\nInformatie voor standhouders\n\nInbreng tijden:\nVrijdag: 13:00 – 16:00 uur\nZaterdag: 07:00 – 08:30 uur\nZondag: 07:00 – 08:30 uur\nAlleen verkoop van tweedehands spullen toegestaan\nKraamhuur: €35\,- per dag\nHoekkraam: €40\,- per dag\nAnnuleren tot donderdag 12:00 uur vóór de markt (€7\,50 administratiekosten)\nNa dit tijdstip wordt het volledige kraambedrag in rekening gebracht\n\nEntree voor bezoekers\n\nToegang: €5\,- per persoon\nKinderen t/m 12 jaar: gratis
URL:https://marktenmeer.nl/markt/mega-vlooienmarkt-nieuwegein-7-8-maart-2026/
LOCATION:Beursfabriek\, Nieuwegein\, Symfonielaan 1\, Nieuwegein\, Netherlands
CATEGORIES:Rommelmarkten,Rommelmarkten Utrecht,Utrecht
END:VEVENT
BEGIN:VEVENT
DTSTART;TZID=Europe/Amsterdam:20260322T090000
DTEND;TZID=Europe/Amsterdam:20260322T160000
DTSTAMP:20260423T034923
CREATED:20260112T092209Z
LAST-MODIFIED:20260329T062836Z
UID:18155-1774170000-1774195200@marktenmeer.nl
SUMMARY:Snuffelmarkt Expo Houten – zondag 22 maart 2026
DESCRIPTION:Op zondag 22 maart 2026 vindt de Snuffelmarkt Expo Houten plaats in het overdekte Expo Houten\, aan de Meidoornkade\, 3992 AE Houten. Van 09:00 tot 16:00 uur kun je heerlijk rondstruinen langs meer dan 250 kramen vol tweedehands spullen\, curiosa en andere bijzondere vondsten. \nDeze snuffelmarkt is een vaste trekpleister voor liefhebbers van vintage\, brocante en items met een verhaal. Het aanbod is breed en verrassend: van zolderopruimingen en verzamelobjecten tot boeken\, platen\, speelgoed en woonaccessoires. Doordat de markt volledig binnen plaatsvindt\, snuffel je comfortabel en op je gemak\, ongeacht het weer. \nDe ruime opzet van Expo Houten zorgt voor overzicht en een prettige sfeer. Of je nu gericht zoekt naar iets specifieks of gewoon lekker wilt rondkijken\, de kans is groot dat je met een unieke vondst naar huis gaat. Een gezellig dagje uit voor bezoekers uit Houten en omgeving. \n\nPraktische informatie (bezoekers)\n\nDatum: zondag 22 maart 2026\nTijd: 09:00 – 16:00\nLocatie: Expo Houten\, Meidoornkade\, 3992 AE Houten\nEntree: € 4\,50\n\n\nVoor standhouders (kort)\n\nKraamprijs: € 38\,-\nKramen: met bovenbouw\nInbrengtijden: 06:00 – 08:15\nLocatie: binnen in Expo Houten
URL:https://marktenmeer.nl/markt/snuffelmarkt-expo-houten-22-maart-2026/
LOCATION:Expo Houten\, Meidoornkade\, Houten\, Netherlands
CATEGORIES:Rommelmarkten,Rommelmarkten Utrecht,Utrecht
END:VEVENT
BEGIN:VEVENT
DTSTART;TZID=Europe/Amsterdam:20260328T100000
DTEND;TZID=Europe/Amsterdam:20260328T150000
DTSTAMP:20260423T034923
CREATED:20260106T090856Z
LAST-MODIFIED:20260329T062823Z
UID:17922-1774692000-1774710000@marktenmeer.nl
SUMMARY:BOERenMARKT Eemnes – De Blommenhoeve – 28 maart 2026
DESCRIPTION:Op zaterdag 28 maart 2026 vindt de BOERenMARKT plaats bij De Blommenhoeve in Eemnes. Deze maandelijkse markt wordt georganiseerd op het erf van een karakteristieke boerderij en richt zich op (h)eerlijke\, grotendeels biologische producten. De markt trekt bezoekers die bewust kiezen voor kwaliteit\, herkomst en ambacht. \nDe sfeer is gemoedelijk en landelijk. Op het erf vind je kramen met onder andere vers brood\, zuivel\, vlees\, honing\, oliën en andere streekproducten. Daarnaast is er een aanvullend aanbod van ambachtelijke producten zoals sieraden en verzorgingsartikelen. Bezoekers kunnen hun ronde combineren met een pauze op het terras\, waar koffie en iets lekkers verkrijgbaar zijn. \n\n\n \nVoor bezoekers\n\nType markt: boerenmarkt / streekmarkt\nPlaats: Eemnes\nDatum: zaterdag 28 maart 2026\nTijd: 10.00 – 15.00 uur\nLocatie: De Blommenhoeve\, Meentweg\, Eemnes\nEntree: gratis\nParkeren: op eigen terrein\nSfeer: landelijk en kleinschalig\nAanbod: biologische producten\, streekproducten en ambachtelijke artikelen\n\nDe markt is goed bereikbaar en ligt in een groene omgeving. \nVoor standhouders\nDe BOERenMARKT richt zich voornamelijk op aanbieders van (biologische) boerderijproducten en ambachtelijke producten die aansluiten bij het karakter van de markt. \n\nType plekken: kramen en standplaatsen op het erf\nFocus: biologische en ambachtelijke producten\nDoelgroep: bezoekers die gericht zoeken naar pure en lokale producten\n\nVoor deelname en actuele mogelijkheden is het raadzaam direct contact op te nemen met de organisatie van De Blommenhoeve. \nDe BOERenMARKT in Eemnes is een kleinschalige en toegankelijke markt met een focus op pure producten en een landelijke sfeer.
URL:https://marktenmeer.nl/markt/boerenmarkt-de-blommenhoeve-maart-2026/
LOCATION:De Blommenhoeve\, Eemnes\, Meentweg 37\, Eemnes\, 3755 PA\, Netherlands
CATEGORIES:Streekmarkt,Streekmarkt Utrecht,Utrecht
END:VEVENT
BEGIN:VEVENT
DTSTART;TZID=Europe/Amsterdam:20260329T090000
DTEND;TZID=Europe/Amsterdam:20260329T160000
DTSTAMP:20260423T034923
CREATED:20260106T112450Z
LAST-MODIFIED:20260329T062823Z
UID:17987-1774774800-1774800000@marktenmeer.nl
SUMMARY:Vlooienmarkt Baarn – De Trits | zondag 29 maart 2026
DESCRIPTION:Op zondag 29 maart 2026 organiseert DonEvents de jaarlijkse Vlooienmarkt Baarn in De Trits. Deze markt vindt slechts één keer per jaar plaats en staat bekend als één van de gezelligste indoor vlooienmarkten van het Gooi. Met circa 130 kramen vol tweedehands spullen is dit een ideale bestemming voor liefhebbers van snuffelen\, verzamelen en duurzaam shoppen. \nDe vlooienmarkt wordt gehouden in De Trits\, een overzichtelijke en goed bereikbare locatie. Bezoekers kunnen hier rustig rondlopen langs een gevarieerd aanbod aan tweedehands goederen\, zoals huisraad\, kleding\, speelgoed\, boeken en bijzondere vondsten. Doordat de markt volledig overdekt is\, ben je verzekerd van een comfortabel bezoek\, ongeacht het weer. \nDankzij de compacte opzet en de gemoedelijke sfeer is deze markt populair bij zowel vaste bezoekers als mensen die voor het eerst een vlooienmarkt bezoeken. Of je nu gericht op zoek bent naar iets specifieks of gewoon zin hebt in een gezellig dagje uit: de Vlooienmarkt Baarn is altijd een goede keuze. \n\n\n \n\nPraktische informatie\n\nDatum: zondag 29 maart 2026\nOpeningstijden: 09:00 – 16:00 uur\nLocatie: De Trits\, Goeman Borgesiuslaan 2\, 3741 CR Baarn\nType markt: overdekte vlooienmarkt\n\n\nParkeren & bereikbaarheid\n\nParkeren mogelijk bij De Trits\nParkeer uitsluitend in de aangegeven parkeervakken\nLocatie is goed bereikbaar met auto en openbaar vervoer\n\n\nInformatie voor standhouders\n\nKraamprijs: €35\,-\nAfmeting kraam: 4 × 1 meter\, inclusief bovenbouw en grondplek\nInbrengtijden: 07:00 – 08:30\nAlleen tweedehands spullen toegestaan\nAfbouwen pas toegestaan na 16:00 uur\nAfval en overgebleven spullen zelf meenemen\n\nAnnuleren \n\nTot donderdag 12:00 uur vóór de markt: €7\,50 administratiekosten\nNa donderdag 12:00 uur: volledige kraamhuur verschuldigd\n\n\nEntree voor bezoekers\n\nToegangsprijs: €3\,50 per persoon\nKinderen t/m 12 jaar: gratis
URL:https://marktenmeer.nl/markt/vlooienmarkt-baarn-de-trits-29-maart-2026/
LOCATION:De Trits\, Baarn\, Goeman Borgesiuslaan 2\, Baarn\, 3741 CR\, Netherlands
CATEGORIES:Rommelmarkten,Rommelmarkten Utrecht,Utrecht
END:VEVENT
END:VCALENDAR