BEGIN:VCALENDAR
VERSION:2.0
PRODID:-//Markten en meer - ECPv6.15.20//NONSGML v1.0//EN
CALSCALE:GREGORIAN
METHOD:PUBLISH
X-WR-CALNAME:Markten en meer
X-ORIGINAL-URL:https://marktenmeer.nl
X-WR-CALDESC:Evenementen voor Markten en meer
REFRESH-INTERVAL;VALUE=DURATION:PT1H
X-Robots-Tag:noindex
X-PUBLISHED-TTL:PT1H
BEGIN:VTIMEZONE
TZID:Europe/Amsterdam
BEGIN:DAYLIGHT
TZOFFSETFROM:+0100
TZOFFSETTO:+0200
TZNAME:CEST
DTSTART:20250330T010000
END:DAYLIGHT
BEGIN:STANDARD
TZOFFSETFROM:+0200
TZOFFSETTO:+0100
TZNAME:CET
DTSTART:20251026T010000
END:STANDARD
BEGIN:DAYLIGHT
TZOFFSETFROM:+0100
TZOFFSETTO:+0200
TZNAME:CEST
DTSTART:20260329T010000
END:DAYLIGHT
BEGIN:STANDARD
TZOFFSETFROM:+0200
TZOFFSETTO:+0100
TZNAME:CET
DTSTART:20261025T010000
END:STANDARD
BEGIN:DAYLIGHT
TZOFFSETFROM:+0100
TZOFFSETTO:+0200
TZNAME:CEST
DTSTART:20270328T010000
END:DAYLIGHT
BEGIN:STANDARD
TZOFFSETFROM:+0200
TZOFFSETTO:+0100
TZNAME:CET
DTSTART:20271031T010000
END:STANDARD
END:VTIMEZONE
BEGIN:VEVENT
DTSTART;TZID=Europe/Amsterdam:20260502T090000
DTEND;TZID=Europe/Amsterdam:20260503T160000
DTSTAMP:20260423T001210
CREATED:20260108T101333Z
LAST-MODIFIED:20260329T062811Z
UID:18012-1777712400-1777824000@marktenmeer.nl
SUMMARY:Mega Vlooienmarkt Utrecht – 2 & 3 mei 2026 | Werkspoortkathedraal
DESCRIPTION:Op zaterdag 2 en zondag 3 mei 2026 keert de Mega Vlooienmarkt Utrecht terug naar de indrukwekkende Werkspoortkathedraal. Deze tweede editie van Don’s Vlooienmarkt vindt plaats op een van de meest iconische industriële locaties van Nederland en belooft opnieuw een weekend vol schatten\, nostalgie en gezellig struinen. \nMet meer dan 300 kramen is dit een van de grootste indoor vlooienmarkten van de regio. Bezoekers vinden hier een breed aanbod aan tweedehands spullen\, antiek\, vintage en curiosa. Van klein meubilair en woonaccessoires tot boeken\, platen\, verzamelobjecten en unieke vondsten: elke kraam vertelt zijn eigen verhaal. De hoge hallen en historische uitstraling van de Werkspoortkathedraal zorgen voor een bijzondere sfeer die deze markt duidelijk onderscheidt van andere vlooienmarkten. \nDe markt is overzichtelijk opgezet\, goed toegankelijk en geschikt voor een dagje uit voor jong en oud. Zowel bezoekers als standhouders profiteren van gratis parkeergelegenheid direct bij de locatie. De Mega Vlooienmarkt Utrecht is daarmee een aantrekkelijke bestemming voor koopjesjagers\, verzamelaars en liefhebbers van tweedehands en hergebruik. \n\nPraktische informatie\n\nData: zaterdag 2 & zondag 3 mei 2026\nTijden: 09:00 – 16:00 uur\nLocatie: Werkspoortkathedraal\, Tractieweg 41\, Utrecht\nOrganisatie: DonEvents\nToegang: €6\,- p.p. (kinderen t/m 12 jaar gratis)
URL:https://marktenmeer.nl/markt/mega-vlooienmarkt-utrecht-mei-2026/
LOCATION:Werkspoortkathedraal\, Utrecht\, Tractieweg 41\, Utrecht\, Netherlands
CATEGORIES:Rommelmarkten,Rommelmarkten Utrecht,Utrecht
END:VEVENT
END:VCALENDAR