BEGIN:VCALENDAR
VERSION:2.0
PRODID:-//Markten en meer - ECPv6.15.20//NONSGML v1.0//EN
CALSCALE:GREGORIAN
METHOD:PUBLISH
X-WR-CALNAME:Markten en meer
X-ORIGINAL-URL:https://marktenmeer.nl
X-WR-CALDESC:Evenementen voor Markten en meer
REFRESH-INTERVAL;VALUE=DURATION:PT1H
X-Robots-Tag:noindex
X-PUBLISHED-TTL:PT1H
BEGIN:VTIMEZONE
TZID:Europe/Amsterdam
BEGIN:DAYLIGHT
TZOFFSETFROM:+0100
TZOFFSETTO:+0200
TZNAME:CEST
DTSTART:20250330T010000
END:DAYLIGHT
BEGIN:STANDARD
TZOFFSETFROM:+0200
TZOFFSETTO:+0100
TZNAME:CET
DTSTART:20251026T010000
END:STANDARD
BEGIN:DAYLIGHT
TZOFFSETFROM:+0100
TZOFFSETTO:+0200
TZNAME:CEST
DTSTART:20260329T010000
END:DAYLIGHT
BEGIN:STANDARD
TZOFFSETFROM:+0200
TZOFFSETTO:+0100
TZNAME:CET
DTSTART:20261025T010000
END:STANDARD
BEGIN:DAYLIGHT
TZOFFSETFROM:+0100
TZOFFSETTO:+0200
TZNAME:CEST
DTSTART:20270328T010000
END:DAYLIGHT
BEGIN:STANDARD
TZOFFSETFROM:+0200
TZOFFSETTO:+0100
TZNAME:CET
DTSTART:20271031T010000
END:STANDARD
END:VTIMEZONE
BEGIN:VEVENT
DTSTART;VALUE=DATE:20260507
DTEND;VALUE=DATE:20260510
DTSTAMP:20260423T054036
CREATED:20251221T224831Z
LAST-MODIFIED:20260329T062754Z
UID:17313-1778112000-1778371199@marktenmeer.nl
SUMMARY:Handwerkbeurs Houten 7 tm 9 mei 2026 | Textiele hobbybeurs
DESCRIPTION:Van donderdag 7 tot en met zaterdag 9 mei 2026 vindt de Handwerkbeurs plaats op de nieuwe locatie Expo Houten in Houten. Deze beurs is hét jaarlijkse ontmoetingspunt voor liefhebbers van textiele handwerktechnieken en zelfmaakmode. \nOp de Handwerkbeurs draait alles om textiel. Bezoekers vinden hier een uitgebreid aanbod op het gebied van borduren\, breien\, haken\, quilten\, vilten\, naaien en zelf-maak-mode. Standhouders presenteren materialen\, patronen\, garens en hulpmiddelen\, van bekende merken tot kleine gespecialiseerde aanbieders. Of je nu beginner bent of al jaren met handwerk bezig bent\, er is altijd iets nieuws te ontdekken. \nNaast het winkelaanbod biedt de Handwerkbeurs dagelijks workshops\, demonstraties en meet & greets met ontwerpers\, bloggers en andere creatieve makers. Deze combinatie van leren\, ontmoeten en inspiratie maakt de beurs geliefd bij een breed publiek. \nDe Handwerkbeurs Houten is een fijne plek om ideeën op te doen\, nieuwe technieken te ontdekken en gelijk materialen in te slaan. Een inspirerend dagje uit voor iedereen met een passie voor textiel. \n📌 Praktische informatie\n\nData: donderdag 7 t/m zaterdag 9 mei 2026\nLocatie: Expo Houten\, Houten\nOnderwerp: textiele hobby’s & zelfmaakmode
URL:https://marktenmeer.nl/markt/handwerkbeurs-houten-2026/
LOCATION:Expo Houten\, Meidoornkade\, Houten\, Netherlands
CATEGORIES:Creatieve Markt Utrecht,Creatieve markten,Utrecht
END:VEVENT
BEGIN:VEVENT
DTSTART;VALUE=DATE:20260508
DTEND;VALUE=DATE:20260511
DTSTAMP:20260423T054036
CREATED:20251221T225251Z
LAST-MODIFIED:20260329T062754Z
UID:17315-1778198400-1778457599@marktenmeer.nl
SUMMARY:AutoClassiqa 2026 | Klassieke auto’s & supercars in Jaarbeurs Utrecht
DESCRIPTION:Van vrijdag 8 tot en met zondag 10 mei 2026 keert AutoClassiqa terug naar de Jaarbeurs Utrecht. Na een succesvolle lancering in 2025 presenteert dit evenement opnieuw een stijlvolle en inhoudelijke reis door de geschiedenis van de auto. AutoClassiqa brengt een hoogwaardige mix samen van klassieke auto’s\, youngtimers\, supercars\, hypercars en bijzondere verzamelobjecten. \nNieuw in 2026 is de exclusieve Première Night op vrijdag 8 mei\, speciaal voor genodigden\, pers en relaties. Op zaterdag 9 en zondag 10 mei opent AutoClassiqa de deuren voor het grote publiek. Bezoekers kunnen zich verheugen op thematische exposities\, verrassende presentaties en een breed aanbod van exposanten. \nHoogtepunten zijn onder andere de Car Catwalk\, waar een selectie van de meest opvallende voertuigen in actie te zien is\, en speciale thema’s zoals pre-war auto’s\, movie cars\, autosport\, youngtimers uit de jaren ’90 en Moto Classiqa met klassieke motoren. Daarnaast zijn er mogelijkheden om klassieke auto’s te kopen\, zowel bij handelaren als particuliere aanbieders. \nAutoClassiqa is een inspirerend evenement voor autoliefhebbers van alle leeftijden en combineert nostalgie\, design en passie in één indrukwekkend weekend in Utrecht. \n📌 Praktische informatie\n\nData: 8\, 9 & 10 mei 2026\nLocatie: Jaarbeurs Utrecht\nVrijdag: Première Night (alleen genodigden)\nZaterdag & zondag: open voor publiek
URL:https://marktenmeer.nl/markt/autoclassiqa-utrecht-2026/
LOCATION:Jaarbeurs\, Utrecht\, Utrecht\, Netherlands
CATEGORIES:Utrecht,Verzamelbeurs,Verzamelbeurs Utrecht
END:VEVENT
END:VCALENDAR