BEGIN:VCALENDAR
VERSION:2.0
PRODID:-//Markten en meer - ECPv6.15.20//NONSGML v1.0//EN
CALSCALE:GREGORIAN
METHOD:PUBLISH
X-ORIGINAL-URL:https://marktenmeer.nl
X-WR-CALDESC:Evenementen voor Markten en meer
REFRESH-INTERVAL;VALUE=DURATION:PT1H
X-Robots-Tag:noindex
X-PUBLISHED-TTL:PT1H
BEGIN:VTIMEZONE
TZID:Europe/Amsterdam
BEGIN:DAYLIGHT
TZOFFSETFROM:+0100
TZOFFSETTO:+0200
TZNAME:CEST
DTSTART:20250330T010000
END:DAYLIGHT
BEGIN:STANDARD
TZOFFSETFROM:+0200
TZOFFSETTO:+0100
TZNAME:CET
DTSTART:20251026T010000
END:STANDARD
BEGIN:DAYLIGHT
TZOFFSETFROM:+0100
TZOFFSETTO:+0200
TZNAME:CEST
DTSTART:20260329T010000
END:DAYLIGHT
BEGIN:STANDARD
TZOFFSETFROM:+0200
TZOFFSETTO:+0100
TZNAME:CET
DTSTART:20261025T010000
END:STANDARD
BEGIN:DAYLIGHT
TZOFFSETFROM:+0100
TZOFFSETTO:+0200
TZNAME:CEST
DTSTART:20270328T010000
END:DAYLIGHT
BEGIN:STANDARD
TZOFFSETFROM:+0200
TZOFFSETTO:+0100
TZNAME:CET
DTSTART:20271031T010000
END:STANDARD
END:VTIMEZONE
BEGIN:VEVENT
DTSTART;TZID=Europe/Amsterdam:20260607T090000
DTEND;TZID=Europe/Amsterdam:20260607T160000
DTSTAMP:20260423T090716
CREATED:20260109T075600Z
LAST-MODIFIED:20260329T062737Z
UID:18035-1780822800-1780848000@marktenmeer.nl
SUMMARY:Vlooienmarkt & Kofferbakverkoop Woerden – 7 juni 2026
DESCRIPTION:Op zondag 7 juni 2026 vindt de Vlooienmarkt & Kofferbakverkoop Woerden plaats op het Exercitieveld\, midden in het centrum van Woerden. Met circa 200 deelnemers is deze markt al jaren een vaste waarde voor liefhebbers van tweedehands\, vintage en koopjes. \nEen ruime opzet\, veel variatie én de mogelijkheid om direct vanuit je auto te verkopen maken deze markt aantrekkelijk voor zowel bezoekers als standhouders. \n\nPraktische informatie\n\nDatum: zondag 7 juni 2026\nTijd: 09:00 – 16:00 uur\nLocatie: Exercitieveld\nAdres: Oostsingel 18\, 3441 GC Woerden\nEntree: €3\,- p.p. | kinderen t/m 12 jaar gratis\n\n\nVoor standhouders\n\n\nKraamhuur: \n\n\n1 kraam: €34\,- (auto achter de kraam mogelijk) \n\n\n\n\nGrondplaatsen: \n\n\nAuto: €20\,- \n\n\nBus: €25\,- \n\n\nAanhanger: €20\,- (alleen i.c.m. auto of bus) \n\n\n\nOpbouw: 06:30 – 08:30 uur\nNa 08:30: reservering vervalt\nAssortiment: uitsluitend tweedehands goederen\nAutoverkeer: niet toegestaan tussen 09:00 – 16:00 uur\nAnnuleren: tot donderdag 12:00 uur (€7\,50 administratiekosten)\, daarna volledig bedrag\nLet op: deelname op eigen risico\, geen restitutie bij slecht weer\nOrganisatie: DonEvents\n\n\nParkeren bezoekers (gratis)\n\nParkeerterrein Wagenstraat\nP+R Woerden – Houttuinlaan 1\n\n\nWaarom deze markt zo populair is\n\nAl jaren een begrip in Woerden\nOngeveer 200 deelnemers\nKofferbakverkoop + kramen\nCentrale ligging\nGroot en gevarieerd aanbod
URL:https://marktenmeer.nl/markt/vlooienmarkt-kofferbakverkoop-woerden-7-juni-2026/
LOCATION:Exercitieveld\, Woerden\, Oostsingel 18\, Woerden
CATEGORIES:Rommelmarkten,Rommelmarkten Utrecht,Utrecht
END:VEVENT
END:VCALENDAR