BEGIN:VCALENDAR
VERSION:2.0
PRODID:-//Markten en meer - ECPv6.15.20//NONSGML v1.0//EN
CALSCALE:GREGORIAN
METHOD:PUBLISH
X-WR-CALNAME:Markten en meer
X-ORIGINAL-URL:https://marktenmeer.nl
X-WR-CALDESC:Evenementen voor Markten en meer
REFRESH-INTERVAL;VALUE=DURATION:PT1H
X-Robots-Tag:noindex
X-PUBLISHED-TTL:PT1H
BEGIN:VTIMEZONE
TZID:Europe/Amsterdam
BEGIN:DAYLIGHT
TZOFFSETFROM:+0100
TZOFFSETTO:+0200
TZNAME:CEST
DTSTART:20250330T010000
END:DAYLIGHT
BEGIN:STANDARD
TZOFFSETFROM:+0200
TZOFFSETTO:+0100
TZNAME:CET
DTSTART:20251026T010000
END:STANDARD
BEGIN:DAYLIGHT
TZOFFSETFROM:+0100
TZOFFSETTO:+0200
TZNAME:CEST
DTSTART:20260329T010000
END:DAYLIGHT
BEGIN:STANDARD
TZOFFSETFROM:+0200
TZOFFSETTO:+0100
TZNAME:CET
DTSTART:20261025T010000
END:STANDARD
BEGIN:DAYLIGHT
TZOFFSETFROM:+0100
TZOFFSETTO:+0200
TZNAME:CEST
DTSTART:20270328T010000
END:DAYLIGHT
BEGIN:STANDARD
TZOFFSETFROM:+0200
TZOFFSETTO:+0100
TZNAME:CET
DTSTART:20271031T010000
END:STANDARD
END:VTIMEZONE
BEGIN:VEVENT
DTSTART;TZID=Europe/Amsterdam:20260627T100000
DTEND;TZID=Europe/Amsterdam:20260628T170000
DTSTAMP:20260423T072742
CREATED:20260112T112501Z
LAST-MODIFIED:20260329T062725Z
UID:18163-1782554400-1782666000@marktenmeer.nl
SUMMARY:Kunst & Creatie Markt – Baarn Centrum  Zaterdag 27 & zondag 28 juni 2026
DESCRIPTION:In het centrum van Baarn vindt in het laatste weekend van juni een sfeervolle Kunst & Creatie Markt plaats. Op het historische plein De Brink en in de aangrenzende Laanstraat presenteren circa 45 kunstenaars en makers hun werk.\n\nBezoekers ontdekken een afwisselend aanbod van onder andere schilderkunst\, keramiek\, illustraties\, handgemaakte sieraden en originele cadeaus. De centrale ligging maakt deze markt extra aantrekkelijk: een bezoek laat zich perfect combineren met winkelen of een ontspannen pauze bij één van de cafés en restaurants rondom De Brink en in het centrum.\n\nOp zondag zijn bovendien diverse winkels geopend\, wat zorgt voor extra levendigheid. \nDe Kunst & Creatie Markt is laagdrempelig\, inspirerend en geschikt voor een breed publiek. Een ideaal uitje voor liefhebbers van kunst\, ambacht en sfeer. \n\n\nPraktische informatie\n\n📅 Datum: Zaterdag 27 & zondag 28 juni 2026\n🕙 Tijden:\n\nZaterdag: 10:00 – 17:00 uur\nZondag: 11:00 – 17:00 uur\n\n📍 Locatie: De Brink & Laanstraat – centrum Baarn \n\n🎨 Toegang: gratis\n\nStandhoudersinformatie\nAanmelden voor deelname aan de markt kan via www.kunstencreatie.nl
URL:https://marktenmeer.nl/markt/kunst-creatie-markt-baarn-27-28-juni-2026/
LOCATION:Baarn\, Centrum\, Baarn\, Netherlands
CATEGORIES:Creatieve Markt Utrecht,Creatieve markten,Utrecht
END:VEVENT
BEGIN:VEVENT
DTSTART;TZID=Europe/Amsterdam:20260628T090000
DTEND;TZID=Europe/Amsterdam:20260628T160000
DTSTAMP:20260423T072742
CREATED:20260109T081745Z
LAST-MODIFIED:20260329T062725Z
UID:18045-1782637200-1782662400@marktenmeer.nl
SUMMARY:Vlooienmarkt & Kofferbakverkoop Baarn – zondag 28 juni 2026
DESCRIPTION:Op zondag 28 juni 2026 kun je heerlijk struinen tijdens de Vlooienmarkt & Kofferbakverkoop Baarn bij IJsbaan Baarn. Deze markt combineert klassieke vlooienmarktkramen met een gezellige kofferbakverkoop\, waardoor het aanbod extra gevarieerd is. Bezoekers vinden hier uitsluitend tweedehands artikelen: van kleding en boeken tot speelgoed\, huisraad en verrassende vondsten. \nDe markt is overzichtelijk opgezet en geschikt voor jong en oud. Door de centrale ligging in Baarn en de betaalbare entree is dit een laagdrempelig uitje op zondag. Neem rustig de tijd om langs de kramen te lopen en sla je slag bij particuliere verkopers uit de regio. \nDe sfeer is gemoedelijk en echt gericht op snuffelaars en koopjesjagers. Kinderen tot en met 12 jaar mogen gratis naar binnen\, wat deze vlooienmarkt ook ideaal maakt als gezinsuitje. \n\nPraktische informatie (bezoekers)\n\nDatum: zondag 28 juni 2026\nTijd: 09:00 – 16:00\nEntree: € 3\,50 p.p. (t/m 12 jaar gratis)\nLocatie: De Geerenweg 16\, 3741 RS Baarn\n\n\nVoor standhouders (kort)\n\nInbreng: 06:30 – 08:30 (na 08:30 vervalt reservering)\nKraamhuur: € 34\,- (auto achter de kraam)\n2 kramen: € 55\,-\nKofferbakverkoop: v.a. € 20\,-\nAlleen tweedehands toegestaan\nVooraf reserveren verplicht
URL:https://marktenmeer.nl/markt/vlooienmarkt-kofferbakverkoop-baarn-28-juni-2026/
LOCATION:IJsbaan Baarn\, De Geerenweg 16\, Baarn\, Netherlands
CATEGORIES:Rommelmarkten,Rommelmarkten Utrecht,Utrecht
END:VEVENT
END:VCALENDAR