BEGIN:VCALENDAR
VERSION:2.0
PRODID:-//Markten en meer - ECPv6.15.20//NONSGML v1.0//EN
CALSCALE:GREGORIAN
METHOD:PUBLISH
X-WR-CALNAME:Markten en meer
X-ORIGINAL-URL:https://marktenmeer.nl
X-WR-CALDESC:Evenementen voor Markten en meer
REFRESH-INTERVAL;VALUE=DURATION:PT1H
X-Robots-Tag:noindex
X-PUBLISHED-TTL:PT1H
BEGIN:VTIMEZONE
TZID:Europe/Amsterdam
BEGIN:DAYLIGHT
TZOFFSETFROM:+0100
TZOFFSETTO:+0200
TZNAME:CEST
DTSTART:20250330T010000
END:DAYLIGHT
BEGIN:STANDARD
TZOFFSETFROM:+0200
TZOFFSETTO:+0100
TZNAME:CET
DTSTART:20251026T010000
END:STANDARD
BEGIN:DAYLIGHT
TZOFFSETFROM:+0100
TZOFFSETTO:+0200
TZNAME:CEST
DTSTART:20260329T010000
END:DAYLIGHT
BEGIN:STANDARD
TZOFFSETFROM:+0200
TZOFFSETTO:+0100
TZNAME:CET
DTSTART:20261025T010000
END:STANDARD
BEGIN:DAYLIGHT
TZOFFSETFROM:+0100
TZOFFSETTO:+0200
TZNAME:CEST
DTSTART:20270328T010000
END:DAYLIGHT
BEGIN:STANDARD
TZOFFSETFROM:+0200
TZOFFSETTO:+0100
TZNAME:CET
DTSTART:20271031T010000
END:STANDARD
END:VTIMEZONE
BEGIN:VEVENT
DTSTART;TZID=Europe/Amsterdam:20260704T100000
DTEND;TZID=Europe/Amsterdam:20260704T170000
DTSTAMP:20260423T072752
CREATED:20260109T090948Z
LAST-MODIFIED:20260329T062714Z
UID:18048-1783159200-1783184400@marktenmeer.nl
SUMMARY:Jaarmarkt Loenen a/d Vecht – zaterdag 4 juli 2026
DESCRIPTION:Op zaterdag 4 juli 2026 vindt de Grote Zomer Jaarmarkt Loenen a/d Vecht plaats aan de Rijksstraatweg in Loenen aan de Vecht. Deze jaarlijkse markt telt ongeveer 250 deelnemers en staat bekend om haar brede en gevarieerde aanbod. Bezoekers kunnen rekenen op een mix van braderie\, hobby-artikelen\, tweedehands spullen\, antiek en curiosa. \nDe jaarmarkt is ruim opgezet en loopt door het dorpsgebied\, waardoor je ontspannen kunt rondwandelen en op je gemak alle kramen kunt bekijken. Dankzij de gratis toegang is het een laagdrempelig en gezellig dagje uit voor het hele gezin. De zomerse sfeer\, het diverse aanbod en de centrale ligging maken deze markt populair bij bezoekers uit de regio en daarbuiten. Of je nu komt om gericht te kopen of gewoon lekker wilt snuffelen: de Jaarmarkt Loenen a/d Vecht biedt voor ieder wat wils. \n\nPraktische informatie (bezoekers)\n\nDatum: zaterdag 4 juli 2026\nTijd: 10:00 – 17:00\nEntree: gratis\nLocatie: Rijksstraatweg 127\, 3632 AB Loenen a/d Vecht\n\n\nVoor standhouders (kort)\n\nInbreng: 07:00 – 09:30 (inrijtijd per mail)\nKraamprijs: v.a. € 40\,-\nAantal deelnemers: ca. 250\nBij reservering verplicht vermelden wat je verkoopt\nVooraf betalen verplicht (niet betaald = geen plaats)\nGeen stroomvoorziening aanwezig
URL:https://marktenmeer.nl/markt/jaarmarkt-loenen-ad-vecht-4-juli-2026/
LOCATION:Loenen a/d Vecht\, Loenen a/d Vecht\, Netherlands
CATEGORIES:Jaarmarkten,Jaarmarkten Utrecht,Utrecht
END:VEVENT
END:VCALENDAR