BEGIN:VCALENDAR
VERSION:2.0
PRODID:-//Markten en meer - ECPv6.15.20//NONSGML v1.0//EN
CALSCALE:GREGORIAN
METHOD:PUBLISH
X-ORIGINAL-URL:https://marktenmeer.nl
X-WR-CALDESC:Evenementen voor Markten en meer
REFRESH-INTERVAL;VALUE=DURATION:PT1H
X-Robots-Tag:noindex
X-PUBLISHED-TTL:PT1H
BEGIN:VTIMEZONE
TZID:Europe/Amsterdam
BEGIN:DAYLIGHT
TZOFFSETFROM:+0100
TZOFFSETTO:+0200
TZNAME:CEST
DTSTART:20240331T010000
END:DAYLIGHT
BEGIN:STANDARD
TZOFFSETFROM:+0200
TZOFFSETTO:+0100
TZNAME:CET
DTSTART:20241027T010000
END:STANDARD
BEGIN:DAYLIGHT
TZOFFSETFROM:+0100
TZOFFSETTO:+0200
TZNAME:CEST
DTSTART:20250330T010000
END:DAYLIGHT
BEGIN:STANDARD
TZOFFSETFROM:+0200
TZOFFSETTO:+0100
TZNAME:CET
DTSTART:20251026T010000
END:STANDARD
BEGIN:DAYLIGHT
TZOFFSETFROM:+0100
TZOFFSETTO:+0200
TZNAME:CEST
DTSTART:20260329T010000
END:DAYLIGHT
BEGIN:STANDARD
TZOFFSETFROM:+0200
TZOFFSETTO:+0100
TZNAME:CET
DTSTART:20261025T010000
END:STANDARD
BEGIN:DAYLIGHT
TZOFFSETFROM:+0100
TZOFFSETTO:+0200
TZNAME:CEST
DTSTART:20270328T010000
END:DAYLIGHT
BEGIN:STANDARD
TZOFFSETFROM:+0200
TZOFFSETTO:+0100
TZNAME:CET
DTSTART:20271031T010000
END:STANDARD
END:VTIMEZONE
BEGIN:VEVENT
DTSTART;TZID=Europe/Amsterdam:20260412T100000
DTEND;TZID=Europe/Amsterdam:20260412T160000
DTSTAMP:20260422T203508
CREATED:20260113T081941Z
LAST-MODIFIED:20260329T062822Z
UID:18201-1775988000-1776009600@marktenmeer.nl
SUMMARY:Anime Collectors Fair – Pokémonbeurs Utrecht | 12 april 2026
DESCRIPTION:Op zondag 12 april 2026 vindt de 6e editie van de Anime Collectors Fair plaats: de grootste Pokémonbeurs van Utrecht en omstreken. Het evenement wordt georganiseerd in het ZIMIHC theater Stefanus en trekt fans\, verzamelaars en spelers uit het hele land. \nMet ruim 120 m² aan stands draait alles om Pokémon en andere TCG’s (Trading Card Games). Je kunt hier kopen\, verkopen én ruilen. Van vintage Pokémonkaarten tot nieuwe releases\, speelgoed\, knuffels en collectibles – het aanbod is breed en gevarieerd. \nNaast de stands zijn er leuke extra’s zoals kaartgrading\, spelactiviteiten\, een draai-aan-het-rad\, dobbelspellen en een vending machine. De locatie is volledig rolstoeltoegankelijk en er is horeca aanwezig. \n\n🕒 Openingstijden & tickets\n\n📅 Datum: zondag 12 april 2026\n⏰ Tijd: reguliere opening [controleer]\n🎟️ Voorverkoop:\n\n\n\nGoedkoper én 1 uur eerder toegang \n\n\nVia privébericht of mail → animecollectorsfair@gmail.com (geen servicekosten) \n\n\nOf online via ZIMIHC (met toeslag) \n\n\n\n\n🌐 Tickets via:https://www.zimihc.nl/agenda/grootste-pokemonbeurs-van-utrecht-5/ \n\n\n\n📍 Locatie\n\n📌 ZIMIHC theater Stefanus\n🏙️ Utrecht\n♿ Invalide toegankelijk\n☕ Horeca aanwezig\n\n\n✨ Wat kun je verwachten?\n\nPokémon & andere TCG’s (oud & nieuw)\nKopen\, verkopen en ruilen\nKaarten laten graden\nSpelactiviteiten & extra’s\nGezellige community-sfeer
URL:https://marktenmeer.nl/markt/anime-collectors-fair-pokemonbeurs-utrecht-12-april-2026/
LOCATION:ZIMIHC theater Stefanus\, Braziliëdreef 2\, Utrecht\, Netherlands
CATEGORIES:Utrecht,Verzamelbeurs,Verzamelbeurs Utrecht
END:VEVENT
BEGIN:VEVENT
DTSTART;TZID=Europe/Amsterdam:20260329T090000
DTEND;TZID=Europe/Amsterdam:20260329T160000
DTSTAMP:20260422T203508
CREATED:20260106T112450Z
LAST-MODIFIED:20260329T062823Z
UID:17987-1774774800-1774800000@marktenmeer.nl
SUMMARY:Vlooienmarkt Baarn – De Trits | zondag 29 maart 2026
DESCRIPTION:Op zondag 29 maart 2026 organiseert DonEvents de jaarlijkse Vlooienmarkt Baarn in De Trits. Deze markt vindt slechts één keer per jaar plaats en staat bekend als één van de gezelligste indoor vlooienmarkten van het Gooi. Met circa 130 kramen vol tweedehands spullen is dit een ideale bestemming voor liefhebbers van snuffelen\, verzamelen en duurzaam shoppen. \nDe vlooienmarkt wordt gehouden in De Trits\, een overzichtelijke en goed bereikbare locatie. Bezoekers kunnen hier rustig rondlopen langs een gevarieerd aanbod aan tweedehands goederen\, zoals huisraad\, kleding\, speelgoed\, boeken en bijzondere vondsten. Doordat de markt volledig overdekt is\, ben je verzekerd van een comfortabel bezoek\, ongeacht het weer. \nDankzij de compacte opzet en de gemoedelijke sfeer is deze markt populair bij zowel vaste bezoekers als mensen die voor het eerst een vlooienmarkt bezoeken. Of je nu gericht op zoek bent naar iets specifieks of gewoon zin hebt in een gezellig dagje uit: de Vlooienmarkt Baarn is altijd een goede keuze. \n\n\n \n\nPraktische informatie\n\nDatum: zondag 29 maart 2026\nOpeningstijden: 09:00 – 16:00 uur\nLocatie: De Trits\, Goeman Borgesiuslaan 2\, 3741 CR Baarn\nType markt: overdekte vlooienmarkt\n\n\nParkeren & bereikbaarheid\n\nParkeren mogelijk bij De Trits\nParkeer uitsluitend in de aangegeven parkeervakken\nLocatie is goed bereikbaar met auto en openbaar vervoer\n\n\nInformatie voor standhouders\n\nKraamprijs: €35\,-\nAfmeting kraam: 4 × 1 meter\, inclusief bovenbouw en grondplek\nInbrengtijden: 07:00 – 08:30\nAlleen tweedehands spullen toegestaan\nAfbouwen pas toegestaan na 16:00 uur\nAfval en overgebleven spullen zelf meenemen\n\nAnnuleren \n\nTot donderdag 12:00 uur vóór de markt: €7\,50 administratiekosten\nNa donderdag 12:00 uur: volledige kraamhuur verschuldigd\n\n\nEntree voor bezoekers\n\nToegangsprijs: €3\,50 per persoon\nKinderen t/m 12 jaar: gratis
URL:https://marktenmeer.nl/markt/vlooienmarkt-baarn-de-trits-29-maart-2026/
LOCATION:De Trits\, Baarn\, Goeman Borgesiuslaan 2\, Baarn\, 3741 CR\, Netherlands
CATEGORIES:Rommelmarkten,Rommelmarkten Utrecht,Utrecht
END:VEVENT
BEGIN:VEVENT
DTSTART;TZID=Europe/Amsterdam:20260328T100000
DTEND;TZID=Europe/Amsterdam:20260328T150000
DTSTAMP:20260422T203508
CREATED:20260106T090856Z
LAST-MODIFIED:20260329T062823Z
UID:17922-1774692000-1774710000@marktenmeer.nl
SUMMARY:BOERenMARKT Eemnes – De Blommenhoeve – 28 maart 2026
DESCRIPTION:Op zaterdag 28 maart 2026 vindt de BOERenMARKT plaats bij De Blommenhoeve in Eemnes. Deze maandelijkse markt wordt georganiseerd op het erf van een karakteristieke boerderij en richt zich op (h)eerlijke\, grotendeels biologische producten. De markt trekt bezoekers die bewust kiezen voor kwaliteit\, herkomst en ambacht. \nDe sfeer is gemoedelijk en landelijk. Op het erf vind je kramen met onder andere vers brood\, zuivel\, vlees\, honing\, oliën en andere streekproducten. Daarnaast is er een aanvullend aanbod van ambachtelijke producten zoals sieraden en verzorgingsartikelen. Bezoekers kunnen hun ronde combineren met een pauze op het terras\, waar koffie en iets lekkers verkrijgbaar zijn. \n\n\n \nVoor bezoekers\n\nType markt: boerenmarkt / streekmarkt\nPlaats: Eemnes\nDatum: zaterdag 28 maart 2026\nTijd: 10.00 – 15.00 uur\nLocatie: De Blommenhoeve\, Meentweg\, Eemnes\nEntree: gratis\nParkeren: op eigen terrein\nSfeer: landelijk en kleinschalig\nAanbod: biologische producten\, streekproducten en ambachtelijke artikelen\n\nDe markt is goed bereikbaar en ligt in een groene omgeving. \nVoor standhouders\nDe BOERenMARKT richt zich voornamelijk op aanbieders van (biologische) boerderijproducten en ambachtelijke producten die aansluiten bij het karakter van de markt. \n\nType plekken: kramen en standplaatsen op het erf\nFocus: biologische en ambachtelijke producten\nDoelgroep: bezoekers die gericht zoeken naar pure en lokale producten\n\nVoor deelname en actuele mogelijkheden is het raadzaam direct contact op te nemen met de organisatie van De Blommenhoeve. \nDe BOERenMARKT in Eemnes is een kleinschalige en toegankelijke markt met een focus op pure producten en een landelijke sfeer.
URL:https://marktenmeer.nl/markt/boerenmarkt-de-blommenhoeve-maart-2026/
LOCATION:De Blommenhoeve\, Eemnes\, Meentweg 37\, Eemnes\, 3755 PA\, Netherlands
CATEGORIES:Streekmarkt,Streekmarkt Utrecht,Utrecht
END:VEVENT
BEGIN:VEVENT
DTSTART;TZID=Europe/Amsterdam:20260322T090000
DTEND;TZID=Europe/Amsterdam:20260322T160000
DTSTAMP:20260422T203508
CREATED:20260112T092209Z
LAST-MODIFIED:20260329T062836Z
UID:18155-1774170000-1774195200@marktenmeer.nl
SUMMARY:Snuffelmarkt Expo Houten – zondag 22 maart 2026
DESCRIPTION:Op zondag 22 maart 2026 vindt de Snuffelmarkt Expo Houten plaats in het overdekte Expo Houten\, aan de Meidoornkade\, 3992 AE Houten. Van 09:00 tot 16:00 uur kun je heerlijk rondstruinen langs meer dan 250 kramen vol tweedehands spullen\, curiosa en andere bijzondere vondsten. \nDeze snuffelmarkt is een vaste trekpleister voor liefhebbers van vintage\, brocante en items met een verhaal. Het aanbod is breed en verrassend: van zolderopruimingen en verzamelobjecten tot boeken\, platen\, speelgoed en woonaccessoires. Doordat de markt volledig binnen plaatsvindt\, snuffel je comfortabel en op je gemak\, ongeacht het weer. \nDe ruime opzet van Expo Houten zorgt voor overzicht en een prettige sfeer. Of je nu gericht zoekt naar iets specifieks of gewoon lekker wilt rondkijken\, de kans is groot dat je met een unieke vondst naar huis gaat. Een gezellig dagje uit voor bezoekers uit Houten en omgeving. \n\nPraktische informatie (bezoekers)\n\nDatum: zondag 22 maart 2026\nTijd: 09:00 – 16:00\nLocatie: Expo Houten\, Meidoornkade\, 3992 AE Houten\nEntree: € 4\,50\n\n\nVoor standhouders (kort)\n\nKraamprijs: € 38\,-\nKramen: met bovenbouw\nInbrengtijden: 06:00 – 08:15\nLocatie: binnen in Expo Houten
URL:https://marktenmeer.nl/markt/snuffelmarkt-expo-houten-22-maart-2026/
LOCATION:Expo Houten\, Meidoornkade\, Houten\, Netherlands
CATEGORIES:Rommelmarkten,Rommelmarkten Utrecht,Utrecht
END:VEVENT
BEGIN:VEVENT
DTSTART;TZID=Europe/Amsterdam:20260307T090000
DTEND;TZID=Europe/Amsterdam:20260308T180000
DTSTAMP:20260422T203508
CREATED:20260106T103459Z
LAST-MODIFIED:20260329T062837Z
UID:17965-1772874000-1772992800@marktenmeer.nl
SUMMARY:Mega Vlooienmarkt Nieuwegein – Beursfabriek | 7 & 8 maart 2026
DESCRIPTION:In het weekend van zaterdag 7 en zondag 8 maart 2026 vindt de Mega Vlooienmarkt Nieuwegein plaats in de Beursfabriek. Deze tweedaagse vlooienmarkt behoort tot de grotere edities van Don Events en trekt jaarlijks veel bezoekers uit Nieuwegein en de wijde omgeving. Met maar liefst 350 kramen vol tweedehands spullen is er voor iedere bezoeker iets te ontdekken. \n\n\n \nHet aanbod bestaat volledig uit tweedehands goederen. Denk aan meubels\, woonaccessoires\, boeken\, speelgoed\, kleding\, vinyl\, curiosa en verrassende vondsten die je niet snel ergens anders tegenkomt. Door de omvang en de opzet van de Beursfabriek is er voldoende ruimte om rustig te struinen\, zelfs op drukke momenten. De markt is volledig overdekt\, waardoor het evenement ongeacht het weer comfortabel te bezoeken is. \nDe Beursfabriek ligt centraal in Nieuwegein en is goed bereikbaar voor bezoekers uit de regio Utrecht. Dankzij vaste openingstijden op beide dagen is de markt geschikt voor zowel een kort bezoek als een uitgebreid dagje snuffelen. \nPraktische informatie\n\nData: zaterdag 7 & zondag 8 maart 2026\nTijd: 09:00 – 16:00 uur\nLocatie: Beursfabriek\, Symfonielaan 1\, Nieuwegein\nType markt: mega vlooienmarkt (binnen)\nAantal kramen: ca. 350\n\nInformatie voor standhouders\n\nInbreng tijden:\nVrijdag: 13:00 – 16:00 uur\nZaterdag: 07:00 – 08:30 uur\nZondag: 07:00 – 08:30 uur\nAlleen verkoop van tweedehands spullen toegestaan\nKraamhuur: €35\,- per dag\nHoekkraam: €40\,- per dag\nAnnuleren tot donderdag 12:00 uur vóór de markt (€7\,50 administratiekosten)\nNa dit tijdstip wordt het volledige kraambedrag in rekening gebracht\n\nEntree voor bezoekers\n\nToegang: €5\,- per persoon\nKinderen t/m 12 jaar: gratis
URL:https://marktenmeer.nl/markt/mega-vlooienmarkt-nieuwegein-7-8-maart-2026/
LOCATION:Beursfabriek\, Nieuwegein\, Symfonielaan 1\, Nieuwegein\, Netherlands
CATEGORIES:Rommelmarkten,Rommelmarkten Utrecht,Utrecht
END:VEVENT
BEGIN:VEVENT
DTSTART;TZID=Europe/Amsterdam:20260301T090000
DTEND;TZID=Europe/Amsterdam:20260301T160000
DTSTAMP:20260422T203508
CREATED:20260106T095958Z
LAST-MODIFIED:20260329T062837Z
UID:17959-1772355600-1772380800@marktenmeer.nl
SUMMARY:Vlooienmarkt Zeist – Sporthal Dijnselburg | zondag 1 maart 2026
DESCRIPTION:Op zondag 1 maart 2026 kun je heerlijk komen struinen op de Vlooienmarkt Zeist in Sporthal Dijnselburg. Deze gezellige binnenmarkt telt ongeveer 110 kramen\, allemaal gevuld met tweedehands spullen. Een perfecte plek voor iedereen die houdt van snuffelen\, koopjes jagen en het vinden van unieke items met een verhaal. \n\n\n \nDe vlooienmarkt vindt plaats in een ruime en overdekte sporthal\, waardoor je ongeacht het weer comfortabel kunt rondlopen. Het aanbod is gevarieerd en wisselend per kraam: denk aan huisraad\, speelgoed\, boeken\, kleding\, woonaccessoires\, verzamelobjecten en andere leuke vondsten. Omdat uitsluitend tweedehands goederen worden aangeboden\, blijft de markt overzichtelijk en authentiek van karakter. \nDe locatie in Zeist is goed bereikbaar en beschikt over gratis parkeergelegenheid\, wat het bezoek extra laagdrempelig maakt. Dankzij de vaste openingstijden en duidelijke indeling is deze markt geschikt voor zowel vroege bezoekers als mensen die later op de dag nog even langs willen komen. Een fijne zondagactiviteit voor jong en oud. \n\nPraktische informatie\n\nDatum: zondag 1 maart 2026\nTijd: 09:00 – 16:00 uur\nLocatie: Sporthal Dijnselburg\, Zeist\nType markt: vlooienmarkt (binnen)\nAantal kramen: ca. 110\nParkeren: gratis\n\nInformatie voor standhouders\n\nOpbouw vanaf 07:30 uur\nAfbouwen vóór 16:00 uur niet toegestaan\nAlleen verkoop van tweedehands goederen\nVerkoop van nieuwe goederen\, eten of drinken is niet toegestaan\nAnnuleren tot donderdag 12:00 uur vóór de markt (€7\,50 administratiekosten)\nTip: neem een stoel en een karretje of steekwagen mee\n\nEntree voor bezoekers\n\nToegang: €3\,50 per persoon\nKinderen t/m 12 jaar: gratis
URL:https://marktenmeer.nl/markt/vlooienmarkt-zeist-1-maart-2026/
LOCATION:Sporthal Dijnselburg\, Zeist\, Badmeester Schenkpad 2\, Zeist\, 3705 GK\, Netherlands
CATEGORIES:Rommelmarkten,Rommelmarkten Utrecht,Utrecht
END:VEVENT
BEGIN:VEVENT
DTSTART;TZID=Europe/Amsterdam:20260228T100000
DTEND;TZID=Europe/Amsterdam:20260228T150000
DTSTAMP:20260422T203508
CREATED:20260106T090625Z
LAST-MODIFIED:20260329T062837Z
UID:17920-1772272800-1772290800@marktenmeer.nl
SUMMARY:BOERenMARKT bij De Blommenhoeve – 28 februari 2026
DESCRIPTION:Op zaterdag 28 februari 2026 organiseert De Blommenhoeve opnieuw een sfeervolle BOERenMARKT op het landelijke erf van de boerderij. Tussen 10:00 en 15:00 uur kun je genieten van een breed aanbod aan (h)eerlijke\, biologische en pure producten. \nDe enthousiaste standhouders nemen hun mooiste producten mee: ambachtelijk brood en patisserie\, kaas en zuivel\, vlees\, worst en vis\, maar ook lokale honing\, chocolade\, wijn\, olijfolie en diverse huisgemaakte jams en chutneys. De markt beweegt mee met het seizoen\, waardoor je in februari typische winter- en vroege voorjaarsproducten tegenkomt. \nDe BOERenMARKT staat bekend om haar gemoedelijke sfeer. Bezoekers nemen de tijd om te proeven\, te praten met de makers en even te ontspannen op het terras met een kop koffie of een drankje. Dankzij de overzichtelijke opzet is de markt prettig voor jong en oud. Parkeren is gratis en er is voldoende ruimte op eigen terrein. \n📍 Locatie: De Blommenhoeve\, Meentweg 37\, 3755 PA Eemnes📅 Datum: zaterdag 28 februari 2026⏰ Tijd: 10:00 – 15:00 uur🎟 Toegang: gratis
URL:https://marktenmeer.nl/markt/boerenmarkt-de-blommenhoeve-28-februari-2026/
LOCATION:De Blommenhoeve\, Eemnes\, Meentweg 37\, Eemnes\, 3755 PA\, Netherlands
CATEGORIES:Streekmarkt,Streekmarkt Utrecht,Utrecht
END:VEVENT
BEGIN:VEVENT
DTSTART;TZID=Europe/Amsterdam:20260222T090000
DTEND;TZID=Europe/Amsterdam:20260222T160000
DTSTAMP:20260422T203508
CREATED:20260106T095238Z
LAST-MODIFIED:20260329T062837Z
UID:17955-1771750800-1771776000@marktenmeer.nl
SUMMARY:Vlooienmarkt Eemnes – Sporthal Huis van Eemnes | 22 februari 2026
DESCRIPTION:Op zondag 22 februari 2026 staat Huis van Eemnes volledig in het teken van tweedehands schatten tijdens de Vlooienmarkt Eemnes. In de sporthal vind je maar liefst 160 kramen\, allemaal gevuld met leuke\, bijzondere en verrassende tweedehands spullen. Een ideale bestemming voor liefhebbers van vintage\, curiosa en betaalbare vondsten. \nDe vlooienmarkt is volledig overdekt\, waardoor je comfortabel kunt rondkijken\, ongeacht het weer. Het aanbod is breed en wisselend: van woonaccessoires en servies tot boeken\, speelgoed\, kleding en verzamelobjecten. Juist die afwisseling maakt deze markt aantrekkelijk voor zowel fanatieke snuffelaars als gezinnen die er gezellig een dagje uit van willen maken. \nDankzij de ruime opzet van de sporthal is de markt overzichtelijk en prettig te bezoeken. Gratis parkeergelegenheid direct bij de locatie maakt het extra toegankelijk. Combineer je bezoek met een ontspannen uitstapje in Eemnes en geniet van een klassieke vlooienmarkt zoals die bedoeld is: laagdrempelig\, gezellig en vol onverwachte vondsten. \nPraktische informatie\n\nDatum: zondag 22 februari 2026\nTijd: 09:00 – 16:00 uur\nLocatie: Huis van Eemnes\, Eemnes\nType markt: vlooienmarkt (binnen)\nAantal kramen: ca. 160\nParkeren: gratis\n\nInformatie voor standhouders (kort)\n\nAlleen tweedehands goederen toegestaan\nVerkoop van nieuwe spullen is niet toegestaan\nKraam: €32\,- (4 × 1 meter)\nAnnuleren mogelijk tot donderdag 12:00 uur vóór de markt (administratiekosten €7\,50)\nTip: neem een stoel en een karretje mee voor laden en lossen
URL:https://marktenmeer.nl/markt/vlooienmarkt-eemnes-22-februari-2026/
LOCATION:Huis van Eemnes\, Sporthal\, Eemnes\, Netherlands
CATEGORIES:Rommelmarkten,Rommelmarkten Utrecht,Utrecht
END:VEVENT
BEGIN:VEVENT
DTSTART;TZID=Europe/Amsterdam:20260214T100000
DTEND;TZID=Europe/Amsterdam:20260214T140000
DTSTAMP:20260422T203508
CREATED:20260112T182422Z
LAST-MODIFIED:20260329T062837Z
UID:18189-1771063200-1771077600@marktenmeer.nl
SUMMARY:Boekenmarkt Scouting Ben Labre – zaterdag 14 februari 2026
DESCRIPTION:Op zaterdag 14 februari 2026 organiseert Scouting Ben Labre haar tweede boekenmarkt. Tussen 10:00 en 14:00 uur ben je welkom om te snuffelen tussen een ruim en gevarieerd aanbod aan boeken voor jong en oud. Romans\, kinderboeken\, thrillers\, non-fictie en meer krijgen hier een nieuw leven. Encyclopedieën worden niet aangeboden\, maar verder is het aanbod breed en verrassend. \nDe boekenmarkt vindt plaats bij het scoutinggebouw van Ben Labre\, gelegen achter de Michaëlkerk aan Kerklaan 33a\, 3731 EE De Bilt. De locatie is eenvoudig te vinden: links naast de kerk volg je het pad richting het schoolplein\, waar het gebouw staat. \nMet je aankoop steun je direct de scoutinggroep. De volledige opbrengst wordt gebruikt voor het onderhoud van het gebouw en materialen\, zoals tenten\, en helpt om de contributie voor leden vanaf 5 jaar zo laag mogelijk te houden. Een gezellige markt met een mooi doel. \n\nPraktische informatie (bezoekers)\n\nDatum: zaterdag 14 februari 2026\nTijd: 10:00 – 14:00 uur\nLocatie: Scoutinggebouw Ben Labre\, Kerklaan 33a\, 3731 EE De Bilt\nEntree: gratis\n\n\nBoeken inleveren\nHeb je boeken die je niet meer leest? Lever ze in tijdens één van de inzamelmomenten: \n\nZaterdag 13 december 2025 – 10:30–12:30\nZaterdag 10 januari 2026 – 10:30–12:30\nZaterdag 24 januari 2026 – 10:30–12:30\nZaterdag 31 januari 2026 – 10:30–12:30\n\n\nContact\nVragen of opmerkingen? Mail naar boekenmarkt@benlabre.nl
URL:https://marktenmeer.nl/markt/boekenmarkt-scouting-ben-labre-14-februari-2026/
LOCATION:Scoutinggebouw Ben Labre\, Kerklaan 33a\, De Bilt\, Netherlands
CATEGORIES:Boekenmarkt,Boekenmarkt Utrecht,Utrecht
END:VEVENT
BEGIN:VEVENT
DTSTART;TZID=Europe/Amsterdam:20260207T100000
DTEND;TZID=Europe/Amsterdam:20260208T170000
DTSTAMP:20260422T203508
CREATED:20251228T093633Z
LAST-MODIFIED:20260329T062837Z
UID:17648-1770458400-1770570000@marktenmeer.nl
SUMMARY:TomoFair Winter – Japanse Markt in Utrecht | 7 & 8 februari 2026
DESCRIPTION:TomoFair Winter is dé grootste indoor Japanse markt van Nederland en komt op zaterdag 7 en zondag 8 februari 2026 naar Gietijzer Utrecht. Sinds 2014 is TomoFair ieder jaar uitverkocht en deze wintereditie belooft opnieuw een compleet weekend vol Japanse cultuur en beleving. \nBezoekers kunnen zich onderdompelen in een wereld van anime\, manga\, gaming en cosplay. Verspreid door de locatie vind je stands met merchandise\, creatieve makers en entertainment. Daarnaast is er volop interactie met activiteiten zoals karaoke\, games\, dansmachines en spelelementen. \nOok liefhebbers van eten komen aan hun trekken bij TomoTaste\, waar Japans streetfood en Koreaanse snacks live worden bereid. Denk aan Osaka crêpes\, bubble tea\, yakitori en Korean fried chicken. TomoFair Winter is een sfeervol evenement voor fans\, nieuwsgierige bezoekers en iedereen die Japan wil beleven – midden in Utrecht. \n\nPraktische informatie\n\n📅 Datum: zaterdag 7 & zondag 8 februari 2026\n🕒 Tijd:\nZaterdag: 10:00 – 18:00 uur\nZondag: 10:00 – 17:00 uur\n📍 Locatie: Gietijzer Utrecht\n🚆 Bereikbaarheid: op loopafstand van NS-station Utrecht Zuilen\n🚗 Parkeren: in de nabije omgeving\n🎟️ Tickets: vanaf €9\,99
URL:https://marktenmeer.nl/markt/tomofair-winter-utrecht/
LOCATION:Gietijzer\, Utrecht\, Gietijzerstraat 3\, Utrecht\, 3534 AV\, Netherlands
CATEGORIES:belevenismarkten / lifestylemarkten,Utrecht,Verzamelbeurs,Verzamelbeurs Utrecht
END:VEVENT
BEGIN:VEVENT
DTSTART;TZID=Europe/Amsterdam:20260131T100000
DTEND;TZID=Europe/Amsterdam:20260131T150000
DTSTAMP:20260422T203508
CREATED:20260106T082223Z
LAST-MODIFIED:20260329T062837Z
UID:17918-1769853600-1769871600@marktenmeer.nl
SUMMARY:BOERenMARKT bij De Blommenhoeve – 31 januari 2026
DESCRIPTION:Op zaterdag 31 januari 2026 vindt de eerste BOERenMARKT van het jaar plaats bij De Blommenhoeve. Van 10:00 tot 15:00 uur ben je welkom op het landelijke erf van de boerderij voor een markt vol (h)eerlijke\, biologische en pure producten. \nDe BOERenMARKT staat bekend om haar ambachtelijke en duurzame aanbod\, rechtstreeks van de makers en boeren zelf. Denk aan vers brood en patisserie\, kaas en zuivel\, vlees\, worst en vis\, maar ook aan honing van de lokale imker\, chocolade\, wijn\, olijfolie\, jams en chutneys. Elke editie sluit aan bij het seizoen\, waardoor je ook in januari verrassende winterproducten kunt ontdekken. \nNaast foodproducten is de markt een fijne plek om rustig rond te lopen en bij te praten. De gemoedelijke sfeer en overzichtelijke opzet maken deze markt geliefd bij vaste bezoekers én nieuwe gasten. Op het terras kun je neerstrijken voor een kop koffie of een drankje met iets lekkers erbij. Parkeren kan gratis op eigen terrein\, direct bij de boerderij. \n📍 Locatie: De Blommenhoeve\, Meentweg 37\, 3755 PA Eemnes📅 Datum: zaterdag 31 januari 2026⏰ Tijd: 10:00 – 15:00 uur🎟 Toegang: gratis
URL:https://marktenmeer.nl/markt/boerenmarkt-de-blommenhoeve-januari-2026/
LOCATION:De Blommenhoeve\, Eemnes\, Meentweg 37\, Eemnes\, 3755 PA\, Netherlands
CATEGORIES:Streekmarkt,Streekmarkt Utrecht,Utrecht
END:VEVENT
BEGIN:VEVENT
DTSTART;TZID=Europe/Amsterdam:20260130T100000
DTEND;TZID=Europe/Amsterdam:20260131T160000
DTSTAMP:20260422T203508
CREATED:20251223T094028Z
LAST-MODIFIED:20260329T062848Z
UID:17494-1769767200-1769875200@marktenmeer.nl
SUMMARY:Creabeurs Gorinchem 2026 | Creatieve beurs op 30 & 31 januari
DESCRIPTION:Op vrijdag 30 en zaterdag 31 januari 2026 vindt de Creabeurs Gorinchem plaats in de Evenementenhal Gorinchem. Deze populaire creatieve beurs is dé plek waar hobbyisten\, makers en creatieve gezinnen samenkomen om inspiratie op te doen\, materialen te ontdekken en nieuwe technieken te leren. \nTijdens Creabeurs Gorinchem wandel je langs een gevarieerd aanbod van stands met alles op het gebied van handwerken en creativiteit. Denk aan haken\, breien\, borduren\, schilderen\, tekenen\, papierkunst en DIY-projecten. Naast het shoppen van materialen kun je deelnemen aan workshops\, demonstraties volgen en direct in gesprek gaan met makers en specialisten die hun kennis graag delen. \nDe beurs is geschikt voor zowel ervaren creatievelingen als beginners en ook kinderen zijn van harte welkom. Dankzij speciale ouder-&-kindtickets en workshopwaardebonnen is Creabeurs Gorinchem een ideaal dagje uit voor het hele gezin. De overzichtelijke openingstijden en goede bereikbaarheid maken het evenement extra toegankelijk. Wie online tickets koopt\, profiteert bovendien van korting. Creabeurs Gorinchem is daarmee een inspirerend startpunt van het creatieve jaar. \n\nWaarom je Creabeurs Gorinchem 2026 niet wilt missen\n\nGroot aanbod creatieve materialen en technieken\nInspirerende workshops en demonstraties\nGeschikt voor beginners én gevorderden\nLeuk en leerzaam dagje uit voor jong en oud\n\n\nPraktische informatie\n\nDatum: vrijdag 30 & zaterdag 31 januari 2026\nTijd: 10.00 – 16.00 uur\nLocatie: Evenementenhal Gorinchem\nAdres: Franklinweg 2\, 4207 HZ Gorinchem\nEntree: € 3\,50 – € 13\,00\nKorting: € 1 korting bij online ticketverkoop\nRestaurant: geopend vanaf 09.00 uur\nOrganisatie: Creabeurs Nederland
URL:https://marktenmeer.nl/markt/creabeurs-gorinchem-2026/
LOCATION:EVENEMENTENHAL\, Gorinchem\, Franklinweg 2\, Gorinchem\, Netherlands
CATEGORIES:Creatieve Markt Utrecht,Creatieve markten,Utrecht
END:VEVENT
BEGIN:VEVENT
DTSTART;TZID=Europe/Amsterdam:20251129T100000
DTEND;TZID=Europe/Amsterdam:20251129T150000
DTSTAMP:20260422T203508
CREATED:20251113T110709Z
LAST-MODIFIED:20251113T110736Z
UID:14139-1764410400-1764428400@marktenmeer.nl
SUMMARY:BOERenMARKT De Blommenhoeve – 29 november 2025 (CADEAUmarkt)
DESCRIPTION:Op zaterdag 29 november 2025 organiseert De Blommenhoeve in Eemnes de gezellige BOERenMARKT: een markt vol duurzame\, lokale en handgemaakte producten.Je struint langs kramen met (biologische) streekproducten\, verzorgingsproducten\, woonaccessoires\, sieraden en cadeaus — allemaal met aandacht en liefde gemaakt. \nOp het terras word je welkom geheten met warme drankjes en een inspirerende\, gemoedelijke sfeer. Makers vertellen graag over hun vak; ideaal om bijzondere cadeaus te vinden of jezelf iets moois te gunnen.Een fijn gezinsuitje midden in de natuur van Eemnes. \n📅 Datum: zaterdag 29 november 2025🕒 Tijd: 10:00 – 15:00 uur📍 Locatie: De Blommenhoeve\, Eemnes
URL:https://marktenmeer.nl/markt/boerenmarkt-de-blommenhoeve-29-november-2025-cadeaumarkt/
LOCATION:De Blommenhoeve\, Eemnes\, Meentweg 37\, Eemnes\, 3755 PA\, Netherlands
CATEGORIES:Streekmarkt
END:VEVENT
BEGIN:VEVENT
DTSTART;VALUE=DATE:20251115
DTEND;VALUE=DATE:20251116
DTSTAMP:20260422T203508
CREATED:20251112T141900Z
LAST-MODIFIED:20251115T083406Z
UID:14013-1763164800-1763251199@marktenmeer.nl
SUMMARY:Braderie – Baarn – 15 november 2025
DESCRIPTION:Op zaterdag 15 november 2025 organiseert THIB Organisatie een bruisende Braderie in het centrum van Baarn.De straten vullen zich met tientallen kramen vol mode\, sieraden\, accessoires\, lekkernijen en ambachtelijke producten. \nDe markt staat in het teken van sfeer\, gezelligheid en ontmoeting.Bezoekers kunnen heerlijk rondstruinen\, inspiratie opdoen en genieten van lokale specialiteiten.Of je nu met het gezin\, vrienden of gewoon even alleen komt — de Braderie Baarn biedt voor ieder wat wils. \nEen ideale gelegenheid om de herfst af te sluiten in een warme\, feestelijke sfeer. \n📅 Datum: zaterdag 15 november 2025📍 Locatie: Centrum Baarn🎟️ Entree: Gratis
URL:https://marktenmeer.nl/markt/braderie-baarn-15-november-2025-2/
LOCATION:Baarn\, Centrum\, Baarn\, Netherlands
CATEGORIES:Jaarmarkten
END:VEVENT
END:VCALENDAR